Workbook

Sheet 01-TTr
A1: UBND TỈNH ĐỒNG NAI
A2: THANH TRA TỈNH
W3: Biểu số: 01/TTr
A4: TỔNG HỢP KẾT QUẢ THANH TRA QUÝ 1 NĂM 2026 TỈNH ĐỒNG NAI
A5: Số liệu tính từ ngày 06/12/2025 đến ngày 05/3/2026
A6: (Kèm theo Báo cáo số: /BC-TT ngày /3/2026 của Thanh tra tỉnh Đồng Nai)
U7: Đơn vị tính: Tiền (triệu đồng), đất (m2)
A8: Đơn vị | B8: Số cuộc thanh tra thực hiện trong kỳ | G8: Số cuộc thanh tra đã ban hành kết luận | H8: Số đơn vị được thanh tra theo kết luận | I8: Kiến nghị xử lý | AB8: số cuộc thanh tra đang thực hiện
I9: Vi phạm về kinh tế | S9: Xử lý hành chính | Y9: Chuyển cơ quan điều tra | AA9: Hoàn thiện cơ chế, chính sách (số văn bản)
I10: Tổng số tiền vi phạm về kinh tế (Triệu đồng) | J10: Tổng số đất vi phạm về kinh tế (m2) | K10: Kiến nghi thu hồi | Q10: Kiến nghị xử lý khác
B11: Tổng số | C11: Phân loại | K11: Tổng số | M11: Về NSNN | O11: Về tổ chức, cá nhân | S11: Bằng tiền | V11: Xử lý trách nhiệm
C12: Triển khai từ kỳ trước chuyển sang | D12: Triển khai trong kỳ | E12: Theo Kế hoạch | F12: Đột xuất | K12: Tiền (Tr.đ) | L12: Đất(m2) | M12: Tiền (Tr.đ) | N12: Đất(m2) | O12: Tiền (Tr.đ) | P12: Đất (m2) | Q12: Tiền (Tr.đ) | R12: Đất (m2) | S12: Tổng số tiền (Triệu đồng) | T12: Tổ chức (Triệu đồng) | U12: Cá nhận (Triệu đồng) | V12: Tổng số | W12: Tổ chức | X12: Cá nhân | Y12: Vụ | Z12: Đối tượng
A13: Ms | B13: 1=2+3=4+5 | C13: 2 | D13: 3 | E13: 4 | F13: 5 | G13: 6 | H13: 7 | I13: 8=10+16 | J13: 9=11+17 | K13: 10=12+14 | L13: 11=13+15 | M13: 12 | N13: 13 | O13: 14 | P13: 15 | Q13: 16 | R13: 17 | S13: 18=19+20 | T13: 19 | U13: 20 | V13: 21=22+23 | W13: 22 | X13: 23 | Y13: 24 | Z13: 25 | AA13: 26
A14: Tỉnh Đồng Nai | B14: =C14+D14 -> 25 | C14: 13 | D14: 12 | E14: 19 | F14: 6 | G14: 12 | H14: 76 | I14: =K14+Q14 -> 2190.1325 | J14: =L14+R14 -> 0 | K14: =M14+O14 -> 895.10245 | L14: =N14+P14 -> 0 | M14: =113.502452 -> 113.50245 | N14: 0 | O14: 781.6 | P14: 0 | Q14: =545.43+749.6 -> 1295.03 | R14: 0 | S14: =T14+U14 -> 85.25 | T14: 85.25 | U14: 0 | V14: =SUM(W14:X14) -> 15 | W14: 7 | X14: 8 | Y14: 0 | Z14: 0 | AA14: 0 | AB14: =B14-G14 -> 13

Sheet 02-TTr
A1: ='01-TTr'!A1:E1 -> UBND TỈNH ĐỒNG NAI
A2: ='01-TTr'!A2:E2 -> THANH TRA TỈNH
AG3: Biểu số: 02/TTr
A5: TỔNG HỢP KẾT QUẢ THỰC HIỆN KẾT LUẬN THANH TRA QUÝ 1 NĂM 2026 TỈNH ĐỒNG NAI
A6: ='01-TTr'!A5:S5 -> Số liệu tính từ ngày 06/12/2025 đến ngày 05/3/2026
A7: ='01-TTr'!A6:S6 -> (Kèm theo Báo cáo số: /BC-TT ngày /3/2026 của Thanh tra tỉnh Đồng Nai)
AE8: Đơn vị tính: Tiền (triệu đồng); đất (m2)
A9: Đơn vị | B9: Số KLTT phải thực hiện | D9: Tiến độ thực hiện kết luận | F9: Kết quả thực hiện thu hồi về NSNN | J9: Kết quả thu hồi về tổ chức, cá nhân | N9: Kết quả thực hiện xử lý khác về kinh tế | R9: Kết quả thực hiện xử lý hành chính | AD9: Chuyển cơ quan điều tra | AH9: Hoàn thiện cơ chế, chính sách (số vân băn)
R10: Bằng tiền (Tr. đồng) | X10: Xử lý trách nhiệm
B11: Tổng số | C11: Trong đó số kết luận chưa thực hiện xong kỳ trước chuyển sang | D11: Số kết luận đã hoàn thành | E11: Số kết luận chưa hoàn thành | F11: Tiền (Tr. đồng) | H11: Đất (m2) | J11: Tiền (Tr. đồng) | L11: Đất (m2) | N11: Tiền (Tr. đồng) | P11: Đất (m2) | R11: Phải xử lý | U11: Đã xử lý trong kỳ | X11: Phải xử lý trong kỳ | AA11: Đã xử lý trong kỳ | AD11: Đã chuyển cơ quan điều tra | AF11: Khởi tố trong kỳ | AH11: Tổng số văn bản kiến nghị phải hoàn thiện | AI11: Số văn bản kiến nghị đã thực hiện xong
F12: Tổng số tiền phải thu | G12: Số tiền đã thu trong kỳ | H12: Tổng số đất phải thu | I12: Số đất đã thu trong kỳ | J12: Tổng số tiền phải thu | K12: Số tiền đã thu trong kỳ | L12: Tổng số đất phải thu | M12: Số đất đã thu trong kỳ | N12: Tổng số tiền phải xử lý khác | O12: Số tiền đã xử lý khác trong kỳ | P12: Tổng số đất phải xử lý khác | Q12: Số đất đã xử lý khác trong kỳ | R12: Cộng | S12: Tổ chức | T12: Cá nhân | U12: Cộng | V12: Tổ chức | W12: Cá nhân | X12: Cộng | Y12: Tổ chức | Z12: Cá nhân | AA12: Cộng | AB12: Tổ chức | AC12: Cá nhân | AD12: Vụ | AE12: Đối tượng | AF12: Vụ | AG12: Đối tượng
A13: Ms | B13: 1=3+4 | C13: 2 | D13: 3 | E13: 4 | F13: 5 | G13: 6 | H13: 7 | I13: 8 | J13: 9 | K13: 10 | L13: 11 | M13: 12 | N13: 13 | O13: 14 | P13: 15 | Q13: 16 | R13: 17=18+19 | S13: 18 | T13: 19 | U13: 20=21+22 | V13: 21 | W13: 22 | X13: 23=24+25 | Y13: 24 | Z13: 25 | AA13: 26=27+28 | AB13: 27 | AC13: 28 | AD13: 29 | AE13: 30 | AF13: 31 | AG13: 32 | AH13: 33 | AI13: 34
A14: Tỉnh Đồng Nai | B14: =D14+E14 -> 84 | C14: 72 | D14: 4 | E14: 80 | F14: =1957+113.5 -> 2070.5 | G14: 113.5 | H14: =SUM(H15:H19) -> 0 | I14: 0 | J14: 781.6 | K14: 724.1 | L14: 0 | M14: =SUM(M15:M19) -> 0 | N14: 1295 | O14: 0 | P14: 0 | Q14: 0 | R14: =S14+T14 -> 85.25 | S14: 85.25 | T14: 0 | U14: =V14+W14 -> 85.25 | V14: 85.25 | W14: 0 | X14: =Y14+Z14 -> 0 | Y14: 0 | Z14: 0 | AA14: =AB14+AC14 -> 0 | AB14: 0 | AC14: 0 | AD14: 0 | AE14: 0 | AF14: 0 | AG14: 0 | AH14: 0 | AI14: 0

Sheet 03-TTr
A1: ='01-TTr'!A1:E1 -> UBND TỈNH ĐỒNG NAI
A2: ='01-TTr'!A2:E2 -> THANH TRA TỈNH
Q3: Biểu số: 03/TTr
A5: TỔNG HỢP CÔNG TÁC QUẢN LÝ NHÀ NƯỚC VỀ THANH TRA QUÝ 1 NĂM 2026 TỈNH ĐỒNG NAI
A6: ='01-TTr'!A5:S5 -> Số liệu tính từ ngày 06/12/2025 đến ngày 05/3/2026
A7: ='01-TTr'!A6:S6 -> (Kèm theo Báo cáo số: /BC-TT ngày /3/2026 của Thanh tra tỉnh Đồng Nai)
A8: Đơn vị | B8: Ban hành văn bản quản lý, chỉ đạo (Bộ, ngành, tỉnh, TP) về công tác thanh tra | E8: Tập huấn, tuyên truyền, giáo dục pháp luật về thanh tra | G8: Thanh tra, kiểm tra trách nhiệm thực hiện pháp luật về thanh tra | N8: Kết quả thực hiện kết luận thanh tra trách nhiệm
B9: Số văn bản ban hành mới | C9: Số văn bản được sửa đổi, bổ sung | D9: Số văn bản bãi bỏ | E9: Lớp | F9: Người | G9: Tổng số cuộc | H9: Số cuộc đã ban hành kết luận | I9: Số đơn vị được thanh tra, kiểm tra | J9: Kiến nghị xử lý hành chính | L9: Kiến nghị chuyển cơ quan điều tra | N9: Tổng số kết luận phải thực hiện | O9: Đã xử lý hành chính | Q9: Đã khởi tố
J10: Tổ chức | K10: Cá nhân | L10: Vụ | M10: Đối tượng | O10: Tổ chức | P10: Cá nhân | Q10: Vụ | R10: Đối tượng
A11: MS | B11: 1 | C11: 2 | D11: 3 | E11: 4 | F11: 5 | G11: 6 | H11: 7 | I11: 8 | J11: 9 | K11: 10 | L11: 11 | M11: 12 | N11: 13 | O11: 14 | P11: 15 | Q11: 16 | R11: 17
A12: Tỉnh Đồng Nai | B12: 5 | C12: 0 | D12: 0 | E12: 0 | F12: 0 | G12: 0 | H12: 0 | I12: 0 | J12: 0 | K12: 0 | L12: 0 | M12: 0 | N12: 0 | O12: 0 | P12: 0 | Q12: 0 | R12: 0
