Workbook

Sheet Kangatang

Sheet 1A
A1: PHỤ LỤC 1A
A2: TỔNG HỢP KẾT QUẢ RÀ SOÁT HỘ NGHÈO, HỘ CẬN NGHÈO THEO CHUẨN TRUNG ƯƠNG NĂM 2025
A4: TT | B4: Khu vực/Địa bàn | C4: Tổng số hộ dân cư | E4: Kết quả rà soát
E5: Tổng số hộ nghèo | G5: Tổng số hộ cận nghèo
C6: Số hộ | D6: Nhân khẩu | E6: Số hộ | F6: Tỷ lệ | G6: Số hộ | H6: Tỷ lệ
A7: A | B7: B | C7: 1 | D7: 2 | E7: 3 | F7: 4 | G7: 5 | H7: 6
A8: I | B8: KV NÔNG THÔN | C8: =SUM(C9:C80) -> 759333 | D8: =SUM(D9:D80) -> 3012965 | E8: =SUM(E9:E80) -> 2714 | F8: =E8*100/C8 -> 0.35741895 | G8: =SUM(G9:G80) -> 1906 | H8: =G8*100/C8 -> 0.25100977
A9: =ROW()-8 -> 1 | B9: Xã An Phước | C9: 27355 | D9: 65776 | E9: 27 | F9: =E9*100/C9 -> 0.098702248 | G9: 0 | H9: =G9*100/C9 -> 0
A10: =ROW()-8 -> 2 | B10: Xã An Viễn | C10: 8543 | D10: 27129 | E10: 9 | F10: =E10*100/C10 -> 0.10534941 | G10: 2 | H10: =G10*100/C10 -> 0.02341098
A11: =ROW()-8 -> 3 | B11: Xã Bàu Hàm | C11: 11470 | D11: 47829 | E11: 98 | F11: =E11*100/C11 -> 0.85440279 | G11: 0 | H11: =G11*100/C11 -> 0
A12: =ROW()-8 -> 4 | B12: Xã Bình An | C12: 8283 | D12: 26383 | E12: 12 | F12: =E12*100/C12 -> 0.14487505 | G12: 0 | H12: =G12*100/C12 -> 0
A13: =ROW()-8 -> 5 | B13: Xã Bình Minh | C13: 27214 | D13: 86190 | E13: 21 | F13: =E13*100/C13 -> 0.077166164 | G13: 4 | H13: =G13*100/C13 -> 0.014698317
A14: =ROW()-8 -> 6 | B14: Xã Bình Tân | C14: 7280 | D14: 28745 | E14: 0 | F14: =E14*100/C14 -> 0 | G14: 173 | H14: =G14*100/C14 -> 2.3763736
A15: =ROW()-8 -> 7 | B15: Xã Bom Bo | C15: 6605 | D15: 27547 | E15: 3 | F15: =E15*100/C15 -> 0.045420136 | G15: 17 | H15: =G15*100/C15 -> 0.25738077
A16: =ROW()-8 -> 8 | B16: Xã Bù Đăng | C16: 8022 | D16: 34357 | E16: 2 | F16: =E16*100/C16 -> 0.024931439 | G16: 82 | H16: =G16*100/C16 -> 1.022189
A17: =ROW()-8 -> 9 | B17: Xã Bù Gia Mập | C17: 2059 | D17: 8559 | E17: 200 | F17: =E17*100/C17 -> 9.7134531 | G17: 210 | H17: =G17*100/C17 -> 10.199126
A18: =ROW()-8 -> 10 | B18: Xã Cẩm Mỹ | C18: 10146 | D18: 46111 | E18: 22 | F18: =E18*100/C18 -> 0.21683422 | G18: 31 | H18: =G18*100/C18 -> 0.30553913
A19: =ROW()-8 -> 11 | B19: Xã Dầu Giây | C19: 16378 | D19: 72012 | E19: 124 | F19: =E19*100/C19 -> 0.7571132 | G19: 0 | H19: =G19*100/C19 -> 0
A20: =ROW()-8 -> 12 | B20: Xã Đa Kia | C20: 8348 | D20: 32167 | E20: 22 | F20: =E20*100/C20 -> 0.26353618 | G20: 171 | H20: =G20*100/C20 -> 2.0483948
... A32: =ROW()-8 -> 24 | B32: Xã Long Hà | C32: 7028 | D32: 28107 | E32: 0 | F32: =E32*100/C32 -> 0 | G32: 47 | H32: =G32*100/C32 -> 0.66875356
A33: =ROW()-8 -> 25 | B33: Xã Long Phước | C33: 11523 | D33: 43792 | E33: 27 | F33: =E33*100/C33 -> 0.23431398 | H33: =G33*100/C33 -> 0
A34: =ROW()-8 -> 26 | B34: Xã Long Thành | C34: 28730 | D34: 96026 | E34: 69 | F34: =E34*100/C34 -> 0.24016707 | G34: 27 | H34: =G34*100/C34 -> 0.09397842
A35: =ROW()-8 -> 27 | B35: Xã Lộc Hưng | C35: 6792 | D35: 26933 | E35: 0 | F35: =E35*100/C35 -> 0 | G35: 5 | H35: =G35*100/C35 -> 0.073616019
A36: =ROW()-8 -> 28 | B36: Xã Lộc Ninh | C36: 8255 | D36: 32299 | E36: 0 | F36: =E36*100/C36 -> 0 | G36: 14 | H36: =G36*100/C36 -> 0.16959419
A37: =ROW()-8 -> 29 | B37: Xã Lộc Quang | C37: 6936 | D37: 26694 | E37: 35 | F37: =E37*100/C37 -> 0.50461361 | G37: 161 | H37: =G37*100/C37 -> 2.3212226
A38: =ROW()-8 -> 30 | B38: Xã Lộc Tấn | C38: 5861 | D38: 23995 | E38: 176 | F38: =E38*100/C38 -> 3.0029005 | G38: 10 | H38: =G38*100/C38 -> 0.17061935
A39: =ROW()-8 -> 31 | B39: Xã Lộc Thành | C39: 3941 | D39: 15539 | E39: 50 | F39: =E39*100/C39 -> 1.2687135 | G39: 28 | H39: =G39*100/C39 -> 0.71047957
A40: =ROW()-8 -> 32 | B40: Xã Lộc Thạnh | C40: 2515 | D40: 10541 | E40: 56 | F40: =E40*100/C40 -> 2.2266402 | G40: 10 | H40: =G40*100/C40 -> 0.39761431
A41: =ROW()-8 -> 33 | B41: Xã Minh Đức | C41: 4210 | D41: 17327 | E41: 5 | F41: =E41*100/C41 -> 0.11876485 | G41: 6 | H41: =G41*100/C41 -> 0.14251781
A42: =ROW()-8 -> 34 | B42: Xã Nam Cát Tiên | C42: 3666 | D42: 16192 | E42: 108 | F42: =E42*100/C42 -> 2.9459902 | G42: 0 | H42: =G42*100/C42 -> 0
A43: =ROW()-8 -> 35 | B43: Xã Nghĩa Trung | C43: 8263 | D43: 34554 | E43: 9 | F43: =E43*100/C43 -> 0.10891928 | G43: 17 | H43: =G43*100/C43 -> 0.20573642
A44: =ROW()-8 -> 36 | B44: Xã Nha Bích | C44: 7560 | D44: 23919 | E44: 0 | F44: =E44*100/C44 -> 0 | G44: 21 | H44: =G44*100/C44 -> 0.27777778
A45: =ROW()-8 -> 37 | B45: Xã Nhơn Trạch | C45: 47541 | D45: 159408 | E45: 118 | F45: =E45*100/C45 -> 0.24820681 | G45: 0 | H45: =G45*100/C45 -> 0
... A56: =ROW()-8 -> 48 | B56: Xã Sông Ray | C56: 6525 | D56: 31494 | E56: 22 | F56: =E56*100/C56 -> 0.33716475 | G56: 85 | H56: =G56*100/C56 -> 1.302682
A57: =ROW()-8 -> 49 | B57: Xã Tà Lài | C57: 7830 | D57: 34635 | F57: =E57*100/C57 -> 0 | H57: =G57*100/C57 -> 0
A58: =ROW()-8 -> 50 | B58: Xã Tân An | C58: 9103 | D58: 41102 | E58: 6 | F58: =E58*100/C58 -> 0.065912337 | G58: 0 | H58: =G58*100/C58 -> 0
A59: =ROW()-8 -> 51 | B59: Xã Tân Hưng | C59: 8133 | D59: 35875 | E59: 0 | F59: =E59*100/C59 -> 0 | G59: 25 | H59: =G59*100/C59 -> 0.30738965
A60: =ROW()-8 -> 52 | B60: Xã Tân Khai | C60: 10700 | D60: 37409 | E60: 0 | F60: =E60*100/C60 -> 0 | G60: 12 | H60: =G60*100/C60 -> 0.11214953
A61: =ROW()-8 -> 53 | B61: Xã Tân Lợi | C61: 3755 | D61: 14666 | E61: 1 | F61: =E61*100/C61 -> 0.026631158 | G61: 10 | H61: =G61*100/C61 -> 0.26631158
A62: =ROW()-8 -> 54 | B62: Xã Tân Phú | C62: 16765 | D62: 77159 | E62: 0 | F62: =E62*100/C62 -> 0 | G62: 0 | H62: =G62*100/C62 -> 0
A63: =ROW()-8 -> 55 | B63: Xã Tân Quan | C63: 7462 | D63: 30375 | E63: 9 | F63: =E63*100/C63 -> 0.1206111 | G63: 29 | H63: =G63*100/C63 -> 0.38863575
A64: =ROW()-8 -> 56 | B64: Xã Tân Tiến | C64: 7972 | D64: 30912 | E64: 18 | F64: =E64*100/C64 -> 0.22579027 | G64: 59 | H64: =G64*100/C64 -> 0.74009032
A65: =ROW()-8 -> 57 | B65: Xã Thanh Sơn | C65: 7707 | D65: 33692 | E65: 75 | F65: =E65*100/C65 -> 0.9731413 | G65: 0 | H65: =G65*100/C65 -> 0
A66: =ROW()-8 -> 58 | B66: Xã Thiện Hưng | C66: 9733 | D66: 35574 | E66: 12 | F66: =E66*100/C66 -> 0.12329189 | G66: 64 | H66: =G66*100/C66 -> 0.65755677
A67: =ROW()-8 -> 59 | B67: Xã Thọ Sơn | C67: 5343 | D67: 21946 | E67: 3 | F67: =E67*100/C67 -> 0.056148231 | G67: 81 | H67: =G67*100/C67 -> 1.5160022
A68: =ROW()-8 -> 60 | B68: Xã Thống Nhất | C68: 16012 | D68: 72814 | E68: 166 | F68: =E68*100/C68 -> 1.0367225 | G68: 0 | H68: =G68*100/C68 -> 0
A69: =ROW()-8 -> 61 | B69: Xã Thuận Lợi | C69: 6194 | D69: 24314 | E69: 0 | F69: =E69*100/C69 -> 0 | G69: 1 | H69: =G69*100/C69 -> 0.016144656
... A80: =ROW()-8 -> 72 | B80: Xã Xuân Thành | C80: 5045 | D80: 21356 | E80: 24 | F80: =E80*100/C80 -> 0.47571853 | G80: 0 | H80: =G80*100/C80 -> 0
A81: II | B81: KV THÀNH THỊ | C81: =SUM(C82:C104) -> 451108 | D81: =SUM(D82:D104) -> 1756854 | E81: =SUM(E82:E104) -> 193 | F81: =E81*100/C81 -> 0.042783546 | G81: =SUM(G82:G104) -> 132 | H81: =G81*100/C81 -> 0.029261286
A82: =ROW()-81 -> 1 | B82: Phường An Lộc | C82: 8752 | D82: 35698 | E82: 0 | F82: =E82*100/C82 -> 0 | G82: 17 | H82: =G82*100/C82 -> 0.19424132
A83: =ROW()-81 -> 2 | B83: Phường Bảo Vinh | C83: 9294 | D83: 36765 | E83: 24 | F83: =E83*100/C83 -> 0.25823112 | G83: 0 | H83: =G83*100/C83 -> 0
A84: =ROW()-81 -> 3 | B84: Phường Biên Hòa | C84: 22921 | D84: 85579 | E84: 0 | F84: =E84*100/C84 -> 0 | G84: 0 | H84: =G84*100/C84 -> 0
A85: =ROW()-81 -> 4 | B85: Phường Bình Long | C85: 10199 | D85: 41799 | E85: 0 | F85: =E85*100/C85 -> 0 | G85: 32 | H85: =G85*100/C85 -> 0.31375625
A86: =ROW()-81 -> 5 | B86: Phường Bình Lộc | C86: 9030 | D86: 35182 | E86: 22 | F86: =E86*100/C86 -> 0.24363234 | G86: 4 | H86: =G86*100/C86 -> 0.044296788
A87: =ROW()-81 -> 6 | B87: Phường Bình Phước | C87: 35906 | D87: 115340 | E87: 0 | F87: =E87*100/C87 -> 0 | G87: 0 | H87: =G87*100/C87 -> 0
A88: =ROW()-81 -> 7 | B88: Phường Chơn Thành | C88: 13730 | D88: 43687 | E88: 0 | F88: =E88*100/C88 -> 0 | G88: 34 | H88: =G88*100/C88 -> 0.24763292
A89: =ROW()-81 -> 8 | B89: Phường Đồng Xoài | C89: 14038 | D89: 38447 | E89: 0 | F89: =E89*100/C89 -> 0 | G89: 0 | H89: =G89*100/C89 -> 0
A90: =ROW()-81 -> 9 | B90: Phường Hàng Gòn | C90: 5818 | D90: 25178 | E90: 10 | F90: =E90*100/C90 -> 0.17188037 | G90: 0 | H90: =G90*100/C90 -> 0
A91: =ROW()-81 -> 10 | B91: Phường Hố Nai | C91: 25041 | D91: 92492 | E91: 17 | F91: =E91*100/C91 -> 0.067888663 | G91: 0 | H91: =G91*100/C91 -> 0
A92: =ROW()-81 -> 11 | B92: Phường Long Bình | C92: 40634 | D92: 168614 | E92: 19 | F92: =E92*100/C92 -> 0.046758872 | G92: 0 | H92: =G92*100/C92 -> 0
A93: =ROW()-81 -> 12 | B93: Phường Long Hưng | C93: 19044 | D93: 76135 | E93: 3 | F93: =E93*100/C93 -> 0.015752993 | G93: 0 | H93: =G93*100/C93 -> 0
... A104: =ROW()-81 -> 23 | B104: Phường Xuân Lập | C104: 4636 | D104: 19385 | E104: 7 | F104: =E104*100/C104 -> 0.15099223 | G104: 2 | H104: =G104*100/C104 -> 0.043140638
A105: III | B105: Tổng cộng I+II | C105: =C81+C8 -> 1210441 | D105: =D81+D8 -> 4769819 | E105: =E81+E8 -> 2907 | F105: =E105*100/C105 -> 0.2401604 | G105: =G81+G8 -> 2038 | H105: =G105*100/C105 -> 0.16836839 | J105: =E105+G105 -> 4945

Sheet 1B
A1: PHỤ LỤC 1B
A2: TỔNG HỢP KẾT QUẢ RÀ SOÁT HỘ NGHÈO, HỘ CẬN NGHÈO THEO CHUẨN TỈNH NĂM 2025 (không tính hộ nghèo chuẩn TW)
A4: TT | B4: Khu vực/Địa bàn | C4: Tổng số hộ dân cư | E4: Kết quả rà soát
E5: Tổng số hộ nghèo | G5: Tổng số hộ cận nghèo
C6: Số hộ | D6: Nhân khẩu | E6: Số hộ | F6: Tỷ lệ | G6: Số hộ | H6: Tỷ lệ
C7: 1 | D7: 2 | E7: 3 | F7: 4 | G7: 5 | H7: 6
A8: I | B8: KV NÔNG THÔN | C8: ='1A'!C8 -> 759333 | D8: ='1A'!D8 -> 3012965 | E8: =SUM(E9:E80) -> 1023 | F8: =E8*100/C8 -> 0.1347235 | G8: =SUM(G9:G80) -> 4528 | H8: =G8*100/C8 -> 0.59631282
A9: =ROW()-12 -> -3 | B9: Xã An Phước | C9: ='1A'!C9 -> 27355 | D9: ='1A'!D9 -> 65776 | E9: 18 | F9: =E9*100/C9 -> 0.065801499 | G9: 13 | H9: =G9*100/C9 -> 0.047523305
A10: =ROW()-12 -> -2 | B10: Xã An Viễn | C10: ='1A'!C10 -> 8543 | D10: ='1A'!D10 -> 27129 | E10: 7 | F10: =E10*100/C10 -> 0.081938429 | G10: 83 | H10: =G10*100/C10 -> 0.97155566
A11: =ROW()-12 -> -1 | B11: Xã Bàu Hàm | C11: ='1A'!C11 -> 11470 | D11: ='1A'!D11 -> 47829 | E11: 11 | F11: =E11*100/C11 -> 0.095902354 | G11: 111 | H11: =G11*100/C11 -> 0.96774194
A12: =ROW()-12 -> 0 | B12: Xã Bình An | C12: ='1A'!C12 -> 8283 | D12: ='1A'!D12 -> 26383 | E12: 9 | F12: =E12*100/C12 -> 0.10865628 | G12: 13 | H12: =G12*100/C12 -> 0.15694797
A13: =ROW()-12 -> 1 | B13: Xã Bình Minh | C13: ='1A'!C13 -> 27214 | D13: ='1A'!D13 -> 86190 | E13: 22 | F13: =E13*100/C13 -> 0.080840744 | G13: 114 | H13: =G13*100/C13 -> 0.41890204
A14: =ROW()-12 -> 2 | B14: Xã Bình Tân | C14: ='1A'!C14 -> 7280 | D14: ='1A'!D14 -> 28745 | F14: =E14*100/C14 -> 0 | H14: =G14*100/C14 -> 0
A15: =ROW()-12 -> 3 | B15: Xã Bom Bo | C15: ='1A'!C15 -> 6605 | D15: ='1A'!D15 -> 27547 | F15: =E15*100/C15 -> 0 | H15: =G15*100/C15 -> 0
A16: =ROW()-12 -> 4 | B16: Xã Bù Đăng | C16: ='1A'!C16 -> 8022 | D16: ='1A'!D16 -> 34357 | F16: =E16*100/C16 -> 0 | H16: =G16*100/C16 -> 0
A17: =ROW()-12 -> 5 | B17: Xã Bù Gia Mập | C17: ='1A'!C17 -> 2059 | D17: ='1A'!D17 -> 8559 | F17: =E17*100/C17 -> 0 | H17: =G17*100/C17 -> 0
A18: =ROW()-12 -> 6 | B18: Xã Cẩm Mỹ | C18: ='1A'!C18 -> 10146 | D18: ='1A'!D18 -> 46111 | E18: 0 | F18: =E18*100/C18 -> 0 | G18: 139 | H18: =G18*100/C18 -> 1.369998
A19: =ROW()-12 -> 7 | B19: Xã Dầu Giây | C19: ='1A'!C19 -> 16378 | D19: ='1A'!D19 -> 72012 | E19: 26 | F19: =E19*100/C19 -> 0.15874954 | G19: 170 | H19: =G19*100/C19 -> 1.0379778
A20: =ROW()-12 -> 8 | B20: Xã Đa Kia | C20: ='1A'!C20 -> 8348 | D20: ='1A'!D20 -> 32167 | F20: =E20*100/C20 -> 0 | H20: =G20*100/C20 -> 0
A21: =ROW()-12 -> 9 | B21: Xã Đại Phước | C21: ='1A'!C21 -> 17318 | D21: ='1A'!D21 -> 61940 | E21: 45 | F21: =E21*100/C21 -> 0.25984525 | G21: 34 | H21: =G21*100/C21 -> 0.19632752
A22: =ROW()-12 -> 10 | B22: Xã Đak Lua | C22: ='1A'!C22 -> 1822 | D22: ='1A'!D22 -> 8314 | E22: 3 | F22: =E22*100/C22 -> 0.16465423 | G22: 95 | H22: =G22*100/C22 -> 5.2140505
A23: =ROW()-12 -> 11 | B23: Xã Đak Nhau | C23: ='1A'!C23 -> 5966 | D23: ='1A'!D23 -> 24525 | F23: =E23*100/C23 -> 0 | H23: =G23*100/C23 -> 0
A24: =ROW()-12 -> 12 | B24: Xã Đăk Ơ | C24: ='1A'!C24 -> 4869 | D24: ='1A'!D24 -> 19722 | F24: =E24*100/C24 -> 0 | H24: =G24*100/C24 -> 0
A25: =ROW()-12 -> 13 | B25: Xã Định Quán | C25: ='1A'!C25 -> 19860 | D25: ='1A'!D25 -> 86581 | E25: 4 | F25: =E25*100/C25 -> 0.020140987 | G25: 138 | H25: =G25*100/C25 -> 0.69486405
A26: =ROW()-12 -> 14 | B26: Xã Đồng Phú | C26: ='1A'!C26 -> 17550 | D26: ='1A'!D26 -> 49341 | E26: 0 | F26: =E26*100/C26 -> 0 | G26: 0 | H26: =G26*100/C26 -> 0
A27: =ROW()-12 -> 15 | B27: Xã Đồng Tâm | C27: ='1A'!C27 -> 10071 | D27: ='1A'!D27 -> 36227 | E27: 0 | F27: =E27*100/C27 -> 0 | G27: 0 | H27: =G27*100/C27 -> 0
A28: =ROW()-12 -> 16 | B28: Xã Gia Kiệm | C28: ='1A'!C28 -> 18661 | D28: ='1A'!D28 -> 80086 | E28: 14 | F28: =E28*100/C28 -> 0.075022775 | G28: 184 | H28: =G28*100/C28 -> 0.98601361
A29: =ROW()-12 -> 17 | B29: Xã Hưng Phước | C29: ='1A'!C29 -> 3559 | D29: ='1A'!D29 -> 13230 | F29: =E29*100/C29 -> 0 | H29: =G29*100/C29 -> 0
A30: =ROW()-12 -> 18 | B30: Xã Hưng Thịnh | C30: ='1A'!C30 -> 13526 | D30: ='1A'!D30 -> 60910 | E30: 12 | F30: =E30*100/C30 -> 0.088718025 | G30: 162 | H30: =G30*100/C30 -> 1.1976933
A31: =ROW()-12 -> 19 | B31: Xã La Ngà | C31: ='1A'!C31 -> 7537 | D31: ='1A'!D31 -> 26918 | E31: 6 | F31: =E31*100/C31 -> 0.079607271 | G31: 84 | H31: =G31*100/C31 -> 1.1145018
A32: =ROW()-12 -> 20 | B32: Xã Long Hà | C32: ='1A'!C32 -> 7028 | D32: ='1A'!D32 -> 28107 | F32: =E32*100/C32 -> 0 | H32: =G32*100/C32 -> 0
A33: =ROW()-12 -> 21 | B33: Xã Long Phước | C33: ='1A'!C33 -> 11523 | D33: ='1A'!D33 -> 43792 | E33: 6 | F33: =E33*100/C33 -> 0.052069773 | G33: 24 | H33: =G33*100/C33 -> 0.20827909
A34: =ROW()-12 -> 22 | B34: Xã Long Thành | C34: ='1A'!C34 -> 28730 | D34: ='1A'!D34 -> 96026 | E34: 9 | F34: =E34*100/C34 -> 0.03132614 | G34: 12 | H34: =G34*100/C34 -> 0.041768187
A35: =ROW()-12 -> 23 | B35: Xã Lộc Hưng | C35: ='1A'!C35 -> 6792 | D35: ='1A'!D35 -> 26933 | F35: =E35*100/C35 -> 0 | H35: =G35*100/C35 -> 0
A36: =ROW()-12 -> 24 | B36: Xã Lộc Ninh | C36: ='1A'!C36 -> 8255 | D36: ='1A'!D36 -> 32299 | F36: =E36*100/C36 -> 0 | H36: =G36*100/C36 -> 0
A37: =ROW()-12 -> 25 | B37: Xã Lộc Quang | C37: ='1A'!C37 -> 6936 | D37: ='1A'!D37 -> 26694 | E37: 0 | F37: =E37*100/C37 -> 0 | G37: 0 | H37: =G37*100/C37 -> 0
A38: =ROW()-12 -> 26 | B38: Xã Lộc Tấn | C38: ='1A'!C38 -> 5861 | D38: ='1A'!D38 -> 23995 | F38: =E38*100/C38 -> 0 | H38: =G38*100/C38 -> 0
A39: =ROW()-12 -> 27 | B39: Xã Lộc Thành | C39: ='1A'!C39 -> 3941 | D39: ='1A'!D39 -> 15539 | F39: =E39*100/C39 -> 0 | H39: =G39*100/C39 -> 0
A40: =ROW()-12 -> 28 | B40: Xã Lộc Thạnh | C40: ='1A'!C40 -> 2515 | D40: ='1A'!D40 -> 10541 | F40: =E40*100/C40 -> 0 | H40: =G40*100/C40 -> 0
A41: =ROW()-12 -> 29 | B41: Xã Minh Đức | C41: ='1A'!C41 -> 4210 | D41: ='1A'!D41 -> 17327 | F41: =E41*100/C41 -> 0 | H41: =G41*100/C41 -> 0
A42: =ROW()-12 -> 30 | B42: Xã Nam Cát Tiên | C42: ='1A'!C42 -> 3666 | D42: ='1A'!D42 -> 16192 | E42: 0 | F42: =E42*100/C42 -> 0 | G42: 164 | H42: =G42*100/C42 -> 4.4735406
A43: =ROW()-12 -> 31 | B43: Xã Nghĩa Trung | C43: ='1A'!C43 -> 8263 | D43: ='1A'!D43 -> 34554 | F43: =E43*100/C43 -> 0 | H43: =G43*100/C43 -> 0
A44: =ROW()-12 -> 32 | B44: Xã Nha Bích | C44: ='1A'!C44 -> 7560 | D44: ='1A'!D44 -> 23919 | E44: 0 | F44: =E44*100/C44 -> 0 | G44: 0 | H44: =G44*100/C44 -> 0
A45: =ROW()-12 -> 33 | B45: Xã Nhơn Trạch | C45: ='1A'!C45 -> 47541 | D45: ='1A'!D45 -> 159408 | E45: 33 | F45: =E45*100/C45 -> 0.069413769 | G45: 49 | H45: =G45*100/C45 -> 0.10306893
A46: =ROW()-12 -> 34 | B46: Xã Phú Hòa | C46: ='1A'!C46 -> 7495 | D46: ='1A'!D46 -> 37082 | E46: 13 | F46: =E46*100/C46 -> 0.17344897 | G46: 60 | H46: =G46*100/C46 -> 0.80053369
A47: =ROW()-12 -> 35 | B47: Xã Phú Lâm | C47: ='1A'!C47 -> 13378 | D47: ='1A'!D47 -> 62490 | E47: 153 | F47: =E47*100/C47 -> 1.1436687 | G47: 373 | H47: =G47*100/C47 -> 2.7881597
A48: =ROW()-12 -> 36 | B48: Xã Phú Lý | C48: ='1A'!C48 -> 3598 | D48: ='1A'!D48 -> 16141 | E48: 33 | F48: =E48*100/C48 -> 0.91717621 | G48: 119 | H48: =G48*100/C48 -> 3.307393
A49: =ROW()-12 -> 37 | B49: Xã Phú Nghĩa | C49: ='1A'!C49 -> 8932 | D49: ='1A'!D49 -> 34580 | F49: =E49*100/C49 -> 0 | H49: =G49*100/C49 -> 0
A50: =ROW()-12 -> 38 | B50: Xã Phú Riềng | C50: ='1A'!C50 -> 9378 | D50: ='1A'!D50 -> 36799 | F50: =E50*100/C50 -> 0 | H50: =G50*100/C50 -> 0
A51: =ROW()-12 -> 39 | B51: Xã Phú Trung | C51: ='1A'!C51 -> 3606 | D51: ='1A'!D51 -> 13935 | E51: 0 | F51: =E51*100/C51 -> 0 | G51: 0 | H51: =G51*100/C51 -> 0
A52: =ROW()-12 -> 40 | B52: Xã Phú Vinh | C52: ='1A'!C52 -> 6294 | D52: ='1A'!D52 -> 31665 | E52: 6 | F52: =E52*100/C52 -> 0.095328885 | G52: 116 | H52: =G52*100/C52 -> 1.8430251
A53: =ROW()-12 -> 41 | B53: Xã Phước An | C53: ='1A'!C53 -> 13245 | D53: ='1A'!D53 -> 87659 | E53: 62 | F53: =E53*100/C53 -> 0.46810117 | G53: 10 | H53: =G53*100/C53 -> 0.075500189
A54: =ROW()-12 -> 42 | B54: Xã Phước Sơn | C54: ='1A'!C54 -> 7550 | D54: ='1A'!D54 -> 31078 | F54: =E54*100/C54 -> 0 | H54: =G54*100/C54 -> 0
A55: =ROW()-12 -> 43 | B55: Xã Phước Thái | C55: ='1A'!C55 -> 15437 | D55: ='1A'!D55 -> 55236 | E55: 28 | F55: =E55*100/C55 -> 0.18138239 | G55: 18 | H55: =G55*100/C55 -> 0.11660297
A56: =ROW()-12 -> 44 | B56: Xã Sông Ray | C56: ='1A'!C56 -> 6525 | D56: ='1A'!D56 -> 31494 | F56: =E56*100/C56 -> 0 | H56: =G56*100/C56 -> 0
A57: =ROW()-12 -> 45 | B57: Xã Tà Lài | C57: ='1A'!C57 -> 7830 | D57: ='1A'!D57 -> 34635 | E57: 111 | F57: =E57*100/C57 -> 1.4176245 | G57: 307 | H57: =G57*100/C57 -> 3.9208174
A58: =ROW()-12 -> 46 | B58: Xã Tân An | C58: ='1A'!C58 -> 9103 | D58: ='1A'!D58 -> 41102 | E58: 5 | F58: =E58*100/C58 -> 0.054926947 | G58: 14 | H58: =G58*100/C58 -> 0.15379545
A59: =ROW()-12 -> 47 | B59: Xã Tân Hưng | C59: ='1A'!C59 -> 8133 | D59: ='1A'!D59 -> 35875 | F59: =E59*100/C59 -> 0 | H59: =G59*100/C59 -> 0
A60: =ROW()-12 -> 48 | B60: Xã Tân Khai | C60: ='1A'!C60 -> 10700 | D60: ='1A'!D60 -> 37409 | F60: =E60*100/C60 -> 0 | H60: =G60*100/C60 -> 0
A61: =ROW()-12 -> 49 | B61: Xã Tân Lợi | C61: ='1A'!C61 -> 3755 | D61: ='1A'!D61 -> 14666 | F61: =E61*100/C61 -> 0 | H61: =G61*100/C61 -> 0
A62: =ROW()-12 -> 50 | B62: Xã Tân Phú | C62: ='1A'!C62 -> 16765 | D62: ='1A'!D62 -> 77159 | E62: 129 | F62: =E62*100/C62 -> 0.76946018 | G62: 659 | H62: =G62*100/C62 -> 3.9308082
A63: =ROW()-12 -> 51 | B63: Xã Tân Quan | C63: ='1A'!C63 -> 7462 | D63: ='1A'!D63 -> 30375 | F63: =E63*100/C63 -> 0 | H63: =G63*100/C63 -> 0
A64: =ROW()-12 -> 52 | B64: Xã Tân Tiến | C64: ='1A'!C64 -> 7972 | D64: ='1A'!D64 -> 30912 | F64: =E64*100/C64 -> 0 | H64: =G64*100/C64 -> 0
A65: =ROW()-12 -> 53 | B65: Xã Thanh Sơn | C65: ='1A'!C65 -> 7707 | D65: ='1A'!D65 -> 33692 | E65: 83 | F65: =E65*100/C65 -> 1.076943 | G65: 146 | H65: =G65*100/C65 -> 1.8943817
A66: =ROW()-12 -> 54 | B66: Xã Thiện Hưng | C66: ='1A'!C66 -> 9733 | D66: ='1A'!D66 -> 35574 | F66: =E66*100/C66 -> 0 | H66: =G66*100/C66 -> 0
A67: =ROW()-12 -> 55 | B67: Xã Thọ Sơn | C67: ='1A'!C67 -> 5343 | D67: ='1A'!D67 -> 21946 | F67: =E67*100/C67 -> 0 | H67: =G67*100/C67 -> 0
A68: =ROW()-12 -> 56 | B68: Xã Thống Nhất | C68: ='1A'!C68 -> 16012 | D68: ='1A'!D68 -> 72814 | E68: 16 | F68: =E68*100/C68 -> 0.099925056 | G68: 82 | H68: =G68*100/C68 -> 0.51211591
A69: =ROW()-12 -> 57 | B69: Xã Thuận Lợi | C69: ='1A'!C69 -> 6194 | D69: ='1A'!D69 -> 24314 | F69: =E69*100/C69 -> 0 | H69: =G69*100/C69 -> 0
A70: =ROW()-12 -> 58 | B70: Xã Trảng Bom | C70: ='1A'!C70 -> 29097 | D70: ='1A'!D70 -> 95548 | E70: 21 | F70: =E70*100/C70 -> 0.072172389 | G70: 116 | H70: =G70*100/C70 -> 0.39866653
A71: =ROW()-12 -> 59 | B71: Xã Trị An | C71: ='1A'!C71 -> 11401 | D71: ='1A'!D71 -> 51866 | E71: 35 | F71: =E71*100/C71 -> 0.30699061 | G71: 156 | H71: =G71*100/C71 -> 1.368301
A72: =ROW()-12 -> 60 | B72: Xã Xuân Bắc | C72: ='1A'!C72 -> 9257 | D72: ='1A'!D72 -> 45205 | E72: 34 | F72: =E72*100/C72 -> 0.36728962 | G72: 92 | H72: =G72*100/C72 -> 0.9938425
A73: =ROW()-12 -> 61 | B73: Xã Xuân Định | C73: ='1A'!C73 -> 7934 | D73: ='1A'!D73 -> 37033 | E73: 10 | F73: =E73*100/C73 -> 0.12603983 | G73: 34 | H73: =G73*100/C73 -> 0.42853542
A74: =ROW()-12 -> 62 | B74: Xã Xuân Đông | C74: ='1A'!C74 -> 9795 | D74: ='1A'!D74 -> 47324 | E74: 0 | F74: =E74*100/C74 -> 0 | G74: 161 | H74: =G74*100/C74 -> 1.6436958
A75: =ROW()-12 -> 63 | B75: Xã Xuân Đường | C75: ='1A'!C75 -> 6038 | D75: ='1A'!D75 -> 27003 | E75: 5 | F75: =E75*100/C75 -> 0.082808877 | G75: 73 | H75: =G75*100/C75 -> 1.2090096
A76: =ROW()-12 -> 64 | B76: Xã Xuân Hòa | C76: ='1A'!C76 -> 18256 | D76: ='1A'!D76 -> 80444 | E76: 36 | F76: =E76*100/C76 -> 0.19719544 | G76: 156 | H76: =G76*100/C76 -> 0.85451358
A77: =ROW()-12 -> 65 | B77: Xã Xuân Lộc | C77: ='1A'!C77 -> 23901 | D77: ='1A'!D77 -> 106146 | F77: =E77*100/C77 -> 0 | H77: =G77*100/C77 -> 0
A78: =ROW()-12 -> 66 | B78: Xã Xuân Phú | C78: ='1A'!C78 -> 6253 | D78: ='1A'!D78 -> 25030 | E78: 6 | F78: =E78*100/C78 -> 0.095953942 | G78: 67 | H78: =G78*100/C78 -> 1.0714857
A79: =ROW()-12 -> 67 | B79: Xã Xuân Quế | C79: ='1A'!C79 -> 4946 | D79: ='1A'!D79 -> 21453 | E79: 0 | F79: =E79*100/C79 -> 0 | G79: 111 | H79: =G79*100/C79 -> 2.2442378
A80: =ROW()-12 -> 68 | B80: Xã Xuân Thành | C80: ='1A'!C80 -> 5045 | D80: ='1A'!D80 -> 21356 | E80: 12 | F80: =E80*100/C80 -> 0.23785927 | G80: 69 | H80: =G80*100/C80 -> 1.3676908
A81: II | B81: KV THÀNH THỊ | C81: ='1A'!C81 -> 451108 | D81: ='1A'!D81 -> 1756854 | E81: =SUM(E82:E104) -> 292 | F81: =E81*100/C81 -> 0.06472951 | G81: =SUM(G82:G104) -> 376 | H81: =G81*100/C81 -> 0.083350329
A82: =ROW()-85 -> -3 | B82: Phường An Lộc | C82: ='1A'!C82 -> 8752 | D82: ='1A'!D82 -> 35698 | F82: =E82*100/C82 -> 0 | H82: =G82*100/C82 -> 0
A83: =ROW()-85 -> -2 | B83: Phường Bảo Vinh | C83: ='1A'!C83 -> 9294 | D83: ='1A'!D83 -> 36765 | E83: 0 | F83: =E83*100/C83 -> 0 | G83: 16 | H83: =G83*100/C83 -> 0.17215408
A84: =ROW()-85 -> -1 | B84: Phường Biên Hòa | C84: ='1A'!C84 -> 22921 | D84: ='1A'!D84 -> 85579 | E84: 24 | F84: =E84*100/C84 -> 0.10470747 | G84: 23 | H84: =G84*100/C84 -> 0.10034466
A85: =ROW()-85 -> 0 | B85: Phường Bình Long | C85: ='1A'!C85 -> 10199 | D85: ='1A'!D85 -> 41799 | F85: =E85*100/C85 -> 0 | H85: =G85*100/C85 -> 0
A86: =ROW()-85 -> 1 | B86: Phường Bình Lộc | C86: ='1A'!C86 -> 9030 | D86: ='1A'!D86 -> 35182 | E86: 35 | F86: =E86*100/C86 -> 0.3875969 | G86: 64 | H86: =G86*100/C86 -> 0.70874862
A87: =ROW()-85 -> 2 | B87: Phường Bình Phước | C87: ='1A'!C87 -> 35906 | D87: ='1A'!D87 -> 115340 | F87: =E87*100/C87 -> 0 | H87: =G87*100/C87 -> 0
A88: =ROW()-85 -> 3 | B88: Phường Chơn Thành | C88: ='1A'!C88 -> 13730 | D88: ='1A'!D88 -> 43687 | F88: =E88*100/C88 -> 0 | H88: =G88*100/C88 -> 0
A89: =ROW()-85 -> 4 | B89: Phường Đồng Xoài | C89: ='1A'!C89 -> 14038 | D89: ='1A'!D89 -> 38447 | F89: =E89*100/C89 -> 0 | H89: =G89*100/C89 -> 0
A90: =ROW()-85 -> 5 | B90: Phường Hàng Gòn | C90: ='1A'!C90 -> 5818 | D90: ='1A'!D90 -> 25178 | E90: 7 | F90: =E90*100/C90 -> 0.12031626 | G90: 8 | H90: =G90*100/C90 -> 0.1375043
A91: =ROW()-85 -> 6 | B91: Phường Hố Nai | C91: ='1A'!C91 -> 25041 | D91: ='1A'!D91 -> 92492 | E91: 28 | F91: =E91*100/C91 -> 0.11181662 | G91: 11 | H91: =G91*100/C91 -> 0.043927958
A92: =ROW()-85 -> 7 | B92: Phường Long Bình | C92: ='1A'!C92 -> 40634 | D92: ='1A'!D92 -> 168614 | E92: 2 | F92: =E92*100/C92 -> 0.0049219865 | G92: 26 | H92: =G92*100/C92 -> 0.063985825
A93: =ROW()-85 -> 8 | B93: Phường Long Hưng | C93: ='1A'!C93 -> 19044 | D93: ='1A'!D93 -> 76135 | E93: 26 | F93: =E93*100/C93 -> 0.13652594 | G93: 31 | H93: =G93*100/C93 -> 0.16278093
A94: =ROW()-85 -> 9 | B94: Phường Long Khánh | C94: ='1A'!C94 -> 17890 | D94: ='1A'!D94 -> 79529 | E94: 9 | F94: =E94*100/C94 -> 0.050307434 | G94: 17 | H94: =G94*100/C94 -> 0.095025154
A95: =ROW()-85 -> 10 | B95: Phường Minh Hưng | C95: ='1A'!C95 -> 10791 | D95: ='1A'!D95 -> 37123 | E95: 0 | F95: =E95*100/C95 -> 0 | G95: 0 | H95: =G95*100/C95 -> 0
A96: =ROW()-85 -> 11 | B96: Phường Phước Bình | C96: ='1A'!C96 -> 12760 | D96: ='1A'!D96 -> 45770 | E96: 0 | F96: =E96*100/C96 -> 0 | G96: 0 | H96: =G96*100/C96 -> 0
A97: =ROW()-85 -> 12 | B97: Phường Phước Long | C97: ='1A'!C97 -> 8517 | D97: ='1A'!D97 -> 32929 | E97: 0 | F97: =E97*100/C97 -> 0 | G97: 0 | H97: =G97*100/C97 -> 0
A98: =ROW()-85 -> 13 | B98: Phường Phước Tân | C98: ='1A'!C98 -> 15829 | D98: ='1A'!D98 -> 72827 | E98: 4 | F98: =E98*100/C98 -> 0.025270074 | G98: 15 | H98: =G98*100/C98 -> 0.094762777
A99: =ROW()-85 -> 14 | B99: Phường Tam Hiệp | C99: ='1A'!C99 -> 34578 | D99: ='1A'!D99 -> 152558 | E99: 50 | F99: =E99*100/C99 -> 0.14460061 | G99: 21 | H99: =G99*100/C99 -> 0.060732258
A100: =ROW()-85 -> 15 | B100: Phường Tam Phước | C100: ='1A'!C100 -> 17258 | D100: ='1A'!D100 -> 61633 | E100: 20 | F100: =E100*100/C100 -> 0.11588828 | G100: 20 | H100: =G100*100/C100 -> 0.11588828
A101: =ROW()-85 -> 16 | B101: Phường Tân Triều | C101: ='1A'!C101 -> 28497 | D101: ='1A'!D101 -> 112581 | E101: 13 | F101: =E101*100/C101 -> 0.045618837 | G101: 68 | H101: =G101*100/C101 -> 0.23862161
...

Sheet 2A
A1: PHỤ LỤC 2A
A2: TỔNG HỢP DIỄN BIẾN HỘ NGHÈO CHUẨN TRUNG ƯƠNG TRONG NĂM 2025
A4: TT | B4: Khu vực/Địa bàn | C4: Phân tổ | D4: Tổng số hộ nghèo đầu năm 2025 | E4: Diễn biến giảm số hộ nghèo | H4: Diễn biến tăng số hộ nghèo | L4: Tổng số hộ nghèo cuối năm 2025
E5: Số hộ thoát nghèo | G5: Nguyên nhân: thay đổi nhân khẩu, hộ nghèo đơn thân chết đi, chuyển đi nơi khác, tách, nhập với hộ khác,… | H5: Số hộ cận nghèo trở thành hộ nghèo | I5: Số hộ ngoài danh sách hộ nghèo, hộ cận nghèo gặp khó khăn đột xuất trong năm | K5: Nguyên nhân: thay đổi nhân khẩu, chuyển đến, tách, nhập với hộ khác,...
E7: Trở thành hộ cận nghèo | F7: Vượt chuẩn cận nghèo | I7: Tái nghèo | J7: Phát sinh mới
A8: A | B8: B | C8: C | D8: 1 | E8: 2 | F8: 3 | G8: 4 | H8: 5 | I8: 6 | J8: 7 | K8: 8 | L8: 9
A9: I | B9: Khu vực nông thôn | C9: Hộ | D9: =D11+D13+D15+D17+D19+D21+D23+D25+D27+D29+D31+D33+D35+D37+D39+D41+D43+D45+D47+D49+D51+D53+D55+D57+D59+D61+D63+D65+D67+D69+D71+D73+D75+D77+D79+D81+D83+D85+D87+D89+D91+D93+D95+D97+D99+D101+D103+D105+D107+D109+D111+D113+D115+D117+D119+D121+D123+D125+D127+D129+D131+D133+D135+D137+D139+D141+D143+D145+D147+D149+D151+D153 -> 2665 | E9: =E11+E13+E15+E17+E19+E21+E23+E25+E27+E29+E31+E33+E35+E37+E39+E41+E43+E45+E47+E49+E51+E53+E55+E57+E59+E61+E63+E65+E67+E69+E71+E73+E75+E77+E79+E81+E83+E85+E87+E89+E91+E93+E95+E97+E99+E101+E103+E105+E107+E109+E111+E113+E115+E117+E119+E121+E123+E125+E127+E129+E131+E133+E135+E137+E139+E141+E143+E145+E147+E149+E151+E153 -> 111 | F9: =F11+F13+F15+F17+F19+F21+F23+F25+F27+F29+F31+F33+F35+F37+F39+F41+F43+F45+F47+F49+F51+F53+F55+F57+F59+F61+F63+F65+F67+F69+F71+F73+F75+F77+F79+F81+F83+F85+F87+F89+F91+F93+F95+F97+F99+F101+F103+F105+F107+F109+F111+F113+F115+F117+F119+F121+F123+F125+F127+F129+F131+F133+F135+F137+F139+F141+F143+F145+F147+F149+F151+F153 -> 268 | G9: =G11+G13+G15+G17+G19+G21+G23+G25+G27+G29+G31+G33+G35+G37+G39+G41+G43+G45+G47+G49+G51+G53+G55+G57+G59+G61+G63+G65+G67+G69+G71+G73+G75+G77+G79+G81+G83+G85+G87+G89+G91+G93+G95+G97+G99+G101+G103+G105+G107+G109+G111+G113+G115+G117+G119+G121+G123+G125+G127+G129+G131+G133+G135+G137+G139+G141+G143+G145+G147+G149+G151+G153 -> 335 | H9: =H11+H13+H15+H17+H19+H21+H23+H25+H27+H29+H31+H33+H35+H37+H39+H41+H43+H45+H47+H49+H51+H53+H55+H57+H59+H61+H63+H65+H67+H69+H71+H73+H75+H77+H79+H81+H83+H85+H87+H89+H91+H93+H95+H97+H99+H101+H103+H105+H107+H109+H111+H113+H115+H117+H119+H121+H123+H125+H127+H129+H131+H133+H135+H137+H139+H141+H143+H145+H147+H149+H151+H153 -> 57 | I9: =I11+I13+I15+I17+I19+I21+I23+I25+I27+I29+I31+I33+I35+I37+I39+I41+I43+I45+I47+I49+I51+I53+I55+I57+I59+I61+I63+I65+I67+I69+I71+I73+I75+I77+I79+I81+I83+I85+I87+I89+I91+I93+I95+I97+I99+I101+I103+I105+I107+I109+I111+I113+I115+I117+I119+I121+I123+I125+I127+I129+I131+I133+I135+I137+I139+I141+I143+I145+I147+I149+I151+I153 -> 13 | J9: =J11+J13+J15+J17+J19+J21+J23+J25+J27+J29+J31+J33+J35+J37+J39+J41+J43+J45+J47+J49+J51+J53+J55+J57+J59+J61+J63+J65+J67+J69+J71+J73+J75+J77+J79+J81+J83+J85+J87+J89+J91+J93+J95+J97+J99+J101+J103+J105+J107+J109+J111+J113+J115+J117+J119+J121+J123+J125+J127+J129+J131+J133+J135+J137+J139+J141+J143+J145+J147+J149+J151+J153 -> 602 | K9: =K11+K13+K15+K17+K19+K21+K23+K25+K27+K29+K31+K33+K35+K37+K39+K41+K43+K45+K47+K49+K51+K53+K55+K57+K59+K61+K63+K65+K67+K69+K71+K73+K75+K77+K79+K81+K83+K85+K87+K89+K91+K93+K95+K97+K99+K101+K103+K105+K107+K109+K111+K113+K115+K117+K119+K121+K123+K125+K127+K129+K131+K133+K135+K137+K139+K141+K143+K145+K147+K149+K151+K153 -> 91 | L9: =L11+L13+L15+L17+L19+L21+L23+L25+L27+L29+L31+L33+L35+L37+L39+L41+L43+L45+L47+L49+L51+L53+L55+L57+L59+L61+L63+L65+L67+L69+L71+L73+L75+L77+L79+L81+L83+L85+L87+L89+L91+L93+L95+L97+L99+L101+L103+L105+L107+L109+L111+L113+L115+L117+L119+L121+L123+L125+L127+L129+L131+L133+L135+L137+L139+L141+L143+L145+L147+L149+L151+L153 -> 2714
C10: Nhân khẩu | D10: =D12+D14+D16+D18+D20+D22+D24+D26+D28+D30+D32+D34+D36+D38+D40+D42+D44+D46+D48+D50+D52+D54+D56+D58+D60+D62+D64+D66+D68+D70+D72+D74+D76+D78+D80+D82+D84+D86+D88+D90+D92+D94+D96+D98+D100+D102+D104+D106+D108+D110+D112+D114+D116+D118+D120+D122+D124+D126+D128+D130+D132+D134+D136+D138+D140+D142+D144+D146+D148+D150+D152+D154 -> 4810 | E10: =E12+E14+E16+E18+E20+E22+E24+E26+E28+E30+E32+E34+E36+E38+E40+E42+E44+E46+E48+E50+E52+E54+E56+E58+E60+E62+E64+E66+E68+E70+E72+E74+E76+E78+E80+E82+E84+E86+E88+E90+E92+E94+E96+E98+E100+E102+E104+E106+E108+E110+E112+E114+E116+E118+E120+E122+E124+E126+E128+E130+E132+E134+E136+E138+E140+E142+E144+E146+E148+E150+E152+E154 -> 365 | F10: =F12+F14+F16+F18+F20+F22+F24+F26+F28+F30+F32+F34+F36+F38+F40+F42+F44+F46+F48+F50+F52+F54+F56+F58+F60+F62+F64+F66+F68+F70+F72+F74+F76+F78+F80+F82+F84+F86+F88+F90+F92+F94+F96+F98+F100+F102+F104+F106+F108+F110+F112+F114+F116+F118+F120+F122+F124+F126+F128+F130+F132+F134+F136+F138+F140+F142+F144+F146+F148+F150+F152+F154 -> 621 | G10: =G12+G14+G16+G18+G20+G22+G24+G26+G28+G30+G32+G34+G36+G38+G40+G42+G44+G46+G48+G50+G52+G54+G56+G58+G60+G62+G64+G66+G68+G70+G72+G74+G76+G78+G80+G82+G84+G86+G88+G90+G92+G94+G96+G98+G100+G102+G104+G106+G108+G110+G112+G114+G116+G118+G120+G122+G124+G126+G128+G130+G132+G134+G136+G138+G140+G142+G144+G146+G148+G150+G152+G154 -> 773 | H10: =H12+H14+H16+H18+H20+H22+H24+H26+H28+H30+H32+H34+H36+H38+H40+H42+H44+H46+H48+H50+H52+H54+H56+H58+H60+H62+H64+H66+H68+H70+H72+H74+H76+H78+H80+H82+H84+H86+H88+H90+H92+H94+H96+H98+H100+H102+H104+H106+H108+H110+H112+H114+H116+H118+H120+H122+H124+H126+H128+H130+H132+H134+H136+H138+H140+H142+H144+H146+H148+H150+H152+H154 -> 135 | I10: =I12+I14+I16+I18+I20+I22+I24+I26+I28+I30+I32+I34+I36+I38+I40+I42+I44+I46+I48+I50+I52+I54+I56+I58+I60+I62+I64+I66+I68+I70+I72+I74+I76+I78+I80+I82+I84+I86+I88+I90+I92+I94+I96+I98+I100+I102+I104+I106+I108+I110+I112+I114+I116+I118+I120+I122+I124+I126+I128+I130+I132+I134+I136+I138+I140+I142+I144+I146+I148+I150+I152+I154 -> 38 | J10: =J12+J14+J16+J18+J20+J22+J24+J26+J28+J30+J32+J34+J36+J38+J40+J42+J44+J46+J48+J50+J52+J54+J56+J58+J60+J62+J64+J66+J68+J70+J72+J74+J76+J78+J80+J82+J84+J86+J88+J90+J92+J94+J96+J98+J100+J102+J104+J106+J108+J110+J112+J114+J116+J118+J120+J122+J124+J126+J128+J130+J132+J134+J136+J138+J140+J142+J144+J146+J148+J150+J152+J154 -> 1959 | K10: =K12+K14+K16+K18+K20+K22+K24+K26+K28+K30+K32+K34+K36+K38+K40+K42+K44+K46+K48+K50+K52+K54+K56+K58+K60+K62+K64+K66+K68+K70+K72+K74+K76+K78+K80+K82+K84+K86+K88+K90+K92+K94+K96+K98+K100+K102+K104+K106+K108+K110+K112+K114+K116+K118+K120+K122+K124+K126+K128+K130+K132+K134+K136+K138+K140+K142+K144+K146+K148+K150+K152+K154 -> 187 | L10: =L12+L14+L16+L18+L20+L22+L24+L26+L28+L30+L32+L34+L36+L38+L40+L42+L44+L46+L48+L50+L52+L54+L56+L58+L60+L62+L64+L66+L68+L70+L72+L74+L76+L78+L80+L82+L84+L86+L88+L90+L92+L94+L96+L98+L100+L102+L104+L106+L108+L110+L112+L114+L116+L118+L120+L122+L124+L126+L128+L130+L132+L134+L136+L138+L140+L142+L144+L146+L148+L150+L152+L154 -> 5370
A11: 1 | B11: Xã An Phước | C11: Hộ | D11: 30 | E11: 0 | F11: 0 | G11: 3 | H11: 0 | I11: 0 | J11: 0 | K11: 0 | L11: 27
C12: Nhân khẩu | D12: 40 | E12: 0 | F12: 0 | G12: 3 | H12: 0 | I12: 0 | J12: 0 | K12: 0 | L12: 37
A13: 2 | B13: Xã An Viễn | C13: Hộ | D13: 11 | E13: 2 | L13: 9
C14: Nhân khẩu | D14: 16 | E14: 3 | L14: 13
A15: 3 | B15: Xã Bàu Hàm | C15: Hộ | D15: 88 | G15: 3 | K15: 13 | L15: 98
C16: Nhân khẩu | D16: 137 | G16: 5 | K16: 42 | L16: 174
A17: 4 | B17: Xã Bình An | C17: Hộ | D17: 14 | E17: 0 | F17: 0 | G17: 2 | H17: 0 | I17: 0 | J17: 0 | K17: 0 | L17: 12
C18: Nhân khẩu | D18: 20 | E18: 0 | F18: 0 | G18: 2 | H18: 0 | I18: 0 | J18: 0 | K18: 0 | L18: 18
A19: 5 | B19: Xã Bình Minh | C19: Hộ | D19: 26 | E19: 0 | F19: 5 | G19: 0 | H19: 0 | I19: 0 | J19: 0 | K19: 0 | L19: 21
C20: Nhân khẩu | D20: 42 | E20: 0 | F20: 6 | G20: 0 | H20: 0 | I20: 0 | J20: 0 | K20: 0 | L20: 36
A21: 6 | B21: Xã Bình Tân | C21: Hộ
C22: Nhân khẩu
A23: 7 | B23: Xã Bom Bo | C23: Hộ | D23: 12 | E23: 2 | F23: 7 | H23: 0 | I23: 0 | J23: 0 | L23: 3
C24: Nhân khẩu | D24: 46 | E24: 7 | F24: 30 | H24: 0 | I24: 0 | J24: 0 | L24: 9
A25: 8 | B25: Xã Bù Đăng | C25: Hộ | D25: 8 | E25: 0 | F25: 6 | H25: 0 | I25: 0 | J25: 0 | K25: 0 | L25: 2
C26: Nhân khẩu | D26: 32 | E26: 0 | F26: 30 | H26: 0 | I26: 0 | J26: 0 | K26: 0 | L26: 2
A27: 9 | B27: Xã Bù Gia Mập | C27: Hộ | D27: 97 | E27: 0 | F27: 0 | G27: 97 | H27: 0 | I27: 0 | J27: 200 | L27: 200
C28: Nhân khẩu | D28: 348 | E28: 0 | F28: 0 | G28: 348 | H28: 0 | I28: 0 | J28: 680 | L28: 680
A29: 10 | B29: Xã Cẩm Mỹ | C29: Hộ | D29: 23 | E29: 0 | F29: 0 | G29: 1 | H29: 0 | I29: 0 | J29: 0 | K29: 0 | L29: 22
C30: Nhân khẩu | D30: 34 | E30: 0 | F30: 0 | G30: 2 | H30: 0 | I30: 0 | J30: 0 | K30: 0 | L30: 32
A31: 11 | B31: Xã Dầu Giây | C31: Hộ | D31: 134 | F31: 16 | H31: 1 | J31: 5 | L31: 124
C32: Nhân khẩu | D32: 183 | F32: 19 | H32: 1 | J32: 8 | L32: 173
A33: 12 | B33: Xã Đa Kia | C33: Hộ | D33: 51 | E33: 15 | F33: 16 | G33: 0 | H33: 0 | I33: 0 | J33: 2 | K33: 0 | L33: 22
C34: Nhân khẩu | D34: 160 | E34: 57 | F34: 52 | G34: 2 | H34: 0 | I34: 0 | J34: 9 | K34: 0 | L34: 58
A35: 13 | B35: Xã Đại Phước | C35: Hộ | D35: 68 | E35: 0 | F35: 6 | G35: 1 | H35: 1 | I35: 0 | J35: 2 | K35: 0 | L35: 64
C36: Nhân khẩu | D36: 90 | E36: 0 | F36: 8 | G36: 1 | H36: 1 | I36: 0 | J36: 2 | K36: 0 | L36: 84
A37: 14 | B37: Xã Đak Lua | C37: Hộ | D37: 79 | E37: 0 | F37: 5 | H37: 0 | I37: 0 | J37: 2 | K37: 0 | L37: 76
C38: Nhân khẩu | D38: 128 | E38: 0 | F38: 7 | H38: 0 | I38: 0 | J38: 6 | K38: 0 | L38: 127
A39: 15 | B39: Xã Đak Nhau | C39: Hộ | D39: 40 | E39: 8 | F39: 16 | H39: 3 | I39: 1 | J39: 15 | L39: 35
C40: Nhân khẩu | D40: 156 | E40: 28 | F40: 56 | H40: 9 | I40: 7 | J40: 53 | L40: 141
A41: 16 | B41: Xã Đăk Ơ | C41: Hộ | D41: 112 | E41: 1 | G41: 15 | H41: 0 | L41: 96
C42: Nhân khẩu | D42: 414 | E42: 1 | G42: 53 | H42: 0 | L42: 360
A43: 17 | B43: Xã Định Quán | C43: Hộ | D43: 51 | G43: 6 | L43: 45
C44: Nhân khẩu | D44: 58 | G44: 6 | L44: 52
A45: 18 | B45: Xã Đồng Phú | C45: Hộ | D45: 1 | E45: 0 | F45: 0 | G45: 0 | H45: 0 | I45: 0 | J45: 0 | K45: 0 | L45: 1
C46: Nhân khẩu | D46: 4 | E46: 0 | F46: 0 | G46: 0 | H46: 0 | I46: 0 | J46: 0 | K46: 0 | L46: 4
A47: 19 | B47: Xã Đồng Tâm | C47: Hộ | D47: 5 | E47: 5 | F47: 0 | G47: 0 | H47: 0 | I47: 0 | J47: 0 | K47: 0 | L47: 0
C48: Nhân khẩu | D48: 13 | E48: 13 | F48: 0 | G48: 0 | H48: 0 | I48: 0 | J48: 0 | K48: 0 | L48: 0
A49: 20 | B49: Xã Gia Kiệm | C49: Hộ | D49: 180 | E49: 0 | F49: 0 | G49: 9 | H49: 7 | I49: 0 | J49: 4 | K49: 7 | L49: 189
C50: Nhân khẩu | D50: 276 | E50: 0 | F50: 0 | G50: 10 | H50: 7 | I50: 0 | J50: 4 | K50: 15 | L50: 292
A51: 21 | B51: Xã Hưng Phước | C51: Hộ | D51: 19 | E51: 2 | F51: 11 | G51: 0 | H51: 0 | I51: 0 | J51: 0 | K51: 0 | L51: 6
C52: Nhân khẩu | D52: 56 | E52: 7 | F52: 42 | G52: 0 | H52: 0 | I52: 0 | J52: 0 | K52: 0 | L52: 7
A53: 22 | B53: Xã Hưng Thịnh | C53: Hộ | D53: 41 | E53: 0 | F53: 1 | H53: 0 | L53: 40
C54: Nhân khẩu | D54: 41 | E54: 0 | F54: 1 | H54: 0 | L54: 40
A55: 23 | B55: Xã La Ngà | C55: Hộ | D55: 16 | E55: 2 | F55: 0 | G55: 0 | H55: 0 | I55: 0 | J55: 0 | K55: 0 | L55: 14
C56: Nhân khẩu | D56: 17 | E56: 2 | F56: 0 | G56: 0 | H56: 0 | I56: 0 | J56: 0 | K56: 0 | L56: 15
A57: 24 | B57: Xã Long Hà | C57: Hộ | L57: 0
C58: Nhân khẩu | L58: 0
A59: 25 | B59: Xã Long Phước | C59: Hộ | D59: 27 | E59: 0 | F59: 0 | G59: 0 | H59: 0 | I59: 0 | J59: 0 | K59: 0 | L59: 27
C60: Nhân khẩu | D60: 43 | L60: 43
A61: 26 | B61: Xã Long Thành | C61: Hộ | D61: 63 | E61: 7 | F61: 4 | H61: 3 | J61: 14 | L61: 69
C62: Nhân khẩu | D62: 97 | E62: 5 | F62: 8 | G62: 0 | H62: 7 | J62: 15 | K62: 0 | L62: 106
A63: 27 | B63: Xã Lộc Hưng | C63: Hộ | L63: 0
C64: Nhân khẩu | L64: 0
A65: 28 | B65: Xã Lộc Ninh | C65: Hộ | L65: 0
C66: Nhân khẩu | L66: 0
A67: 29 | B67: Xã Lộc Quang | C67: Hộ | D67: 0 | E67: 0 | F67: 0 | G67: 0 | H67: 5 | I67: 0 | J67: 30 | K67: 0 | L67: 35
C68: Nhân khẩu | D68: 0 | E68: 0 | F68: 0 | G68: 0 | H68: 18 | I68: 0 | J68: 97 | K68: 0 | L68: 115
A69: 30 | B69: Xã Lộc Tấn | C69: Hộ | D69: 0 | E69: 0 | F69: 0 | G69: 0 | H69: 16 | I69: 3 | J69: 157 | L69: 176
C70: Nhân khẩu | D70: 0 | E70: 0 | F70: 0 | G70: 0 | H70: 52 | I70: 13 | J70: 526 | L70: 591
A71: 31 | B71: Xã Lộc Thành | C71: Hộ | D71: 0 | E71: 0 | F71: 0 | G71: 0 | H71: 0 | I71: 0 | J71: 50 | K71: 0 | L71: 50
C72: Nhân khẩu | D72: 0 | E72: 0 | F72: 0 | G72: 0 | H72: 0 | I72: 0 | J72: 161 | K72: 0 | L72: 161
A73: 32 | B73: Xã Lộc Thạnh | C73: Hộ | D73: 0 | E73: 0 | F73: 0 | H73: 3 | I73: 0 | J73: 53 | L73: 56
C74: Nhân khẩu | D74: 0 | E74: 0 | F74: 0 | H74: 7 | I74: 0 | J74: 208 | L74: 215
A75: 33 | B75: Xã Minh Đức | C75: Hộ | D75: 14 | E75: 0 | F75: 10 | G75: 0 | H75: 0 | I75: 0 | J75: 1 | K75: 0 | L75: 5
C76: Nhân khẩu | D76: 30 | E76: 0 | F76: 19 | G76: 0 | H76: 0 | I76: 0 | J76: 2 | K76: 0 | L76: 13
A77: 34 | B77: Xã Nam Cát Tiên | C77: Hộ | D77: 119 | E77: 3 | F77: 1 | G77: 21 | H77: 0 | I77: 0 | J77: 14 | K77: 0 | L77: 108
C78: Nhân khẩu | D78: 197 | E78: 6 | F78: 1 | G78: 73 | H78: 0 | I78: 0 | J78: 38 | K78: 0 | L78: 155
A79: 35 | B79: Xã Nghĩa Trung | C79: Hộ | D79: 12 | F79: 3 | L79: 9
C80: Nhân khẩu | D80: 28 | F80: 11 | L80: 17
A81: 36 | B81: Xã Nha Bích | C81: Hộ | L81: 0
C82: Nhân khẩu | L82: 0
A83: 37 | B83: Xã Nhơn Trạch | C83: Hộ | D83: 134 | E83: 0 | F83: 33 | G83: 10 | H83: 0 | I83: 0 | J83: 17 | K83: 10 | L83: 118
C84: Nhân khẩu | D84: 152 | E84: 0 | F84: 35 | G84: 46 | H84: 0 | I84: 0 | J84: 72 | K84: 46 | L84: 189
A85: 38 | B85: Xã Phú Hòa | C85: Hộ | D85: 18 | E85: 1 | G85: 1 | J85: 1 | K85: 29 | L85: 46
C86: Nhân khẩu | D86: 36 | E86: 5 | G86: 1 | J86: 1 | K86: 37 | L86: 68
A87: 39 | B87: Xã Phú Lâm | C87: Hộ | L87: 0
C88: Nhân khẩu | L88: 0
A89: 40 | B89: Xã Phú Lý | C89: Hộ | L89: 0
C90: Nhân khẩu | L90: 0
A91: 41 | B91: Xã Phú Nghĩa | C91: Hộ | D91: 54 | E91: 1 | F91: 22 | G91: 2 | H91: 0 | I91: 0 | J91: 0 | K91: 0 | L91: 29
C92: Nhân khẩu | D92: 145 | E92: 5 | F92: 86 | G92: 4 | H92: 0 | I92: 0 | J92: 0 | K92: 0 | L92: 50
A93: 42 | B93: Xã Phú Riềng | C93: Hộ | D93: 1 | E93: 0 | F93: 0 | G93: 0 | H93: 0 | I93: 0 | J93: 0 | K93: 0 | L93: 1
C94: Nhân khẩu | D94: 4 | E94: 0 | F94: 0 | G94: 0 | H94: 0 | I94: 0 | J94: 0 | K94: 0 | L94: 4
A95: 43 | B95: Xã Phú Trung | C95: Hộ | D95: 2 | E95: 0 | F95: 2 | H95: 0 | I95: 0 | J95: 0 | K95: 0 | L95: 0
C96: Nhân khẩu | D96: 6 | E96: 0 | F96: 6 | H96: 0 | I96: 0 | J96: 0 | K96: 0 | L96: 0
A97: 44 | B97: Xã Phú Vinh | C97: Hộ | D97: 24 | E97: 0 | F97: 0 | G97: 0 | H97: 0 | I97: 0 | J97: 0 | K97: 0 | L97: 24
C98: Nhân khẩu | D98: 32 | E98: 0 | F98: 0 | G98: 0 | H98: 0 | I98: 0 | J98: 0 | K98: 0 | L98: 32
A99: 45 | B99: Xã Phước An | C99: Hộ | D99: 88 | E99: 0 | F99: 0 | G99: 25 | H99: 0 | I99: 0 | J99: 0 | K99: 0 | L99: 63
C100: Nhân khẩu | D100: 114 | E100: 0 | F100: 0 | G100: 33 | H100: 0 | I100: 0 | J100: 0 | K100: 0 | L100: 81
A101: 46 | B101: Xã Phước Sơn | C101: Hộ | D101: 38 | E101: 23 | F101: 2 | L101: 13
C102: Nhân khẩu | D102: 127 | E102: 95 | F102: 3 | L102: 29
...

Sheet 2B
A1: PHỤ LỤC 2B
A2: TỔNG HỢP DIỄN BIẾN HỘ NGHÈO CHUẨN TỈNH TRONG NĂM 2025
A4: TT | B4: Khu vực/Địa bàn | C4: Phân tổ | D4: Tổng số hộ nghèo đầu năm 2025 | E4: Diễn biến giảm số hộ nghèo | H4: Diễn biến tăng số hộ nghèo | L4: Tổng số hộ nghèo cuối năm 2025
E5: Số hộ thoát nghèo | G5: Nguyên nhân: thay đổi nhân khẩu, hộ nghèo đơn thân chết đi, chuyển đi nơi khác, tách, nhập với hộ khác,… | H5: Số hộ cận nghèo trở thành hộ nghèo | I5: Số hộ ngoài danh sách hộ nghèo, hộ cận nghèo gặp khó khăn đột xuất trong năm | K5: Nguyên nhân: thay đổi nhân khẩu, chuyển đến, tách, nhập với hộ khác,...
E7: Trở thành hộ cận nghèo | F7: Vượt chuẩn cận nghèo | I7: Tái nghèo | J7: Phát sinh mới
A8: A | B8: B | C8: C | D8: 1 | E8: 2 | F8: 3 | G8: 4 | H8: 5 | I8: 6 | J8: 7 | K8: 8 | L8: 9
A9: I | B9: Khu vực nông thôn | C9: Hộ | D9: =D11+D13+D15+D17+D19+D21+D23+D25+D27+D29+D31+D33+D35+D37+D39+D41+D43+D45+D47+D49+D51+D53+D55+D57+D59+D61+D63+D65+D67+D69+D71+D73+D75+D77+D79+D81+D83+D85+D87+D89+D91+D93+D95+D97+D99+D101+D103+D105+D107+D109+D111+D113+D115+D117+D119+D121+D123+D125+D127+D129+D131+D133+D135+D137+D139+D141+D143+D145+D147+D149+D151+D153 -> 1456 | E9: =E11+E13+E15+E17+E19+E21+E23+E25+E27+E29+E31+E33+E35+E37+E39+E41+E43+E45+E47+E49+E51+E53+E55+E57+E59+E61+E63+E65+E67+E69+E71+E73+E75+E77+E79+E81+E83+E85+E87+E89+E91+E93+E95+E97+E99+E101+E103+E105+E107+E109+E111+E113+E115+E117+E119+E121+E123+E125+E127+E129+E131+E133+E135+E137+E139+E141+E143+E145+E147+E149+E151+E153 -> 263 | F9: =F11+F13+F15+F17+F19+F21+F23+F25+F27+F29+F31+F33+F35+F37+F39+F41+F43+F45+F47+F49+F51+F53+F55+F57+F59+F61+F63+F65+F67+F69+F71+F73+F75+F77+F79+F81+F83+F85+F87+F89+F91+F93+F95+F97+F99+F101+F103+F105+F107+F109+F111+F113+F115+F117+F119+F121+F123+F125+F127+F129+F131+F133+F135+F137+F139+F141+F143+F145+F147+F149+F151+F153 -> 248 | G9: =G11+G13+G15+G17+G19+G21+G23+G25+G27+G29+G31+G33+G35+G37+G39+G41+G43+G45+G47+G49+G51+G53+G55+G57+G59+G61+G63+G65+G67+G69+G71+G73+G75+G77+G79+G81+G83+G85+G87+G89+G91+G93+G95+G97+G99+G101+G103+G105+G107+G109+G111+G113+G115+G117+G119+G121+G123+G125+G127+G129+G131+G133+G135+G137+G139+G141+G143+G145+G147+G149+G151+G153 -> 91 | H9: =H11+H13+H15+H17+H19+H21+H23+H25+H27+H29+H31+H33+H35+H37+H39+H41+H43+H45+H47+H49+H51+H53+H55+H57+H59+H61+H63+H65+H67+H69+H71+H73+H75+H77+H79+H81+H83+H85+H87+H89+H91+H93+H95+H97+H99+H101+H103+H105+H107+H109+H111+H113+H115+H117+H119+H121+H123+H125+H127+H129+H131+H133+H135+H137+H139+H141+H143+H145+H147+H149+H151+H153 -> 25 | I9: =I11+I13+I15+I17+I19+I21+I23+I25+I27+I29+I31+I33+I35+I37+I39+I41+I43+I45+I47+I49+I51+I53+I55+I57+I59+I61+I63+I65+I67+I69+I71+I73+I75+I77+I79+I81+I83+I85+I87+I89+I91+I93+I95+I97+I99+I101+I103+I105+I107+I109+I111+I113+I115+I117+I119+I121+I123+I125+I127+I129+I131+I133+I135+I137+I139+I141+I143+I145+I147+I149+I151+I153 -> 7 | J9: =J11+J13+J15+J17+J19+J21+J23+J25+J27+J29+J31+J33+J35+J37+J39+J41+J43+J45+J47+J49+J51+J53+J55+J57+J59+J61+J63+J65+J67+J69+J71+J73+J75+J77+J79+J81+J83+J85+J87+J89+J91+J93+J95+J97+J99+J101+J103+J105+J107+J109+J111+J113+J115+J117+J119+J121+J123+J125+J127+J129+J131+J133+J135+J137+J139+J141+J143+J145+J147+J149+J151+J153 -> 90 | K9: =K11+K13+K15+K17+K19+K21+K23+K25+K27+K29+K31+K33+K35+K37+K39+K41+K43+K45+K47+K49+K51+K53+K55+K57+K59+K61+K63+K65+K67+K69+K71+K73+K75+K77+K79+K81+K83+K85+K87+K89+K91+K93+K95+K97+K99+K101+K103+K105+K107+K109+K111+K113+K115+K117+K119+K121+K123+K125+K127+K129+K131+K133+K135+K137+K139+K141+K143+K145+K147+K149+K151+K153 -> 47 | L9: =L11+L13+L15+L17+L19+L21+L23+L25+L27+L29+L31+L33+L35+L37+L39+L41+L43+L45+L47+L49+L51+L53+L55+L57+L59+L61+L63+L65+L67+L69+L71+L73+L75+L77+L79+L81+L83+L85+L87+L89+L91+L93+L95+L97+L99+L101+L103+L105+L107+L109+L111+L113+L115+L117+L119+L121+L123+L125+L127+L129+L131+L133+L135+L137+L139+L141+L143+L145+L147+L149+L151+L153 -> 1023
C10: Nhân khẩu | D10: =D12+D14+D16+D18+D20+D22+D24+D26+D28+D30+D32+D34+D36+D38+D40+D42+D44+D46+D48+D50+D52+D54+D56+D58+D60+D62+D64+D66+D68+D70+D72+D74+D76+D78+D80+D82+D84+D86+D88+D90+D92+D94+D96+D98+D100+D102+D104+D106+D108+D110+D112+D114+D116+D118+D120+D122+D124+D126+D128+D130+D132+D134+D136+D138+D140+D142+D144+D146+D148+D150+D152+D154 -> 4523 | E10: =E12+E14+E16+E18+E20+E22+E24+E26+E28+E30+E32+E34+E36+E38+E40+E42+E44+E46+E48+E50+E52+E54+E56+E58+E60+E62+E64+E66+E68+E70+E72+E74+E76+E78+E80+E82+E84+E86+E88+E90+E92+E94+E96+E98+E100+E102+E104+E106+E108+E110+E112+E114+E116+E118+E120+E122+E124+E126+E128+E130+E132+E134+E136+E138+E140+E142+E144+E146+E148+E150+E152+E154 -> 1088 | F10: =F12+F14+F16+F18+F20+F22+F24+F26+F28+F30+F32+F34+F36+F38+F40+F42+F44+F46+F48+F50+F52+F54+F56+F58+F60+F62+F64+F66+F68+F70+F72+F74+F76+F78+F80+F82+F84+F86+F88+F90+F92+F94+F96+F98+F100+F102+F104+F106+F108+F110+F112+F114+F116+F118+F120+F122+F124+F126+F128+F130+F132+F134+F136+F138+F140+F142+F144+F146+F148+F150+F152+F154 -> 768 | G10: =G12+G14+G16+G18+G20+G22+G24+G26+G28+G30+G32+G34+G36+G38+G40+G42+G44+G46+G48+G50+G52+G54+G56+G58+G60+G62+G64+G66+G68+G70+G72+G74+G76+G78+G80+G82+G84+G86+G88+G90+G92+G94+G96+G98+G100+G102+G104+G106+G108+G110+G112+G114+G116+G118+G120+G122+G124+G126+G128+G130+G132+G134+G136+G138+G140+G142+G144+G146+G148+G150+G152+G154 -> 219 | H10: =H12+H14+H16+H18+H20+H22+H24+H26+H28+H30+H32+H34+H36+H38+H40+H42+H44+H46+H48+H50+H52+H54+H56+H58+H60+H62+H64+H66+H68+H70+H72+H74+H76+H78+H80+H82+H84+H86+H88+H90+H92+H94+H96+H98+H100+H102+H104+H106+H108+H110+H112+H114+H116+H118+H120+H122+H124+H126+H128+H130+H132+H134+H136+H138+H140+H142+H144+H146+H148+H150+H152+H154 -> 96 | I10: =I12+I14+I16+I18+I20+I22+I24+I26+I28+I30+I32+I34+I36+I38+I40+I42+I44+I46+I48+I50+I52+I54+I56+I58+I60+I62+I64+I66+I68+I70+I72+I74+I76+I78+I80+I82+I84+I86+I88+I90+I92+I94+I96+I98+I100+I102+I104+I106+I108+I110+I112+I114+I116+I118+I120+I122+I124+I126+I128+I130+I132+I134+I136+I138+I140+I142+I144+I146+I148+I150+I152+I154 -> 7 | J10: =J12+J14+J16+J18+J20+J22+J24+J26+J28+J30+J32+J34+J36+J38+J40+J42+J44+J46+J48+J50+J52+J54+J56+J58+J60+J62+J64+J66+J68+J70+J72+J74+J76+J78+J80+J82+J84+J86+J88+J90+J92+J94+J96+J98+J100+J102+J104+J106+J108+J110+J112+J114+J116+J118+J120+J122+J124+J126+J128+J130+J132+J134+J136+J138+J140+J142+J144+J146+J148+J150+J152+J154 -> 294 | K10: =K12+K14+K16+K18+K20+K22+K24+K26+K28+K30+K32+K34+K36+K38+K40+K42+K44+K46+K48+K50+K52+K54+K56+K58+K60+K62+K64+K66+K68+K70+K72+K74+K76+K78+K80+K82+K84+K86+K88+K90+K92+K94+K96+K98+K100+K102+K104+K106+K108+K110+K112+K114+K116+K118+K120+K122+K124+K126+K128+K130+K132+K134+K136+K138+K140+K142+K144+K146+K148+K150+K152+K154 -> 89 | L10: =L12+L14+L16+L18+L20+L22+L24+L26+L28+L30+L32+L34+L36+L38+L40+L42+L44+L46+L48+L50+L52+L54+L56+L58+L60+L62+L64+L66+L68+L70+L72+L74+L76+L78+L80+L82+L84+L86+L88+L90+L92+L94+L96+L98+L100+L102+L104+L106+L108+L110+L112+L114+L116+L118+L120+L122+L124+L126+L128+L130+L132+L134+L136+L138+L140+L142+L144+L146+L148+L150+L152+L154 -> 2934
A11: 1 | B11: Xã An Phước | C11: Hộ | D11: 18 | E11: 0 | F11: 0 | G11: 0 | H11: 0 | I11: 0 | J11: 0 | K11: 0 | L11: 18
C12: Nhân khẩu | D12: 65 | E12: 0 | F12: 0 | G12: 0 | H12: 0 | I12: 0 | J12: 0 | K12: 0 | L12: 65
A13: 2 | B13: Xã An Viễn | C13: Hộ | D13: 14 | E13: 4 | F13: 3 | L13: 7
C14: Nhân khẩu | D14: 69 | E14: 15 | F14: 17 | G14: 2 | L14: 35
A15: 3 | B15: Xã Bàu Hàm | C15: Hộ | D15: 26 | G15: 15 | L15: 11
C16: Nhân khẩu | D16: 112 | G16: 58 | L16: 54
A17: 4 | B17: Xã Bình An | C17: Hộ | D17: 23 | E17: 7 | F17: 7 | G17: 0 | H17: 0 | I17: 0 | J17: 0 | K17: 0 | L17: 9
C18: Nhân khẩu | D18: 68 | E18: 22 | F18: 18 | G18: 0 | H18: 0 | I18: 0 | J18: 6 | K18: 0 | L18: 34
A19: 5 | B19: Xã Bình Minh | C19: Hộ | D19: 54 | E19: 22 | F19: 11 | H19: 0 | I19: 0 | J19: 1 | L19: 22
C20: Nhân khẩu | D20: 233 | E20: 107 | F20: 42 | H20: 0 | I20: 0 | J20: 7 | L20: 91
A21: 6 | B21: Xã Bình Tân | C21: Hộ | L21: 0
C22: Nhân khẩu | L22: 0
A23: 7 | B23: Xã Bom Bo | C23: Hộ | L23: 0
C24: Nhân khẩu | L24: 0
A25: 8 | B25: Xã Bù Đăng | C25: Hộ | L25: 0
C26: Nhân khẩu | L26: 0
A27: 9 | B27: Xã Bù Gia Mập | C27: Hộ | L27: 0
C28: Nhân khẩu | L28: 0
A29: 10 | B29: Xã Cẩm Mỹ | C29: Hộ | L29: 0
C30: Nhân khẩu | L30: 0
A31: 11 | B31: Xã Dầu Giây | C31: Hộ | D31: 31 | E31: 3 | F31: 2 | G31: 1 | H31: 1 | L31: 26
C32: Nhân khẩu | D32: 151 | E32: 14 | F32: 6 | G32: 1 | H32: 4 | L32: 134
A33: 12 | B33: Xã Đa Kia | C33: Hộ | D33: 0 | L33: 0
C34: Nhân khẩu | D34: 0 | L34: 0
A35: 13 | B35: Xã Đại Phước | C35: Hộ | D35: 108 | E35: 0 | F35: 65 | G35: 0 | H35: 0 | I35: 0 | J35: 2 | K35: 0 | L35: 45
C36: Nhân khẩu | D36: 439 | E36: 0 | F36: 206 | G36: 0 | H36: 0 | I36: 0 | J36: 7 | K36: 0 | L36: 240
A37: 14 | B37: Xã Đak Lua | C37: Hộ | D37: 4 | E37: 0 | F37: 1 | G37: 0 | H37: 0 | I37: 0 | J37: 0 | K37: 0 | L37: 3
C38: Nhân khẩu | D38: 21 | E38: 0 | F38: 5 | G38: 0 | H38: 0 | I38: 0 | J38: 0 | K38: 0 | L38: 16
A39: 15 | B39: Xã Đak Nhau | C39: Hộ | L39: 0
C40: Nhân khẩu | L40: 0
A41: 16 | B41: Xã Đăk Ơ | C41: Hộ | L41: 0
C42: Nhân khẩu | L42: 0
A43: 17 | B43: Xã Định Quán | C43: Hộ | D43: 9 | E43: 3 | F43: 2 | L43: 4
C44: Nhân khẩu | D44: 37 | E44: 12 | F44: 9 | L44: 16
A45: 18 | B45: Xã Đồng Phú | C45: Hộ | L45: 0
C46: Nhân khẩu | L46: 0
A47: 19 | B47: Xã Đồng Tâm | C47: Hộ | L47: 0
C48: Nhân khẩu | L48: 0
A49: 20 | B49: Xã Gia Kiệm | C49: Hộ | D49: 35 | E49: 15 | F49: 5 | G49: 1 | H49: 0 | I49: 0 | J49: 0 | K49: 0 | L49: 14
C50: Nhân khẩu | D50: 144 | E50: 60 | F50: 13 | G50: 4 | H50: 0 | I50: 0 | J50: 0 | K50: 0 | L50: 67
A51: 21 | B51: Xã Hưng Phước | C51: Hộ | L51: 0
C52: Nhân khẩu | L52: 0
A53: 22 | B53: Xã Hưng Thịnh | C53: Hộ | D53: 24 | E53: 11 | F53: 1 | H53: 0 | I53: 0 | J53: 0 | L53: 12
C54: Nhân khẩu | D54: 24 | E54: 11 | F54: 1 | H54: 0 | I54: 0 | J54: 0 | L54: 12
A55: 23 | B55: Xã La Ngà | C55: Hộ | D55: 5 | E55: 0 | F55: 0 | G55: 0 | H55: 1 | I55: 0 | J55: 0 | K55: 0 | L55: 6
C56: Nhân khẩu | D56: 19 | E56: 0 | F56: 0 | G56: 0 | H56: 3 | I56: 0 | J56: 0 | K56: 1 | L56: 23
A57: 24 | B57: Xã Long Hà | C57: Hộ | L57: 0
C58: Nhân khẩu | L58: 0
A59: 25 | B59: Xã Long Phước | C59: Hộ | D59: 27 | G59: 21 | L59: 6
C60: Nhân khẩu | D60: 77 | G60: 46 | L60: 31
A61: 26 | B61: Xã Long Thành | C61: Hộ | D61: 14 | E61: 4 | F61: 5 | G61: 2 | H61: 0 | J61: 6 | L61: 9
C62: Nhân khẩu | D62: 51 | E62: 10 | F62: 18 | G62: 2 | H62: 0 | J62: 9 | K62: 2 | L62: 32
A63: 27 | B63: Xã Lộc Hưng | C63: Hộ | L63: 0
C64: Nhân khẩu | L64: 0
A65: 28 | B65: Xã Lộc Ninh | C65: Hộ | L65: 0
C66: Nhân khẩu | L66: 0
A67: 29 | B67: Xã Lộc Quang | C67: Hộ | L67: 0
C68: Nhân khẩu | L68: 0
A69: 30 | B69: Xã Lộc Tấn | C69: Hộ | L69: 0
C70: Nhân khẩu | L70: 0
A71: 31 | B71: Xã Lộc Thành | C71: Hộ | L71: 0
C72: Nhân khẩu | L72: 0
A73: 32 | B73: Xã Lộc Thạnh | C73: Hộ | L73: 0
C74: Nhân khẩu | L74: 0
A75: 33 | B75: Xã Minh Đức | C75: Hộ | L75: 0
C76: Nhân khẩu | L76: 0
A77: 34 | B77: Xã Nam Cát Tiên | C77: Hộ | D77: 8 | E77: 8 | F77: 0 | G77: 0 | H77: 0 | I77: 0 | J77: 0 | K77: 0 | L77: 0
C78: Nhân khẩu | D78: 30 | E78: 30 | F78: 0 | G78: 0 | H78: 0 | I78: 0 | J78: 0 | K78: 0 | L78: 0
A79: 35 | B79: Xã Nghĩa Trung | C79: Hộ | D79: 0 | L79: 0
C80: Nhân khẩu | D80: 0 | L80: 0
A81: 36 | B81: Xã Nha Bích | C81: Hộ | D81: 0 | L81: 0
C82: Nhân khẩu | D82: 0 | L82: 0
A83: 37 | B83: Xã Nhơn Trạch | C83: Hộ | D83: 56 | E83: 25 | F83: 25 | G83: 0 | H83: 2 | I83: 7 | J83: 18 | K83: 0 | L83: 33
C84: Nhân khẩu | D84: 241 | E84: 132 | F84: 93 | G84: 0 | H84: 8 | I84: 7 | J84: 24 | K84: 0 | L84: 55
A85: 38 | B85: Xã Phú Hòa | C85: Hộ | D85: 40 | G85: 29 | J85: 2 | L85: 13
C86: Nhân khẩu | D86: 85 | G86: 38 | J86: 9 | L86: 56
A87: 39 | B87: Xã Phú Lâm | C87: Hộ | D87: 119 | E87: 9 | F87: 1 | G87: 11 | H87: 2 | I87: 0 | J87: 8 | K87: 45 | L87: 153
C88: Nhân khẩu | D88: 264 | E88: 24 | F88: 10 | G88: 24 | H88: 6 | I88: 0 | J88: 30 | K88: 52 | L88: 294
A89: 40 | B89: Xã Phú Lý | C89: Hộ | D89: 41 | E89: 0 | F89: 8 | G89: 0 | H89: 0 | I89: 0 | J89: 0 | K89: 0 | L89: 33
C90: Nhân khẩu | D90: 57 | E90: 0 | F90: 11 | G90: 0 | H90: 0 | I90: 0 | J90: 0 | K90: 0 | L90: 46
A91: 41 | B91: Xã Phú Nghĩa | C91: Hộ | D91: 0 | L91: 0
C92: Nhân khẩu | D92: 0 | L92: 0
A93: 42 | B93: Xã Phú Riềng | C93: Hộ | D93: 0 | L93: 0
C94: Nhân khẩu | D94: 0 | L94: 0
A95: 43 | B95: Xã Phú Trung | C95: Hộ | D95: 0 | L95: 0
C96: Nhân khẩu | D96: 0 | L96: 0
A97: 44 | B97: Xã Phú Vinh | C97: Hộ | D97: 7 | E97: 1 | F97: 0 | G97: 1 | H97: 1 | I97: 0 | J97: 0 | K97: 0 | L97: 6
C98: Nhân khẩu | D98: 33 | E98: 6 | F98: 0 | G98: 7 | H98: 7 | I98: 0 | J98: 0 | K98: 0 | L98: 27
A99: 45 | B99: Xã Phước An | C99: Hộ | D99: 68 | E99: 0 | F99: 0 | G99: 6 | H99: 0 | I99: 0 | J99: 0 | K99: 0 | L99: 62
C100: Nhân khẩu | D100: 99 | E100: 0 | F100: 0 | G100: 6 | H100: 0 | I100: 0 | J100: 0 | K100: 21 | L100: 114
A101: 46 | B101: Xã Phước Sơn | C101: Hộ | D101: 0 | L101: 0
C102: Nhân khẩu | D102: 0 | L102: 0
...

Sheet 3A
A1: PHỤ LỤC 3A
A2: TỔNG HỢP DIỄN BIẾN HỘ CẬN NGHÈO CHUẨN TRUNG ƯƠNG TRONG NĂM 2025
A4: TT | B4: Khu vực/Địa bàn | C4: Phân tổ | D4: Tổng số hộ cận nghèo đầu năm 2025 | E4: Diễn biến giảm số hộ cận nghèo | H4: Diễn biến tăng số hộ cận nghèo | L4: Tổng số hộ cận nghèo cuối năm 2025
E5: Số hộ thoát cận nghèo | F5: Số hộ cận nghèo trở thành hộ nghèo | G5: Nguyên nhân: thay đổi nhân khẩu, hộ đơn thân chết đi, chuyển đi nơi khác, tách, nhập với hộ khác,... | H5: Số hộ nghèo trở thành hộ cận nghèo | I5: Số hộ ngoài danh sách hộ nghèo, hộ cận nghèo gặp khó khăn đột xuất trong năm | K5: Nguyên nhân: thay đổi nhân khẩu, chuyển đến, tách, nhập với hộ khác,...
I6: Tái cận nghèo | J6: Phát sinh mới
A7: A | B7: B | C7: C | D7: 1 | E7: 2 | F7: 3 | G7: 4 | H7: 5 | I7: 6 | J7: 7 | K7: 8 | L7: 9
A8: I | B8: Khu vực nông thôn | C8: Hộ | D8: =D10+D12+D14+D16+D18+D20+D22+D24+D26+D28+D30+D32+D34+D36+D38+D40+D42+D44+D46+D48+D50+D52+D54+D56+D58+D60+D62+D64+D66+D68+D70+D72+D74+D76+D78+D80+D82+D84+D86+D88+D90+D92+D94+D96+D98+D100+D102+D104+D106+D108+D110+D112+D114+D116+D118+D120+D122+D124+D126+D128+D130+D132+D134+D136+D138+D140+D142+D144+D146+D148+D150+D152 -> 1820 | E8: =E10+E12+E14+E16+E18+E20+E22+E24+E26+E28+E30+E32+E34+E36+E38+E40+E42+E44+E46+E48+E50+E52+E54+E56+E58+E60+E62+E64+E66+E68+E70+E72+E74+E76+E78+E80+E82+E84+E86+E88+E90+E92+E94+E96+E98+E100+E102+E104+E106+E108+E110+E112+E114+E116+E118+E120+E122+E124+E126+E128+E130+E132+E134+E136+E138+E140+E142+E144+E146+E148+E150+E152 -> 691 | F8: =F10+F12+F14+F16+F18+F20+F22+F24+F26+F28+F30+F32+F34+F36+F38+F40+F42+F44+F46+F48+F50+F52+F54+F56+F58+F60+F62+F64+F66+F68+F70+F72+F74+F76+F78+F80+F82+F84+F86+F88+F90+F92+F94+F96+F98+F100+F102+F104+F106+F108+F110+F112+F114+F116+F118+F120+F122+F124+F126+F128+F130+F132+F134+F136+F138+F140+F142+F144+F146+F148+F150+F152 -> 44 | G8: =G10+G12+G14+G16+G18+G20+G22+G24+G26+G28+G30+G32+G34+G36+G38+G40+G42+G44+G46+G48+G50+G52+G54+G56+G58+G60+G62+G64+G66+G68+G70+G72+G74+G76+G78+G80+G82+G84+G86+G88+G90+G92+G94+G96+G98+G100+G102+G104+G106+G108+G110+G112+G114+G116+G118+G120+G122+G124+G126+G128+G130+G132+G134+G136+G138+G140+G142+G144+G146+G148+G150+G152 -> 68 | H8: =H10+H12+H14+H16+H18+H20+H22+H24+H26+H28+H30+H32+H34+H36+H38+H40+H42+H44+H46+H48+H50+H52+H54+H56+H58+H60+H62+H64+H66+H68+H70+H72+H74+H76+H78+H80+H82+H84+H86+H88+H90+H92+H94+H96+H98+H100+H102+H104+H106+H108+H110+H112+H114+H116+H118+H120+H122+H124+H126+H128+H130+H132+H134+H136+H138+H140+H142+H144+H146+H148+H150+H152 -> 121 | I8: =I10+I12+I14+I16+I18+I20+I22+I24+I26+I28+I30+I32+I34+I36+I38+I40+I42+I44+I46+I48+I50+I52+I54+I56+I58+I60+I62+I64+I66+I68+I70+I72+I74+I76+I78+I80+I82+I84+I86+I88+I90+I92+I94+I96+I98+I100+I102+I104+I106+I108+I110+I112+I114+I116+I118+I120+I122+I124+I126+I128+I130+I132+I134+I136+I138+I140+I142+I144+I146+I148+I150+I152 -> 53 | J8: =J10+J12+J14+J16+J18+J20+J22+J24+J26+J28+J30+J32+J34+J36+J38+J40+J42+J44+J46+J48+J50+J52+J54+J56+J58+J60+J62+J64+J66+J68+J70+J72+J74+J76+J78+J80+J82+J84+J86+J88+J90+J92+J94+J96+J98+J100+J102+J104+J106+J108+J110+J112+J114+J116+J118+J120+J122+J124+J126+J128+J130+J132+J134+J136+J138+J140+J142+J144+J146+J148+J150+J152 -> 693 | K8: =K10+K12+K14+K16+K18+K20+K22+K24+K26+K28+K30+K32+K34+K36+K38+K40+K42+K44+K46+K48+K50+K52+K54+K56+K58+K60+K62+K64+K66+K68+K70+K72+K74+K76+K78+K80+K82+K84+K86+K88+K90+K92+K94+K96+K98+K100+K102+K104+K106+K108+K110+K112+K114+K116+K118+K120+K122+K124+K126+K128+K130+K132+K134+K136+K138+K140+K142+K144+K146+K148+K150+K152 -> 22 | L8: =L10+L12+L14+L16+L18+L20+L22+L24+L26+L28+L30+L32+L34+L36+L38+L40+L42+L44+L46+L48+L50+L52+L54+L56+L58+L60+L62+L64+L66+L68+L70+L72+L74+L76+L78+L80+L82+L84+L86+L88+L90+L92+L94+L96+L98+L100+L102+L104+L106+L108+L110+L112+L114+L116+L118+L120+L122+L124+L126+L128+L130+L132+L134+L136+L138+L140+L142+L144+L146+L148+L150+L152 -> 1906
C9: Nhân khẩu | D9: =D11+D13+D15+D17+D19+D21+D23+D25+D27+D29+D31+D33+D35+D37+D39+D41+D43+D45+D47+D49+D51+D53+D55+D57+D59+D61+D63+D65+D67+D69+D71+D73+D75+D77+D79+D81+D83+D85+D87+D89+D91+D93+D95+D97+D99+D101+D103+D105+D107+D109+D111+D113+D115+D117+D119+D121+D123+D125+D127+D129+D131+D133+D135+D137+D139+D141+D143+D145+D147+D149+D151+D153 -> 6622 | E9: =E11+E13+E15+E17+E19+E21+E23+E25+E27+E29+E31+E33+E35+E37+E39+E41+E43+E45+E47+E49+E51+E53+E55+E57+E59+E61+E63+E65+E67+E69+E71+E73+E75+E77+E79+E81+E83+E85+E87+E89+E91+E93+E95+E97+E99+E101+E103+E105+E107+E109+E111+E113+E115+E117+E119+E121+E123+E125+E127+E129+E131+E133+E135+E137+E139+E141+E143+E145+E147+E149+E151+E153 -> 2465 | F9: =F11+F13+F15+F17+F19+F21+F23+F25+F27+F29+F31+F33+F35+F37+F39+F41+F43+F45+F47+F49+F51+F53+F55+F57+F59+F61+F63+F65+F67+F69+F71+F73+F75+F77+F79+F81+F83+F85+F87+F89+F91+F93+F95+F97+F99+F101+F103+F105+F107+F109+F111+F113+F115+F117+F119+F121+F123+F125+F127+F129+F131+F133+F135+F137+F139+F141+F143+F145+F147+F149+F151+F153 -> 120 | G9: =G11+G13+G15+G17+G19+G21+G23+G25+G27+G29+G31+G33+G35+G37+G39+G41+G43+G45+G47+G49+G51+G53+G55+G57+G59+G61+G63+G65+G67+G69+G71+G73+G75+G77+G79+G81+G83+G85+G87+G89+G91+G93+G95+G97+G99+G101+G103+G105+G107+G109+G111+G113+G115+G117+G119+G121+G123+G125+G127+G129+G131+G133+G135+G137+G139+G141+G143+G145+G147+G149+G151+G153 -> 296 | H9: =H11+H13+H15+H17+H19+H21+H23+H25+H27+H29+H31+H33+H35+H37+H39+H41+H43+H45+H47+H49+H51+H53+H55+H57+H59+H61+H63+H65+H67+H69+H71+H73+H75+H77+H79+H81+H83+H85+H87+H89+H91+H93+H95+H97+H99+H101+H103+H105+H107+H109+H111+H113+H115+H117+H119+H121+H123+H125+H127+H129+H131+H133+H135+H137+H139+H141+H143+H145+H147+H149+H151+H153 -> 419 | I9: =I11+I13+I15+I17+I19+I21+I23+I25+I27+I29+I31+I33+I35+I37+I39+I41+I43+I45+I47+I49+I51+I53+I55+I57+I59+I61+I63+I65+I67+I69+I71+I73+I75+I77+I79+I81+I83+I85+I87+I89+I91+I93+I95+I97+I99+I101+I103+I105+I107+I109+I111+I113+I115+I117+I119+I121+I123+I125+I127+I129+I131+I133+I135+I137+I139+I141+I143+I145+I147+I149+I151+I153 -> 153 | J9: =J11+J13+J15+J17+J19+J21+J23+J25+J27+J29+J31+J33+J35+J37+J39+J41+J43+J45+J47+J49+J51+J53+J55+J57+J59+J61+J63+J65+J67+J69+J71+J73+J75+J77+J79+J81+J83+J85+J87+J89+J91+J93+J95+J97+J99+J101+J103+J105+J107+J109+J111+J113+J115+J117+J119+J121+J123+J125+J127+J129+J131+J133+J135+J137+J139+J141+J143+J145+J147+J149+J151+J153 -> 2405 | K9: =K11+K13+K15+K17+K19+K21+K23+K25+K27+K29+K31+K33+K35+K37+K39+K41+K43+K45+K47+K49+K51+K53+K55+K57+K59+K61+K63+K65+K67+K69+K71+K73+K75+K77+K79+K81+K83+K85+K87+K89+K91+K93+K95+K97+K99+K101+K103+K105+K107+K109+K111+K113+K115+K117+K119+K121+K123+K125+K127+K129+K131+K133+K135+K137+K139+K141+K143+K145+K147+K149+K151+K153 -> 100 | L9: =L11+L13+L15+L17+L19+L21+L23+L25+L27+L29+L31+L33+L35+L37+L39+L41+L43+L45+L47+L49+L51+L53+L55+L57+L59+L61+L63+L65+L67+L69+L71+L73+L75+L77+L79+L81+L83+L85+L87+L89+L91+L93+L95+L97+L99+L101+L103+L105+L107+L109+L111+L113+L115+L117+L119+L121+L123+L125+L127+L129+L131+L133+L135+L137+L139+L141+L143+L145+L147+L149+L151+L153 -> 6818
A10: 1 | B10: Xã An Phước | C10: Hộ | L10: 0
C11: Nhân khẩu | L11: 0
A12: 2 | B12: Xã An Viễn | C12: Hộ | D12: 0 | H12: 2 | L12: 2
C13: Nhân khẩu | D13: 0 | H13: 3 | L13: 3
A14: 3 | B14: Xã Bàu Hàm | C14: Hộ | L14: 0
C15: Nhân khẩu | L15: 0
A16: 4 | B16: Xã Bình An | C16: Hộ | L16: 0
C17: Nhân khẩu | L17: 0
A18: 5 | B18: Xã Bình Minh | C18: Hộ | J18: 4 | K18: 0 | L18: 4
C19: Nhân khẩu | J19: 22 | K19: 0 | L19: 22
A20: 6 | B20: Xã Bình Tân | C20: Hộ | D20: 60 | E20: 21 | G20: 39 | I20: 39 | J20: 134 | L20: 173
C21: Nhân khẩu | D21: 199 | E21: 74 | G21: 125 | I21: 125 | J21: 433 | L21: 558
A22: 7 | B22: Xã Bom Bo | C22: Hộ | D22: 61 | E22: 47 | F22: 0 | H22: 2 | I22: 0 | J22: 1 | L22: 17
C23: Nhân khẩu | D23: 257 | E23: 206 | F23: 0 | H23: 7 | I23: 0 | J23: 3 | L23: 61
A24: 8 | B24: Xã Bù Đăng | C24: Hộ | D24: 104 | E24: 22 | F24: 0 | H24: 0 | I24: 0 | J24: 0 | K24: 0 | L24: 82
C25: Nhân khẩu | D25: 419 | E25: 84 | F25: 0 | H25: 0 | I25: 0 | J25: 0 | K25: 0 | L25: 335
A26: 9 | B26: Xã Bù Gia Mập | C26: Hộ | D26: 65 | E26: 65 | F26: 0 | G26: 0 | H26: 0 | I26: 0 | J26: 210 | K26: 0 | L26: 210
C27: Nhân khẩu | D27: 254 | E27: 254 | F27: 0 | G27: 0 | H27: 0 | I27: 0 | J27: 868 | K27: 0 | L27: 868
A28: 10 | B28: Xã Cẩm Mỹ | C28: Hộ | D28: 29 | E28: 4 | F28: 0 | G28: 0 | H28: 0 | I28: 0 | J28: 6 | K28: 0 | L28: 31
C29: Nhân khẩu | D29: 43 | E29: 6 | F29: 0 | G29: 0 | H29: 0 | I29: 0 | J29: 15 | K29: 0 | L29: 52
A30: 11 | B30: Xã Dầu Giây | C30: Hộ | L30: 0
C31: Nhân khẩu | L31: 0
A32: 12 | B32: Xã Đa Kia | C32: Hộ | D32: 131 | E32: 39 | F32: 0 | G32: 0 | H32: 15 | I32: 0 | J32: 64 | K32: 0 | L32: 171
C33: Nhân khẩu | D33: 455 | E33: 130 | F33: 0 | G33: 1 | H33: 57 | I33: 0 | J33: 257 | K33: 0 | L33: 638
A34: 13 | B34: Xã Đại Phước | C34: Hộ | L34: 0
C35: Nhân khẩu | L35: 0
A36: 14 | B36: Xã Đak Lua | C36: Hộ | L36: 0
C37: Nhân khẩu | L37: 0
A38: 15 | B38: Xã Đak Nhau | C38: Hộ | D38: 135 | E38: 81 | F38: 3 | H38: 5 | I38: 1 | J38: 19 | L38: 76
C39: Nhân khẩu | D39: 563 | E39: 338 | F39: 9 | G39: 6 | H39: 15 | I39: 2 | J39: 72 | K39: 0 | L39: 299
A40: 16 | B40: Xã Đăk Ơ | C40: Hộ | D40: 139 | L40: 139
C41: Nhân khẩu | D41: 570 | G41: 5 | L41: 565
A42: 17 | B42: Xã Định Quán | C42: Hộ | L42: 0
C43: Nhân khẩu | L43: 0
A44: 18 | B44: Xã Đồng Phú | C44: Hộ | D44: 11 | E44: 3 | F44: 0 | G44: 0 | H44: 0 | I44: 0 | J44: 0 | K44: 0 | L44: 8
C45: Nhân khẩu | D45: 30 | E45: 10 | F45: 0 | G45: 0 | H45: 0 | I45: 0 | J45: 0 | K45: 0 | L45: 20
A46: 19 | B46: Xã Đồng Tâm | C46: Hộ | D46: 24 | E46: 9 | F46: 0 | G46: 0 | H46: 5 | I46: 0 | J46: 11 | K46: 0 | L46: 31
C47: Nhân khẩu | D47: 100 | E47: 24 | F47: 0 | G47: 0 | H47: 13 | I47: 0 | J47: 46 | K47: 0 | L47: 135
A48: 20 | B48: Xã Gia Kiệm | C48: Hộ | L48: 0
C49: Nhân khẩu | L49: 0
A50: 21 | B50: Xã Hưng Phước | C50: Hộ | D50: 69 | E50: 41 | F50: 0 | G50: 0 | H50: 2 | I50: 0 | J50: 0 | K50: 0 | L50: 30
C51: Nhân khẩu | D51: 232 | E51: 139 | F51: 0 | G51: 0 | H51: 7 | I51: 0 | J51: 0 | K51: 0 | L51: 100
A52: 22 | B52: Xã Hưng Thịnh | C52: Hộ | L52: 0
C53: Nhân khẩu | L53: 0
A54: 23 | B54: Xã La Ngà | C54: Hộ | D54: 6 | E54: 0 | F54: 0 | G54: 0 | H54: 0 | I54: 0 | J54: 0 | K54: 0 | L54: 6
C55: Nhân khẩu | D55: 15 | E55: 0 | F55: 0 | G55: 0 | H55: 0 | I55: 0 | J55: 0 | K55: 0 | L55: 15 | M55: =H55+I55+J55+K55 -> 0
A56: 24 | B56: Xã Long Hà | C56: Hộ | D56: 59 | E56: 39 | F56: 0 | H56: 0 | I56: 1 | J56: 26 | L56: 47
C57: Nhân khẩu | D57: 227 | E57: 135 | F57: 0 | G57: 25 | H57: 0 | I57: 2 | J57: 88 | L57: 157
A58: 25 | B58: Xã Long Phước | C58: Hộ | L58: 0
C59: Nhân khẩu | L59: 0
A60: 26 | B60: Xã Long Thành | C60: Hộ | D60: 0 | E60: 0 | F60: 0 | G60: 0 | H60: 15 | I60: 1 | J60: 11 | L60: 27
C61: Nhân khẩu | D61: 0 | E61: 0 | F61: 0 | G61: 0 | H61: 38 | I61: 2 | J61: 39 | K61: 0 | L61: 79
A62: 27 | B62: Xã Lộc Hưng | C62: Hộ | D62: 22 | E62: 24 | F62: 0 | G62: 5 | H62: 5 | I62: 5 | J62: 0 | K62: 2 | L62: 5
C63: Nhân khẩu | D63: 101 | E63: 90 | F63: 0 | G63: 22 | H63: 11 | I63: 11 | J63: 0 | L63: 11
A64: 28 | B64: Xã Lộc Ninh | C64: Hộ | D64: 20 | E64: 6 | F64: 0 | G64: 0 | H64: 0 | I64: 0 | J64: 0 | K64: 0 | L64: 14
C65: Nhân khẩu | D65: 55 | E65: 18 | F65: 0 | G65: 6 | H65: 0 | I65: 0 | J65: 0 | K65: 0 | L65: 31
A66: 29 | B66: Xã Lộc Quang | C66: Hộ | D66: 140 | E66: 59 | F66: 5 | G66: 0 | H66: 1 | J66: 83 | K66: 1 | L66: 161
C67: Nhân khẩu | D67: 482 | E67: 202 | F67: 18 | G67: 0 | H67: 6 | J67: 282 | K67: 1 | L67: 551
A68: 30 | B68: Xã Lộc Tấn | C68: Hộ | D68: 19 | E68: 2 | F68: 16 | H68: 0 | J68: 9 | L68: 10
C69: Nhân khẩu | D69: 70 | E69: 10 | F69: 55 | H69: 0 | J69: 29 | L69: 34
A70: 31 | B70: Xã Lộc Thành | C70: Hộ | D70: 3 | E70: 0 | F70: 0 | G70: 0 | J70: 25 | K70: 0 | L70: 28
C71: Nhân khẩu | D71: 10 | E71: 0 | F71: 0 | G71: 0 | J71: 94 | K71: 0 | L71: 104
A72: 32 | B72: Xã Lộc Thạnh | C72: Hộ | D72: 4 | E72: 1 | F72: 3 | H72: 0 | I72: 0 | J72: 10 | L72: 10
C73: Nhân khẩu | D73: 11 | E73: 4 | F73: 7 | H73: 0 | I73: 0 | J73: 31 | L73: 31
A74: 33 | B74: Xã Minh Đức | C74: Hộ | D74: 23 | E74: 17 | F74: 0 | G74: 0 | H74: 0 | I74: 0 | J74: 0 | K74: 0 | L74: 6
C75: Nhân khẩu | D75: 59 | E75: 42 | F75: 0 | G75: 0 | H75: 0 | I75: 0 | J75: 0 | K75: 0 | L75: 17
A76: 34 | B76: Xã Nam Cát Tiên | C76: Hộ | L76: 0
C77: Nhân khẩu | L77: 0
A78: 35 | B78: Xã Nghĩa Trung | C78: Hộ | D78: 35 | E78: 29 | F78: 0 | H78: 0 | I78: 0 | J78: 0 | K78: 11 | L78: 17
C79: Nhân khẩu | D79: 114 | E79: 94 | F79: 0 | H79: 0 | I79: 0 | J79: 0 | K79: 0 | L79: 20
A80: 36 | B80: Xã Nha Bích | C80: Hộ | D80: 18 | E80: 1 | F80: 0 | G80: 0 | H80: 3 | I80: 0 | J80: 0 | K80: 1 | L80: 21
C81: Nhân khẩu | D81: 47 | E81: 1 | F81: 0 | H81: 9 | I81: 0 | J81: 0 | K81: 2 | L81: 57
A82: 37 | B82: Xã Nhơn Trạch | C82: Hộ | L82: 0
C83: Nhân khẩu | L83: 0
A84: 38 | B84: Xã Phú Hòa | C84: Hộ | L84: 0
C85: Nhân khẩu | L85: 0
A86: 39 | B86: Xã Phú Lâm | C86: Hộ | L86: 0
C87: Nhân khẩu | L87: 0
A88: 40 | B88: Xã Phú Lý | C88: Hộ | L88: 0
C89: Nhân khẩu | L89: 0
A90: 41 | B90: Xã Phú Nghĩa | C90: Hộ | D90: 26 | E90: 7 | F90: 0 | G90: 1 | H90: 1 | I90: 0 | J90: 1 | K90: 0 | L90: 20
C91: Nhân khẩu | D91: 89 | E91: 31 | F91: 0 | G91: 2 | H91: 5 | I91: 0 | J91: 4 | K91: 0 | L91: 65
A92: 42 | B92: Xã Phú Riềng | C92: Hộ | D92: 33 | E92: 6 | F92: 0 | H92: 0 | I92: 0 | J92: 9 | L92: 36
C93: Nhân khẩu | D93: 93 | E93: 12 | F93: 0 | H93: 0 | I93: 0 | J93: 26 | L93: 107
A94: 43 | B94: Xã Phú Trung | C94: Hộ | D94: 10 | E94: 4 | F94: 0 | G94: 6 | H94: 0 | I94: 6 | J94: 0 | K94: 0 | L94: 6
C95: Nhân khẩu | D95: 26 | E95: 15 | F95: 0 | G95: 11 | H95: 0 | I95: 11 | J95: 0 | K95: 0 | L95: 11
A96: 44 | B96: Xã Phú Vinh | C96: Hộ | L96: 0
C97: Nhân khẩu | L97: 0
A98: 45 | B98: Xã Phước An | C98: Hộ | L98: 0
C99: Nhân khẩu | L99: 0
A100: 46 | B100: Xã Phước Sơn | C100: Hộ | D100: 85 | E100: 25 | H100: 23 | J100: 6 | L100: 89
C101: Nhân khẩu | D101: 370 | E101: 129 | H101: 112 | J101: 21 | L101: 374
...

Sheet 3B
A1: PHỤ LỤC 3B
A2: TỔNG HỢP DIỄN BIẾN HỘ CẬN NGHÈO CHUẨN TỈNH TRONG NĂM 2025
A4: TT | B4: Khu vực/Địa bàn | C4: Phân tổ | D4: Tổng số hộ cận nghèo đầu năm 2025 | E4: Diễn biến giảm số hộ cận nghèo | H4: Diễn biến tăng số hộ cận nghèo | L4: Tổng số hộ cận nghèo cuối năm 2025
E5: Số hộ thoát cận nghèo | F5: Số hộ cận nghèo trở thành hộ nghèo | G5: Nguyên nhân: thay đổi nhân khẩu, hộ đơn thân chết đi, chuyển đi nơi khác, tách, nhập với hộ khác,... | H5: Số hộ nghèo trở thành hộ cận nghèo | I5: Số hộ ngoài danh sách hộ nghèo, hộ cận nghèo gặp khó khăn đột xuất trong năm | K5: Nguyên nhân: thay đổi nhân khẩu, chuyển đến, tách, nhập với hộ khác,...
I6: Tái cận nghèo | J6: Phát sinh mới
A7: A | B7: B | C7: C | D7: 1 | E7: 2 | F7: 3 | G7: 4 | H7: 5 | I7: 6 | J7: 7 | K7: 8 | L7: 9
A8: I | B8: Khu vực nông thôn | C8: Hộ | D8: =D10+D12+D14+D16+D18+D20+D22+D24+D26+D28+D30+D32+D34+D36+D38+D40+D42+D44+D46+D48+D50+D52+D54+D56+D58+D60+D62+D64+D66+D68+D70+D72+D74+D76+D78+D80+D82+D84+D86+D88+D90+D92+D94+D96+D98+D100+D102+D104+D106+D108+D110+D112+D114+D116+D118+D120+D122+D124+D126+D128+D130+D132+D134+D136+D138+D140+D142+D144+D146+D148+D150+D152 -> 4765 | E8: =E10+E12+E14+E16+E18+E20+E22+E24+E26+E28+E30+E32+E34+E36+E38+E40+E42+E44+E46+E48+E50+E52+E54+E56+E58+E60+E62+E64+E66+E68+E70+E72+E74+E76+E78+E80+E82+E84+E86+E88+E90+E92+E94+E96+E98+E100+E102+E104+E106+E108+E110+E112+E114+E116+E118+E120+E122+E124+E126+E128+E130+E132+E134+E136+E138+E140+E142+E144+E146+E148+E150+E152 -> 886 | F8: =F10+F12+F14+F16+F18+F20+F22+F24+F26+F28+F30+F32+F34+F36+F38+F40+F42+F44+F46+F48+F50+F52+F54+F56+F58+F60+F62+F64+F66+F68+F70+F72+F74+F76+F78+F80+F82+F84+F86+F88+F90+F92+F94+F96+F98+F100+F102+F104+F106+F108+F110+F112+F114+F116+F118+F120+F122+F124+F126+F128+F130+F132+F134+F136+F138+F140+F142+F144+F146+F148+F150+F152 -> 65 | G8: =G10+G12+G14+G16+G18+G20+G22+G24+G26+G28+G30+G32+G34+G36+G38+G40+G42+G44+G46+G48+G50+G52+G54+G56+G58+G60+G62+G64+G66+G68+G70+G72+G74+G76+G78+G80+G82+G84+G86+G88+G90+G92+G94+G96+G98+G100+G102+G104+G106+G108+G110+G112+G114+G116+G118+G120+G122+G124+G126+G128+G130+G132+G134+G136+G138+G140+G142+G144+G146+G148+G150+G152 -> 30 | H8: =H10+H12+H14+H16+H18+H20+H22+H24+H26+H28+H30+H32+H34+H36+H38+H40+H42+H44+H46+H48+H50+H52+H54+H56+H58+H60+H62+H64+H66+H68+H70+H72+H74+H76+H78+H80+H82+H84+H86+H88+H90+H92+H94+H96+H98+H100+H102+H104+H106+H108+H110+H112+H114+H116+H118+H120+H122+H124+H126+H128+H130+H132+H134+H136+H138+H140+H142+H144+H146+H148+H150+H152 -> 260 | I8: =I10+I12+I14+I16+I18+I20+I22+I24+I26+I28+I30+I32+I34+I36+I38+I40+I42+I44+I46+I48+I50+I52+I54+I56+I58+I60+I62+I64+I66+I68+I70+I72+I74+I76+I78+I80+I82+I84+I86+I88+I90+I92+I94+I96+I98+I100+I102+I104+I106+I108+I110+I112+I114+I116+I118+I120+I122+I124+I126+I128+I130+I132+I134+I136+I138+I140+I142+I144+I146+I148+I150+I152 -> 2 | J8: =J10+J12+J14+J16+J18+J20+J22+J24+J26+J28+J30+J32+J34+J36+J38+J40+J42+J44+J46+J48+J50+J52+J54+J56+J58+J60+J62+J64+J66+J68+J70+J72+J74+J76+J78+J80+J82+J84+J86+J88+J90+J92+J94+J96+J98+J100+J102+J104+J106+J108+J110+J112+J114+J116+J118+J120+J122+J124+J126+J128+J130+J132+J134+J136+J138+J140+J142+J144+J146+J148+J150+J152 -> 440 | K8: =K10+K12+K14+K16+K18+K20+K22+K24+K26+K28+K30+K32+K34+K36+K38+K40+K42+K44+K46+K48+K50+K52+K54+K56+K58+K60+K62+K64+K66+K68+K70+K72+K74+K76+K78+K80+K82+K84+K86+K88+K90+K92+K94+K96+K98+K100+K102+K104+K106+K108+K110+K112+K114+K116+K118+K120+K122+K124+K126+K128+K130+K132+K134+K136+K138+K140+K142+K144+K146+K148+K150+K152 -> 42 | L8: =L10+L12+L14+L16+L18+L20+L22+L24+L26+L28+L30+L32+L34+L36+L38+L40+L42+L44+L46+L48+L50+L52+L54+L56+L58+L60+L62+L64+L66+L68+L70+L72+L74+L76+L78+L80+L82+L84+L86+L88+L90+L92+L94+L96+L98+L100+L102+L104+L106+L108+L110+L112+L114+L116+L118+L120+L122+L124+L126+L128+L130+L132+L134+L136+L138+L140+L142+L144+L146+L148+L150+L152 -> 4528
C9: Nhân khẩu | D9: =D11+D13+D15+D17+D19+D21+D23+D25+D27+D29+D31+D33+D35+D37+D39+D41+D43+D45+D47+D49+D51+D53+D55+D57+D59+D61+D63+D65+D67+D69+D71+D73+D75+D77+D79+D81+D83+D85+D87+D89+D91+D93+D95+D97+D99+D101+D103+D105+D107+D109+D111+D113+D115+D117+D119+D121+D123+D125+D127+D129+D131+D133+D135+D137+D139+D141+D143+D145+D147+D149+D151+D153 -> 18204 | E9: =E11+E13+E15+E17+E19+E21+E23+E25+E27+E29+E31+E33+E35+E37+E39+E41+E43+E45+E47+E49+E51+E53+E55+E57+E59+E61+E63+E65+E67+E69+E71+E73+E75+E77+E79+E81+E83+E85+E87+E89+E91+E93+E95+E97+E99+E101+E103+E105+E107+E109+E111+E113+E115+E117+E119+E121+E123+E125+E127+E129+E131+E133+E135+E137+E139+E141+E143+E145+E147+E149+E151+E153 -> 3076 | F9: =F11+F13+F15+F17+F19+F21+F23+F25+F27+F29+F31+F33+F35+F37+F39+F41+F43+F45+F47+F49+F51+F53+F55+F57+F59+F61+F63+F65+F67+F69+F71+F73+F75+F77+F79+F81+F83+F85+F87+F89+F91+F93+F95+F97+F99+F101+F103+F105+F107+F109+F111+F113+F115+F117+F119+F121+F123+F125+F127+F129+F131+F133+F135+F137+F139+F141+F143+F145+F147+F149+F151+F153 -> 200 | G9: =G11+G13+G15+G17+G19+G21+G23+G25+G27+G29+G31+G33+G35+G37+G39+G41+G43+G45+G47+G49+G51+G53+G55+G57+G59+G61+G63+G65+G67+G69+G71+G73+G75+G77+G79+G81+G83+G85+G87+G89+G91+G93+G95+G97+G99+G101+G103+G105+G107+G109+G111+G113+G115+G117+G119+G121+G123+G125+G127+G129+G131+G133+G135+G137+G139+G141+G143+G145+G147+G149+G151+G153 -> 117 | H9: =H11+H13+H15+H17+H19+H21+H23+H25+H27+H29+H31+H33+H35+H37+H39+H41+H43+H45+H47+H49+H51+H53+H55+H57+H59+H61+H63+H65+H67+H69+H71+H73+H75+H77+H79+H81+H83+H85+H87+H89+H91+H93+H95+H97+H99+H101+H103+H105+H107+H109+H111+H113+H115+H117+H119+H121+H123+H125+H127+H129+H131+H133+H135+H137+H139+H141+H143+H145+H147+H149+H151+H153 -> 1095 | I9: =I11+I13+I15+I17+I19+I21+I23+I25+I27+I29+I31+I33+I35+I37+I39+I41+I43+I45+I47+I49+I51+I53+I55+I57+I59+I61+I63+I65+I67+I69+I71+I73+I75+I77+I79+I81+I83+I85+I87+I89+I91+I93+I95+I97+I99+I101+I103+I105+I107+I109+I111+I113+I115+I117+I119+I121+I123+I125+I127+I129+I131+I133+I135+I137+I139+I141+I143+I145+I147+I149+I151+I153 -> 10 | J9: =J11+J13+J15+J17+J19+J21+J23+J25+J27+J29+J31+J33+J35+J37+J39+J41+J43+J45+J47+J49+J51+J53+J55+J57+J59+J61+J63+J65+J67+J69+J71+J73+J75+J77+J79+J81+J83+J85+J87+J89+J91+J93+J95+J97+J99+J101+J103+J105+J107+J109+J111+J113+J115+J117+J119+J121+J123+J125+J127+J129+J131+J133+J135+J137+J139+J141+J143+J145+J147+J149+J151+J153 -> 1544 | K9: =K11+K13+K15+K17+K19+K21+K23+K25+K27+K29+K31+K33+K35+K37+K39+K41+K43+K45+K47+K49+K51+K53+K55+K57+K59+K61+K63+K65+K67+K69+K71+K73+K75+K77+K79+K81+K83+K85+K87+K89+K91+K93+K95+K97+K99+K101+K103+K105+K107+K109+K111+K113+K115+K117+K119+K121+K123+K125+K127+K129+K131+K133+K135+K137+K139+K141+K143+K145+K147+K149+K151+K153 -> 136 | L9: =L11+L13+L15+L17+L19+L21+L23+L25+L27+L29+L31+L33+L35+L37+L39+L41+L43+L45+L47+L49+L51+L53+L55+L57+L59+L61+L63+L65+L67+L69+L71+L73+L75+L77+L79+L81+L83+L85+L87+L89+L91+L93+L95+L97+L99+L101+L103+L105+L107+L109+L111+L113+L115+L117+L119+L121+L123+L125+L127+L129+L131+L133+L135+L137+L139+L141+L143+L145+L147+L149+L151+L153 -> 17596
A10: 1 | B10: Xã An Phước | C10: Hộ | D10: 14 | E10: 0 | F10: 0 | G10: 1 | H10: 0 | I10: 0 | J10: 0 | K10: 0 | L10: 13
C11: Nhân khẩu | D11: 43 | E11: 0 | F11: 0 | G11: 5 | H11: 0 | I11: 0 | J11: 0 | K11: 0 | L11: 38
A12: 2 | B12: Xã An Viễn | C12: Hộ | D12: 89 | E12: 17 | G12: 4 | H12: 4 | J12: 7 | K12: 4 | L12: 83
C13: Nhân khẩu | D13: 317 | E13: 65 | G13: 19 | H13: 15 | J13: 26 | K13: 9 | L13: 283
A14: 3 | B14: Xã Bàu Hàm | C14: Hộ | D14: 110 | G14: 7 | K14: 8 | L14: 111
C15: Nhân khẩu | D15: 392 | G15: 19 | K15: 48 | L15: 421
A16: 4 | B16: Xã Bình An | C16: Hộ | D16: 11 | E16: 6 | F16: 0 | G16: 0 | H16: 5 | I16: 0 | J16: 3 | K16: 0 | L16: 13
C17: Nhân khẩu | D17: 29 | E17: 19 | F17: 0 | G17: 0 | H17: 14 | I17: 0 | J17: 9 | K17: 0 | L17: 33
A18: 5 | B18: Xã Bình Minh | C18: Hộ | D18: 129 | E18: 55 | F18: 0 | G18: 0 | H18: 22 | I18: 0 | J18: 18 | K18: 0 | L18: 114
C19: Nhân khẩu | D19: 544 | E19: 211 | F19: 0 | G19: 0 | H19: 107 | I19: 0 | J19: 63 | K19: 0 | L19: 503
A20: 6 | B20: Xã Bình Tân | C20: Hộ | L20: 0
C21: Nhân khẩu | L21: 0
A22: 7 | B22: Xã Bom Bo | C22: Hộ | L22: 0
C23: Nhân khẩu | L23: 0
A24: 8 | B24: Xã Bù Đăng | C24: Hộ | L24: 0
C25: Nhân khẩu | L25: 0
A26: 9 | B26: Xã Bù Gia Mập | C26: Hộ | L26: 0
C27: Nhân khẩu | L27: 0
A28: 10 | B28: Xã Cẩm Mỹ | C28: Hộ | D28: 145 | E28: 17 | F28: 2 | G28: 0 | H28: 2 | I28: 0 | J28: 11 | K28: 0 | L28: 139
C29: Nhân khẩu | D29: 540 | E29: 60 | F29: 8 | G29: 0 | H29: 2 | I29: 0 | J29: 62 | K29: 0 | L29: 536
A30: 11 | B30: Xã Dầu Giây | C30: Hộ | D30: 188 | E30: 34 | F30: 2 | H30: 3 | J30: 15 | L30: 170
C31: Nhân khẩu | D31: 711 | E31: 119 | F31: 7 | H31: 14 | J31: 54 | L31: 653
A32: 12 | B32: Xã Đa Kia | C32: Hộ | L32: 0
C33: Nhân khẩu | L33: 0
A34: 13 | B34: Xã Đại Phước | C34: Hộ | D34: 67 | E34: 33 | F34: 0 | G34: 1 | H34: 0 | I34: 0 | J34: 1 | K34: 0 | L34: 34
C35: Nhân khẩu | D35: 269 | E35: 136 | F35: 0 | G35: 1 | H35: 0 | I35: 0 | J35: 3 | K35: 0 | L35: 135
A36: 14 | B36: Xã Đak Lua | C36: Hộ | D36: 105 | E36: 18 | F36: 0 | G36: 0 | H36: 0 | I36: 0 | J36: 8 | K36: 0 | L36: 95
C37: Nhân khẩu | D37: 383 | E37: 59 | F37: 0 | G37: 0 | H37: 0 | I37: 0 | J37: 26 | K37: 0 | L37: 350
A38: 15 | B38: Xã Đak Nhau | C38: Hộ | L38: 0
C39: Nhân khẩu | L39: 0
A40: 16 | B40: Xã Đăk Ơ | C40: Hộ | L40: 0
C41: Nhân khẩu | L41: 0
A42: 17 | B42: Xã Định Quán | C42: Hộ | D42: 191 | E42: 61 | H42: 3 | J42: 5 | L42: 138
C43: Nhân khẩu | D43: 736 | E43: 239 | H43: 9 | J43: 15 | L43: 521
A44: 18 | B44: Xã Đồng Phú | C44: Hộ | L44: 0
C45: Nhân khẩu | L45: 0
A46: 19 | B46: Xã Đồng Tâm | C46: Hộ | L46: 0
C47: Nhân khẩu | L47: 0
A48: 20 | B48: Xã Gia Kiệm | C48: Hộ | D48: 169 | E48: 5 | F48: 7 | G48: 1 | H48: 13 | I48: 0 | J48: 15 | K48: 0 | L48: 184
C49: Nhân khẩu | D49: 698 | E49: 31 | F49: 9 | G49: 6 | H49: 58 | I49: 0 | J49: 69 | K49: 0 | L49: 779
A50: 21 | B50: Xã Hưng Phước | C50: Hộ | L50: 0
C51: Nhân khẩu | L51: 0
A52: 22 | B52: Xã Hưng Thịnh | C52: Hộ | D52: 128 | E52: 6 | F52: 0 | H52: 10 | J52: 30 | L52: 162
C53: Nhân khẩu | D53: 128 | E53: 6 | F53: 0 | H53: 10 | J53: 30 | L53: 162
A54: 23 | B54: Xã La Ngà | C54: Hộ | D54: 93 | E54: 12 | F54: 0 | G54: 0 | H54: 3 | I54: 0 | J54: 0 | K54: 0 | L54: 84
C55: Nhân khẩu | D55: 375 | E55: 51 | F55: 0 | G55: 1 | H55: 10 | I55: 0 | J55: 0 | K55: 18 | L55: 351 | M55: =H55+I55+J55+K55 -> 28
A56: 24 | B56: Xã Long Hà | C56: Hộ | L56: 0
C57: Nhân khẩu | L57: 0
A58: 25 | B58: Xã Long Phước | C58: Hộ | D58: 20 | E58: 0 | F58: 0 | G58: 2 | H58: 5 | I58: 0 | J58: 1 | K58: 0 | L58: 24
C59: Nhân khẩu | D59: 52 | E59: 0 | F59: 0 | G59: 9 | H59: 25 | I59: 0 | J59: 9 | K59: 0 | L59: 77
A60: 26 | B60: Xã Long Thành | C60: Hộ | D60: 39 | E60: 24 | F60: 3 | H60: 0 | K60: 0 | L60: 12
C61: Nhân khẩu | D61: 87 | E61: 54 | F61: 6 | G61: 0 | H61: 0 | K61: 0 | L61: 27
A62: 27 | B62: Xã Lộc Hưng | C62: Hộ | L62: 0
C63: Nhân khẩu | L63: 0
A64: 28 | B64: Xã Lộc Ninh | C64: Hộ | L64: 0
C65: Nhân khẩu | L65: 0
A66: 29 | B66: Xã Lộc Quang | C66: Hộ | L66: 0
C67: Nhân khẩu | L67: 0
A68: 30 | B68: Xã Lộc Tấn | C68: Hộ | L68: 0
C69: Nhân khẩu | L69: 0
A70: 31 | B70: Xã Lộc Thành | C70: Hộ | L70: 0
C71: Nhân khẩu | L71: 0
A72: 32 | B72: Xã Lộc Thạnh | C72: Hộ | L72: 0
C73: Nhân khẩu | L73: 0
A74: 33 | B74: Xã Minh Đức | C74: Hộ | L74: 0
C75: Nhân khẩu | L75: 0
A76: 34 | B76: Xã Nam Cát Tiên | C76: Hộ | D76: 181 | E76: 0 | F76: 26 | G76: 1 | H76: 0 | I76: 0 | J76: 10 | K76: 0 | L76: 164
C77: Nhân khẩu | D77: 771 | E77: 0 | F77: 83 | G77: 5 | H77: 0 | I77: 0 | J77: 39 | K77: 0 | L77: 722
A78: 35 | B78: Xã Nghĩa Trung | C78: Hộ | L78: 0
C79: Nhân khẩu | L79: 0
A80: 36 | B80: Xã Nha Bích | C80: Hộ | L80: 0
C81: Nhân khẩu | L81: 0
A82: 37 | B82: Xã Nhơn Trạch | C82: Hộ | D82: 42 | E82: 17 | F82: 2 | G82: 0 | H82: 25 | I82: 0 | J82: 1 | K82: 0 | L82: 49
C83: Nhân khẩu | D83: 204 | E83: 82 | F83: 10 | G83: 0 | H83: 132 | I83: 0 | J83: 4 | K83: 0 | L83: 248
A84: 38 | B84: Xã Phú Hòa | C84: Hộ | D84: 57 | E84: 2 | J84: 5 | L84: 60
C85: Nhân khẩu | D85: 197 | E85: 16 | J85: 15 | L85: 196
A86: 39 | B86: Xã Phú Lâm | C86: Hộ | D86: 343 | E86: 19 | F86: 2 | G86: 0 | H86: 9 | I86: 0 | J86: 42 | K86: 0 | L86: 373
C87: Nhân khẩu | D87: 1622 | E87: 10 | F87: 0 | G87: 0 | H87: 14 | I87: 0 | J87: 140 | K87: 0 | L87: 1766
A88: 40 | B88: Xã Phú Lý | C88: Hộ | D88: 130 | E88: 18 | F88: 0 | H88: 0 | I88: 0 | J88: 7 | L88: 119
C89: Nhân khẩu | D89: 465 | E89: 36 | F89: 0 | H89: 0 | I89: 0 | J89: 13 | L89: 442
A90: 41 | B90: Xã Phú Nghĩa | C90: Hộ | L90: 0
C91: Nhân khẩu | L91: 0
A92: 42 | B92: Xã Phú Riềng | C92: Hộ | L92: 0
C93: Nhân khẩu | L93: 0
A94: 43 | B94: Xã Phú Trung | C94: Hộ | L94: 0
C95: Nhân khẩu | L95: 0
A96: 44 | B96: Xã Phú Vinh | C96: Hộ | D96: 129 | E96: 22 | F96: 0 | G96: 2 | H96: 2 | I96: 2 | J96: 7 | K96: 0 | L96: 116
C97: Nhân khẩu | D97: 491 | E97: 71 | F97: 0 | G97: 19 | H97: 10 | I97: 10 | J97: 13 | K97: 0 | L97: 434
A98: 45 | B98: Xã Phước An | C98: Hộ | D98: 15 | E98: 0 | F98: 0 | G98: 5 | H98: 0 | I98: 0 | J98: 0 | K98: 0 | L98: 10
C99: Nhân khẩu | D99: 57 | E99: 0 | F99: 0 | G99: 10 | H99: 0 | I99: 0 | J99: 0 | K99: 0 | L99: 47
A100: 46 | B100: Xã Phước Sơn | C100: Hộ | L100: 0
C101: Nhân khẩu | L101: 0
...

Sheet 4A
A1: ỦY BAN NHÂN DÂN | G1: CỘNG HÒA XÃ HỘI CHỦ NGHĨA VIỆT NAM
A2: TỈNH ĐỒNG NAI | G2: Độc lập - Tự do - Hạnh phúc
A4: PHỤ LỤC 4A
A5: PHÂN TÍCH CÁC CHỈ SỐ THIẾU HỤT DỊCH VỤ XÃ HỘI CƠ BẢN CỦA HỘ NGHÈO CHUẨN TRUNG ƯƠNG NĂM 2025
A7: TT | B7: Khu vực/ | C7: Tổng số hộ nghèo | D7: Chỉ số thiếu hụt dịch vụ xã hội cơ bản của hộ nghèo
B8: Đơn vị | D8: 1 | E8: 2 | F8: 3 | G8: 4 | H8: 5 | I8: 6 | J8: 7 | K8: 8 | L8: 9 | M8: 10 | N8: 11 | O8: 12
A9: I | B9: KV NÔNG THÔN | C9: ='1A'!E8 -> 2714 | D9: =SUM(D10:D81) -> 1046 | E9: =SUM(E10:E81) -> 1585 | F9: =SUM(F10:F81) -> 76 | G9: =SUM(G10:G81) -> 1245 | H9: =SUM(H10:H81) -> 445 | I9: =SUM(I10:I81) -> 112 | J9: =SUM(J10:J81) -> 572 | K9: =SUM(K10:K81) -> 336 | ... O9: =SUM(O10:O81) -> 1087
A10: 1 | B10: Xã An Phước | C10: ='1A'!E9 -> 27 | D10: 0 | E10: 27 | F10: 0 | G10: 27 | H10: 0 | I10: 0 | J10: 5 | K10: 0 | L10: 0 | M10: 0 | N10: 27 | O10: 27
A11: 2 | B11: Xã An Viễn | C11: ='1A'!E10 -> 9 | D11: 8 | E11: 1 | F11: 0 | G11: 0 | H11: 0 | I11: 0 | J11: 0 | K11: 0 | L11: 0 | M11: 0 | N11: 9 | O11: 9
A12: 3 | B12: Xã Bàu Hàm | C12: ='1A'!E11 -> 98 | D12: 55 | E12: 57 | F12: 1 | G12: 88 | H12: 2 | I12: 4 | J12: 5 | K12: 0 | L12: 0 | M12: 2 | N12: 76 | O12: 12
A13: 4 | B13: Xã Bình An | C13: ='1A'!E12 -> 12 | D13: 13 | E13: 0 | F13: 0 | G13: 10 | H13: 0 | I13: 0 | J13: 0 | K13: 0 | L13: 0 | M13: 0 | N13: 3 | O13: 3
A14: 5 | B14: Xã Bình Minh | C14: ='1A'!E13 -> 21 | D14: 16 | E14: 14 | F14: 0 | G14: 2 | H14: 0 | I14: 0 | J14: 6 | K14: 1 | L14: 0 | M14: 0 | N14: 7 | O14: 2
A15: 6 | B15: Xã Bình Tân | C15: ='1A'!E14 -> 0
A16: 7 | B16: Xã Bom Bo | C16: ='1A'!E15 -> 3 | D16: 2 | E16: 3 | F16: 0 | G16: 0 | H16: 1 | I16: 0 | J16: 2 | K16: 1 | L16: 1 | M16: 2 | N16: 2 | O16: 2
A17: 8 | B17: Xã Bù Đăng | C17: ='1A'!E16 -> 2 | D17: 2 | E17: 0 | F17: 0 | G17: 0 | H17: 0 | I17: 0 | J17: 0 | K17: 0 | L17: 0 | M17: 0 | N17: 0 | O17: 0
A18: 9 | B18: Xã Bù Gia Mập | C18: ='1A'!E17 -> 200 | D18: 41 | E18: 13 | F18: 9 | G18: 200 | H18: 27 | I18: 9 | J18: 200 | K18: 10 | L18: 23 | M18: 20 | N18: 200 | O18: 32
A19: 10 | B19: Xã Cẩm Mỹ | C19: ='1A'!E18 -> 22 | D19: 0 | E19: 22 | F19: 0 | G19: 0 | H19: 0 | I19: 1 | J19: 0 | K19: 0 | L19: 9 | M19: 0 | N19: 22 | O19: 12
A20: 11 | B20: Xã Dầu Giây | C20: ='1A'!E19 -> 124 | D20: 124 | E20: 124 | N20: 124
A21: 12 | B21: Xã Đa Kia | C21: ='1A'!E20 -> 22 | D21: 0 | E21: 0 | F21: 2 | G21: 0 | H21: 0 | I21: 0 | J21: 11 | K21: 0 | L21: 16 | M21: 0 | N21: 5 | O21: 15
A22: 13 | B22: Xã Đại Phước | C22: ='1A'!E21 -> 64 | D22: 57 | E22: 29 | F22: 1 | G22: 11 | H22: 0 | I22: 0 | J22: 20 | K22: 1 | L22: 4 | M22: 14 | N22: 49 | O22: 16
A23: 14 | B23: Xã Đak Lua | C23: ='1A'!E22 -> 76 | D23: 2 | E23: 74 | F23: 0 | G23: 76 | H23: 0 | I23: 0 | J23: 0 | K23: 0 | L23: 1 | M23: 0 | N23: 0 | O23: 1
A24: 15 | B24: Xã Đak Nhau | C24: ='1A'!E23 -> 35 | D24: 13 | E24: 30 | F24: 0 | G24: 15 | H24: 30 | I24: 1 | J24: 14 | K24: 1 | L24: 0 | M24: 15 | N24: 1 | O24: 0
A25: 16 | B25: Xã Đăk Ơ | C25: ='1A'!E24 -> 96 | D25: 70 | E25: 26 | F25: 17 | G25: 0 | H25: 42 | I25: 20 | J25: 38 | K25: 21 | L25: 42 | M25: 28 | N25: 20 | O25: 47
A26: 17 | B26: Xã Định Quán | C26: ='1A'!E25 -> 45 | D26: 7 | E26: 0 | F26: 0 | G26: 39 | H26: 25 | I26: 0 | J26: 0 | K26: 0 | L26: 0 | M26: 2 | N26: 26 | O26: 5
A27: 18 | B27: Xã Đồng Phú | C27: ='1A'!E26 -> 1 | D27: 1 | K27: 1 | O27: 1
A28: 19 | B28: Xã Đồng Tâm | C28: ='1A'!E27 -> 0
A29: 20 | B29: Xã Gia Kiệm | C29: ='1A'!E28 -> 189 | D29: 0 | E29: 189 | F29: 0 | G29: 189 | H29: 0 | I29: 0 | J29: 0 | K29: 0 | L29: 0 | M29: 0 | N29: 189 | O29: 155
A30: 21 | B30: Xã Hưng Phước | C30: ='1A'!E29 -> 6 | D30: 6 | E30: 6 | F30: 0 | G30: 0 | H30: 6 | I30: 0 | J30: 0 | K30: 0 | L30: 0 | M30: 0 | N30: 6 | O30: 6
A31: 22 | B31: Xã Hưng Thịnh | C31: ='1A'!E30 -> 40 | D31: 40 | E31: 0 | F31: 0 | G31: 40 | H31: 0 | I31: 0 | J31: 0 | K31: 0 | L31: 0 | M31: 0 | N31: 40 | O31: 0
A32: 23 | B32: Xã La Ngà | C32: ='1A'!E31 -> 14 | D32: 14 | E32: 0 | F32: 0 | G32: 0 | H32: 0 | I32: 0 | J32: 0 | K32: 0 | L32: 0 | M32: 0 | N32: 14 | O32: 14
A33: 24 | B33: Xã Long Hà | C33: ='1A'!E32 -> 0
A34: 25 | B34: Xã Long Phước | C34: ='1A'!E33 -> 27 | D34: 22 | E34: 22 | F34: 0 | G34: 20 | H34: 0 | I34: 0 | J34: 0 | K34: 0 | L34: 0 | M34: 0 | N34: 8 | O34: 3
A35: 26 | B35: Xã Long Thành | C35: ='1A'!E34 -> 69 | D35: 20 | E35: 22 | F35: 0 | G35: 64 | H35: 63 | I35: 7 | J35: 20 | K35: 14 | L35: 24 | M35: 9 | N35: 59 | O35: 60
A36: 27 | B36: Xã Lộc Hưng | C36: ='1A'!E35 -> 0
A37: 28 | B37: Xã Lộc Ninh | C37: ='1A'!E36 -> 0
A38: 29 | B38: Xã Lộc Quang | C38: ='1A'!E37 -> 35 | D38: 22 | E38: 21 | F38: 3 | G38: 0 | H38: 6 | I38: 3 | J38: 19 | K38: 8 | L38: 11 | M38: 22 | N38: 13 | O38: 11
A39: 30 | B39: Xã Lộc Tấn | C39: ='1A'!E38 -> 176 | D39: 0 | E39: 176 | H39: 176 | I39: 1 | J39: 76 | K39: 176 | M39: 100 | N39: 176 | O39: 176
A40: 31 | B40: Xã Lộc Thành | C40: ='1A'!E39 -> 50 | D40: 20 | E40: 20 | F40: 25 | G40: 4 | H40: 2 | I40: 12 | J40: 14 | K40: 17 | L40: 10 | M40: 9 | N40: 14 | O40: 8
A41: 32 | B41: Xã Lộc Thạnh | C41: ='1A'!E40 -> 56 | D41: 38 | E41: 33 | F41: 9 | G41: 26 | H41: 16 | I41: 20 | J41: 22 | K41: 17 | L41: 0 | M41: 35 | N41: 34 | O41: 16
A42: 33 | B42: Xã Minh Đức | C42: ='1A'!E41 -> 5 | D42: 1 | E42: 2 | F42: 1 | G42: 3 | H42: 1 | I42: 1 | J42: 2 | L42: 1 | M42: 1 | N42: 4 | O42: 2
A43: 34 | B43: Xã Nam Cát Tiên | C43: ='1A'!E42 -> 108 | D43: 47 | E43: 51 | F43: 0 | G43: 3 | H43: 0 | I43: 0 | J43: 0 | K43: 0 | L43: 0 | M43: 0 | N43: 69 | O43: 54
A44: 35 | B44: Xã Nghĩa Trung | C44: ='1A'!E43 -> 9 | D44: 3 | E44: 6 | F44: 3 | G44: 9 | H44: 0 | I44: 4 | J44: 1 | K44: 2 | L44: 2 | M44: 5 | N44: 9 | O44: 5
A45: 36 | B45: Xã Nha Bích | C45: ='1A'!E44 -> 0
A46: 37 | B46: Xã Nhơn Trạch | C46: ='1A'!E45 -> 118 | D46: 18 | E46: 14 | F46: 0 | G46: 118 | H46: 1 | I46: 1 | J46: 1 | K46: 0 | L46: 1 | M46: 0 | N46: 118 | O46: 111
A47: 38 | B47: Xã Phú Hòa | C47: ='1A'!E46 -> 46 | D47: 14 | E47: 10 | G47: 29 | H47: 3 | I47: 1 | J47: 9 | L47: 2 | M47: 2 | N47: 42 | O47: 33
A48: 39 | B48: Xã Phú Lâm | C48: ='1A'!E47 -> 0
A49: 40 | B49: Xã Phú Lý | C49: ='1A'!E48 -> 0
A50: 41 | B50: Xã Phú Nghĩa | C50: ='1A'!E49 -> 29 | D50: 26 | E50: 28 | F50: 0 | G50: 0 | H50: 22 | I50: 0 | J50: 2 | K50: 1 | L50: 0 | M50: 3 | N50: 0 | O50: 23
A51: 42 | B51: Xã Phú Riềng | C51: ='1A'!E50 -> 1 | E51: 1 | F51: 1 | G51: 1
A52: 43 | B52: Xã Phú Trung | C52: ='1A'!E51 -> 0
A53: 44 | B53: Xã Phú Vinh | C53: ='1A'!E52 -> 24 | D53: 24 | E53: 24 | I53: 24 | J53: 24 | K53: 24
A54: 45 | B54: Xã Phước An | C54: ='1A'!E53 -> 63 | D54: 32 | E54: 63 | F54: 0 | G54: 0 | H54: 0 | I54: 0 | J54: 0 | K54: 25 | L54: 17 | M54: 0 | N54: 0 | O54: 0
A55: 46 | B55: Xã Phước Sơn | C55: ='1A'!E54 -> 13 | D55: 13 | E55: 7 | F55: 0 | G55: 0 | H55: 3 | I55: 1 | J55: 2 | K55: 1 | L55: 0 | M55: 3 | N55: 10 | O55: 5
A56: 47 | B56: Xã Phước Thái | C56: ='1A'!E55 -> 52 | D56: 32 | E56: 0 | F56: 0 | G56: 0 | H56: 0 | I56: 0 | J56: 2 | K56: 0 | L56: 2 | M56: 6 | N56: 0 | O56: 10
A57: 48 | B57: Xã Sông Ray | C57: ='1A'!E56 -> 22 | D57: 13 | E57: 16 | F57: 0 | G57: 1 | H57: 1 | I57: 0 | J57: 3 | K57: 0 | L57: 3 | M57: 0 | N57: 19 | O57: 10
A58: 49 | B58: Xã Tà Lài | C58: ='1A'!E57 -> 0
A59: 50 | B59: Xã Tân An | C59: ='1A'!E58 -> 6 | D59: 6 | N59: 6 | O59: 6
A60: 51 | B60: Xã Tân Hưng | C60: ='1A'!E59 -> 0
A61: 52 | B61: Xã Tân Khai | C61: ='1A'!E60 -> 0
A62: 53 | B62: Xã Tân Lợi | C62: ='1A'!E61 -> 1 | D62: 0 | E62: 1 | F62: 0 | G62: 0 | H62: 0 | I62: 0 | J62: 1 | K62: 1 | L62: 0 | M62: 0 | N62: 0 | O62: 0
A63: 54 | B63: Xã Tân Phú | C63: ='1A'!E62 -> 0
A64: 55 | B64: Xã Tân Quan | C64: ='1A'!E63 -> 9 | D64: 3 | E64: 8 | F64: 0 | G64: 1 | H64: 0 | I64: 1 | J64: 0 | K64: 1 | L64: 2 | M64: 0 | N64: 8 | O64: 7
A65: 56 | B65: Xã Tân Tiến | C65: ='1A'!E64 -> 18 | D65: 0 | E65: 18 | F65: 0 | G65: 18 | H65: 0 | I65: 0 | J65: 0 | K65: 0 | L65: 0 | M65: 0 | N65: 18 | O65: 0
A66: 57 | B66: Xã Thanh Sơn | C66: ='1A'!E65 -> 75 | D66: 7 | E66: 70 | F66: 0 | G66: 7 | H66: 2 | I66: 1 | J66: 23 | K66: 2 | L66: 7 | M66: 14 | N66: 71 | O66: 42
A67: 58 | B67: Xã Thiện Hưng | C67: ='1A'!E66 -> 12 | D67: 12 | E67: 9 | F67: 0 | G67: 0 | H67: 1 | I67: 0 | J67: 2 | K67: 1 | L67: 0 | M67: 0 | N67: 11 | O67: 3
A68: 59 | B68: Xã Thọ Sơn | C68: ='1A'!E67 -> 3 | D68: 3 | E68: 3 | J68: 3
A69: 60 | B69: Xã Thống Nhất | C69: ='1A'!E68 -> 166 | D69: 47 | E69: 94 | F69: 0 | G69: 0 | H69: 11 | I69: 0 | J69: 20 | K69: 8 | L69: 0 | M69: 0 | N69: 6 | O69: 4
A70: 61 | B70: Xã Thuận Lợi | C70: ='1A'!E69 -> 0
A71: 62 | B71: Xã Trảng Bom | C71: ='1A'!E70 -> 73 | D71: 0 | E71: 73 | F71: 0 | G71: 73 | H71: 0 | I71: 0 | J71: 0 | K71: 0 | L71: 0 | M71: 0 | N71: 73 | O71: 0
A72: 63 | B72: Xã Trị An | C72: ='1A'!E71 -> 0
A73: 64 | B73: Xã Xuân Bắc | C73: ='1A'!E72 -> 40 | D73: 7 | E73: 9 | F73: 0 | G73: 0 | H73: 0 | I73: 0 | J73: 1 | K73: 0 | L73: 0 | M73: 0 | N73: 12 | O73: 8
A74: 65 | B74: Xã Xuân Định | C74: ='1A'!E73 -> 37 | D74: 35 | E74: 15 | F74: 0 | G74: 2 | H74: 1 | I74: 0 | J74: 4 | K74: 0 | L74: 6 | M74: 1 | N74: 26 | O74: 7
A75: 66 | B75: Xã Xuân Đông | C75: ='1A'!E74 -> 7 | D75: 0 | E75: 7 | F75: 0 | G75: 0 | H75: 0 | I75: 0 | J75: 0 | K75: 0 | L75: 0 | M75: 0 | N75: 7 | O75: 6
A76: 67 | B76: Xã Xuân Đường | C76: ='1A'!E75 -> 33 | D76: 33 | E76: 0 | F76: 0 | G76: 33 | H76: 0 | I76: 0 | J76: 0 | K76: 0 | L76: 0 | M76: 0 | N76: 18 | O76: 15
A77: 68 | B77: Xã Xuân Hòa | C77: ='1A'!E76 -> 129 | D77: 51 | E77: 65 | F77: 3 | G77: 74 | H77: 2 | I77: 0 | J77: 18 | K77: 2 | L77: 21 | M77: 10 | N77: 86 | O77: 76
A78: 69 | B78: Xã Xuân Lộc | C78: ='1A'!E77 -> 56 | D78: 12 | E78: 55 | F78: 0 | G78: 56 | H78: 0 | I78: 0 | J78: 0 | K78: 0 | L78: 0 | M78: 0 | N78: 45 | O78: 0
A79: 70 | B79: Xã Xuân Phú | C79: ='1A'!E78 -> 16 | D79: 7 | E79: 9 | F79: 0 | G79: 0 | H79: 0 | I79: 0 | J79: 0 | K79: 0 | L79: 0 | M79: 0 | N79: 12 | O79: 8
A80: 71 | B80: Xã Xuân Quế | C80: ='1A'!E79 -> 0
A81: 72 | B81: Xã Xuân Thành | C81: ='1A'!E80 -> 24 | D81: 7 | E81: 18 | F81: 1 | G81: 6 | H81: 1 | I81: 0 | J81: 2 | K81: 0 | L81: 2 | M81: 2 | N81: 19 | O81: 19
A82: II | B82: KV THÀNH THỊ | C82: ='1A'!E81 -> 193 | D82: =SUM(D83:D105) -> 62 | E82: =SUM(E83:E105) -> 122 | F82: =SUM(F83:F105) -> 19 | G82: =SUM(G83:G105) -> 79 | H82: =SUM(H83:H105) -> 3 | I82: =SUM(I83:I105) -> 3 | J82: =SUM(J83:J105) -> 2 | K82: =SUM(K83:K105) -> 38 | ... O82: =SUM(O83:O105) -> 129
A83: 73 | B83: Phường An Lộc | C83: ='1A'!E82 -> 0
A84: 74 | B84: Phường Bảo Vinh | C84: ='1A'!E83 -> 24 | D84: 0 | E84: 24 | F84: 0 | G84: 0 | H84: 0 | I84: 0 | J84: 0 | K84: 1 | L84: 1 | M84: 0 | N84: 24 | O84: 23
A85: 75 | B85: Phường Biên Hòa | C85: ='1A'!E84 -> 0
A86: 76 | B86: Phường Bình Long | C86: ='1A'!E85 -> 0
A87: 77 | B87: Phường Bình Lộc | C87: ='1A'!E86 -> 22 | D87: 22 | E87: 22 | F87: 0 | G87: 22 | H87: 0 | I87: 0 | J87: 0 | K87: 0 | L87: 0 | M87: 0 | N87: 1 | O87: 0
A88: 78 | B88: Phường Bình Phước | C88: ='1A'!E87 -> 0
A89: 79 | B89: Phường Chơn Thành | C89: ='1A'!E88 -> 0
A90: 80 | B90: Phường Đồng Xoài | C90: ='1A'!E89 -> 0
A91: 81 | B91: Phường Hàng Gòn | C91: ='1A'!E90 -> 10 | D91: 0 | E91: 10 | F91: 0 | G91: 0 | H91: 0 | I91: 0 | J91: 0 | K91: 0 | L91: 1 | M91: 0 | N91: 10 | O91: 10
A92: 82 | B92: Phường Hố Nai | C92: ='1A'!E91 -> 17 | D92: 0 | E92: 0 | F92: 0 | G92: 17 | H92: 0 | I92: 0 | J92: 0 | K92: 0 | L92: 0 | M92: 0 | N92: 4 | O92: 16
A93: 83 | B93: Phường Long Bình | C93: ='1A'!E92 -> 19 | D93: 19 | E93: 19 | F93: 19
A94: 84 | B94: Phường Long Hưng | C94: ='1A'!E93 -> 3 | D94: 0 | E94: 3 | F94: 0 | G94: 2 | H94: 0 | I94: 0 | J94: 0 | K94: 0 | L94: 2 | M94: 0 | N94: 2 | O94: 0
A95: 85 | B95: Phường Long Khánh | C95: ='1A'!E94 -> 30 | D95: 0 | E95: 30 | F95: 0 | G95: 0 | H95: 0 | I95: 3 | J95: 0 | K95: 0 | L95: 0 | M95: 0 | N95: 2 | O95: 20
A96: 86 | B96: Phường Minh Hưng | C96: ='1A'!E95 -> 0 | D96: 0 | E96: 0 | F96: 0 | G96: 0 | H96: 0 | I96: 0 | J96: 0 | K96: 0 | L96: 0 | M96: 0 | N96: 0 | O96: 0
A97: 87 | B97: Phường Phước Bình | C97: ='1A'!E96 -> 0
A98: 88 | B98: Phường Phước Long | C98: ='1A'!E97 -> 0
A99: 89 | B99: Phường Phước Tân | C99: ='1A'!E98 -> 12 | D99: 0 | E99: 6 | F99: 0 | G99: 0 | H99: 0 | I99: 0 | J99: 0 | K99: 0 | L99: 0 | M99: 0 | N99: 12 | O99: 12
A100: 90 | B100: Phường Tam Hiệp | C100: ='1A'!E99 -> 0
A101: 91 | B101: Phường Tam Phước | C101: ='1A'!E100 -> 0
A102: 92 | B102: Phường Tân Triều | C102: ='1A'!E101 -> 34 | D102: 0 | E102: 0 | F102: 0 | G102: 34 | H102: 0 | I102: 0 | J102: 0 | K102: 34 | L102: 34 | M102: 34 | N102: 0 | O102: 34
...

Sheet 4B
A1: PHỤ LỤC 4A
A2: PHÂN TÍCH CÁC CHỈ SỐ THIẾU HỤT DỊCH VỤ XÃ HỘI CƠ BẢN CỦA HỘ NGHÈO CỦA HỘ NGHÈO CHUẨN TỈNH NĂM 2025 (không tính hộ nghèo chuẩn TW)
A4: TT | B4: Khu vực/ | C4: Tổng số hộ nghèo | D4: Chỉ số thiếu hụt dịch vụ xã hội cơ bản của hộ nghèo
B5: Đơn vị | D5: 1 | E5: 2 | F5: 3 | G5: 4 | H5: 5 | I5: 6 | J5: 7 | K5: 8 | L5: 9 | M5: 10 | N5: 11 | O5: 12
A6: I | B6: KV NÔNG THÔN | C6: ='1B'!E8 -> 1023 | D6: =SUM(D7:D78) -> 594 | E6: =SUM(E7:E78) -> 695 | F6: =SUM(F7:F78) -> 14 | G6: =SUM(G7:G78) -> 523 | H6: =SUM(H7:H78) -> 99 | I6: =SUM(I7:I78) -> 32 | J6: =SUM(J7:J78) -> 71 | K6: =SUM(K7:K78) -> 115 | ... O6: =SUM(O7:O78) -> 177
A7: 1 | B7: Xã An Phước | C7: ='1B'!E9 -> 18 | D7: 0 | E7: 18 | F7: 0 | G7: 18 | H7: 0 | I7: 0 | J7: 1 | K7: 0 | L7: 0 | M7: 0 | N7: 18 | O7: 18
A8: 2 | B8: Xã An Viễn | C8: ='1B'!E10 -> 7 | D8: 7 | E8: 4 | F8: 0 | G8: 2 | H8: 0 | I8: 0 | J8: 0 | K8: 1 | L8: 0 | M8: 0 | N8: 1 | O8: 0
A9: 3 | B9: Xã Bàu Hàm | C9: ='1B'!E11 -> 11 | D9: 6 | E9: 9 | F9: 0 | G9: 9 | H9: 2 | I9: 1 | J9: 0 | K9: 4 | L9: 0 | M9: 0 | N9: 1 | O9: 1
A10: 4 | B10: Xã Bình An | C10: ='1B'!E12 -> 9 | D10: 7 | E10: 7 | F10: 0 | G10: 6 | H10: 2 | I10: 0 | J10: 0 | K10: 0 | L10: 0 | M10: 0 | N10: 3 | O10: 3
A11: 5 | B11: Xã Bình Minh | C11: ='1B'!E13 -> 22 | D11: 17 | E11: 7 | F11: 0 | G11: 5 | H11: 1 | I11: 0 | J11: 0 | K11: 6 | L11: 0 | M11: 0 | N11: 9 | O11: 6
A12: 6 | B12: Xã Bình Tân | C12: ='1B'!E14 -> 0
A13: 7 | B13: Xã Bom Bo | C13: ='1B'!E15 -> 0
A14: 8 | B14: Xã Bù Đăng | C14: ='1B'!E16 -> 0
A15: 9 | B15: Xã Bù Gia Mập | C15: ='1B'!E17 -> 0
A16: 10 | B16: Xã Cẩm Mỹ | C16: ='1B'!E18 -> 0
A17: 11 | B17: Xã Dầu Giây | C17: ='1B'!E19 -> 26 | D17: 21 | E17: 21 | F17: 0 | G17: 0 | H17: 3 | I17: 1 | J17: 1 | K17: 1 | L17: 0 | M17: 1 | N17: 3 | O17: 0
A18: 12 | B18: Xã Đa Kia | C18: ='1B'!E20 -> 0
A19: 13 | B19: Xã Đại Phước | C19: ='1B'!E21 -> 45 | D19: 43 | E19: 28 | F19: 2 | G19: 3 | H19: 8 | I19: 0 | J19: 18 | K19: 8 | L19: 2 | M19: 2 | N19: 15 | O19: 3
A20: 14 | B20: Xã Đak Lua | C20: ='1B'!E22 -> 3 | D20: 1 | E20: 2 | F20: 0 | G20: 3 | H20: 0 | I20: 0 | J20: 0 | K20: 0 | L20: 0 | M20: 0 | N20: 0 | O20: 0
A21: 15 | B21: Xã Đak Nhau | C21: ='1B'!E23 -> 0
A22: 16 | B22: Xã Đăk Ơ | C22: ='1B'!E24 -> 0
A23: 17 | B23: Xã Định Quán | C23: ='1B'!E25 -> 4 | D23: 1 | E23: 6 | F23: 0 | G23: 14 | H23: 0 | I23: 4 | J23: 0 | K23: 0 | L23: 0 | M23: 0 | N23: 0 | O23: 0
A24: 18 | B24: Xã Đồng Phú | C24: ='1B'!E26 -> 0
A25: 19 | B25: Xã Đồng Tâm | C25: ='1B'!E27 -> 0
A26: 20 | B26: Xã Gia Kiệm | C26: ='1B'!E28 -> 14 | D26: 14 | E26: 14 | F26: 2 | G26: 14 | H26: 0 | I26: 0 | J26: 0 | K26: 0 | L26: 0 | M26: 0 | N26: 0 | O26: 0
A27: 21 | B27: Xã Hưng Phước | C27: ='1B'!E29 -> 0
A28: 22 | B28: Xã Hưng Thịnh | C28: ='1B'!E30 -> 12
A29: 23 | B29: Xã La Ngà | C29: ='1B'!E31 -> 6 | D29: 6 | E29: 4 | F29: 0 | G29: 0 | H29: 1 | I29: 0 | J29: 0 | K29: 0 | L29: 0 | M29: 0 | N29: 2 | O29: 3
A30: 24 | B30: Xã Long Hà | C30: ='1B'!E32 -> 0
A31: 25 | B31: Xã Long Phước | C31: ='1B'!E33 -> 6 | D31: 3 | E31: 6 | F31: 0 | G31: 6 | H31: 0 | I31: 0 | J31: 0 | K31: 0 | L31: 0 | M31: 0 | N31: 3 | O31: 3
A32: 26 | B32: Xã Long Thành | C32: ='1B'!E34 -> 9 | D32: 6 | E32: 6 | F32: 0 | G32: 9 | H32: 9 | I32: 1 | J32: 4 | K32: 3 | L32: 0 | M32: 3 | N32: 4 | O32: 4
A33: 27 | B33: Xã Lộc Hưng | C33: ='1B'!E35 -> 0
A34: 28 | B34: Xã Lộc Ninh | C34: ='1B'!E36 -> 0
A35: 29 | B35: Xã Lộc Quang | C35: ='1B'!E37 -> 0
A36: 30 | B36: Xã Lộc Tấn | C36: ='1B'!E38 -> 0
A37: 31 | B37: Xã Lộc Thành | C37: ='1B'!E39 -> 0
A38: 32 | B38: Xã Lộc Thạnh | C38: ='1B'!E40 -> 0
A39: 33 | B39: Xã Minh Đức | C39: ='1B'!E41 -> 0
A40: 34 | B40: Xã Nam Cát Tiên | C40: ='1B'!E42 -> 0
A41: 35 | B41: Xã Nghĩa Trung | C41: ='1B'!E43 -> 0
A42: 36 | B42: Xã Nha Bích | C42: ='1B'!E44 -> 0
A43: 37 | B43: Xã Nhơn Trạch | C43: ='1B'!E45 -> 33 | D43: 33 | E43: 33 | F43: 0 | G43: 33 | H43: 1 | I43: 1 | J43: 4 | K43: 0 | L43: 1 | M43: 0 | N43: 0 | O43: 0
A44: 38 | B44: Xã Phú Hòa | C44: ='1B'!E46 -> 13 | D44: 7 | E44: 5 | F44: 1 | G44: 5 | J44: 1 | N44: 2 | O44: 5
A45: 39 | B45: Xã Phú Lâm | C45: ='1B'!E47 -> 153 | D45: 18 | E45: 69 | F45: 1 | G45: 134 | H45: 2 | I45: 0 | J45: 3 | K45: 12 | L45: 0 | M45: 0 | N45: 74 | O45: 10
A46: 40 | B46: Xã Phú Lý | C46: ='1B'!E48 -> 33 | D46: 24 | E46: 11 | F46: 0 | G46: 10 | H46: 4 | I46: 17 | J46: 0 | K46: 22 | L46: 6 | M46: 23 | N46: 0 | O46: 22 | P46: 20
A47: 41 | B47: Xã Phú Nghĩa | C47: ='1B'!E49 -> 0
A48: 42 | B48: Xã Phú Riềng | C48: ='1B'!E50 -> 0
A49: 43 | B49: Xã Phú Trung | C49: ='1B'!E51 -> 0
A50: 44 | B50: Xã Phú Vinh | C50: ='1B'!E52 -> 6 | D50: 6
A51: 45 | B51: Xã Phước An | C51: ='1B'!E53 -> 62 | D51: 52 | E51: 50 | F51: 0 | G51: 0 | H51: 0 | I51: 0 | J51: 0 | K51: 0 | L51: 2 | M51: 2 | N51: 0 | O51: 3
A52: 46 | B52: Xã Phước Sơn | C52: ='1B'!E54 -> 0
A53: 47 | B53: Xã Phước Thái | C53: ='1B'!E55 -> 28 | D53: 19 | E53: 2 | F53: 0 | G53: 1 | H53: 0 | I53: 0 | J53: 2 | K53: 0 | L53: 0 | M53: 4 | N53: 0 | O53: 0
A54: 48 | B54: Xã Sông Ray | C54: ='1B'!E56 -> 0 | D54: 13 | E54: 16 | F54: 0 | G54: 1 | H54: 1 | I54: 0 | J54: 3 | K54: 0 | L54: 3 | M54: 0 | N54: 19 | O54: 10
A55: 49 | B55: Xã Tà Lài | C55: ='1B'!E57 -> 111 | D55: 10 | E55: 56 | F55: 0 | G55: 111 | H55: 35 | I55: 0 | J55: 4 | K55: 3 | L55: 0 | M55: 7 | N55: 53 | O55: 49
A56: 50 | B56: Xã Tân An | C56: ='1B'!E58 -> 5 | D56: 5 | N56: 5
A57: 51 | B57: Xã Tân Hưng | C57: ='1B'!E59 -> 0
A58: 52 | B58: Xã Tân Khai | C58: ='1B'!E60 -> 0
A59: 53 | B59: Xã Tân Lợi | C59: ='1B'!E61 -> 0
A60: 54 | B60: Xã Tân Phú | C60: ='1B'!E62 -> 129 | D60: 45 | E60: 55 | F60: 0 | G60: 47 | H60: 1 | I60: 0 | J60: 2 | K60: 0 | L60: 5 | M60: 12 | N60: 101 | O60: 14
A61: 55 | B61: Xã Tân Quan | C61: ='1B'!E63 -> 0
A62: 56 | B62: Xã Tân Tiến | C62: ='1B'!E64 -> 0
A63: 57 | B63: Xã Thanh Sơn | C63: ='1B'!E65 -> 83 | D63: 57 | E63: 46 | F63: 0 | G63: 0 | H63: 16 | I63: 4 | J63: 21 | K63: 3 | L63: 10 | M63: 10 | N63: 33 | O63: 3
A64: 58 | B64: Xã Thiện Hưng | C64: ='1B'!E66 -> 0
A65: 59 | B65: Xã Thọ Sơn | C65: ='1B'!E67 -> 0
A66: 60 | B66: Xã Thống Nhất | C66: ='1B'!E68 -> 16 | D66: 6 | E66: 10 | F66: 0 | G66: 0 | H66: 1 | I66: 1 | J66: 2 | K66: 1 | L66: 0 | M66: 1 | N66: 0 | O66: 0
A67: 61 | B67: Xã Thuận Lợi | C67: ='1B'!E69 -> 0
A68: 62 | B68: Xã Trảng Bom | C68: ='1B'!E70 -> 21 | D68: 7 | E68: 14 | F68: 0 | G68: 21 | H68: 0 | I68: 0 | J68: 0 | K68: 0 | L68: 0 | M68: 0 | N68: 0 | O68: 0
A69: 63 | B69: Xã Trị An | C69: ='1B'!E71 -> 35 | D69: 0 | E69: 35 | F69: 0 | G69: 35 | H69: 0 | I69: 0 | J69: 0 | K69: 0 | L69: 0 | M69: 0 | N69: 0 | O69: 0
A70: 64 | B70: Xã Xuân Bắc | C70: ='1B'!E72 -> 34 | D70: 9 | E70: 2 | F70: 2 | G70: 1 | H70: 1 | I70: 0 | J70: 0 | K70: 0 | L70: 3 | M70: 3 | N70: 3 | O70: 1
A71: 65 | B71: Xã Xuân Định | C71: ='1B'!E73 -> 10 | D71: 9 | E71: 5 | F71: 3 | G71: 2 | H71: 4 | I71: 0 | J71: 1 | K71: 2 | L71: 2 | M71: 3 | N71: 5 | O71: 2
A72: 66 | B72: Xã Xuân Đông | C72: ='1B'!E74 -> 0
A73: 67 | B73: Xã Xuân Đường | C73: ='1B'!E75 -> 5 | D73: 5 | E73: 5 | F73: 0 | G73: 5 | H73: 0 | I73: 0 | J73: 0 | K73: 0 | L73: 0 | M73: 0 | N73: 0 | O73: 0
A74: 68 | B74: Xã Xuân Hòa | C74: ='1B'!E76 -> 36 | D74: 14 | E74: 28 | F74: 2 | G74: 26 | H74: 2 | I74: 1 | J74: 3 | K74: 2 | L74: 3 | M74: 2 | N74: 13 | O74: 9
A75: 69 | B75: Xã Xuân Lộc | C75: ='1B'!E77 -> 0
A76: 70 | B76: Xã Xuân Phú | C76: ='1B'!E78 -> 6 | D76: 3 | E76: 4 | F76: 0 | G76: 0 | H76: 1 | I76: 0 | J76: 0 | K76: 0 | L76: 1 | M76: 0 | N76: 5 | O76: 2
A77: 71 | B77: Xã Xuân Quế | C77: ='1B'!E79 -> 0 | D77: 112 | E77: 112 | F77: 0 | G77: 0 | H77: 0 | I77: 0 | J77: 0 | K77: 46 | L77: 0 | M77: 0 | N77: 0 | O77: 0
A78: 72 | B78: Xã Xuân Thành | C78: ='1B'!E80 -> 12 | D78: 8 | E78: 5 | F78: 1 | G78: 2 | H78: 4 | I78: 1 | J78: 1 | K78: 1 | L78: 2 | M78: 0 | N78: 7 | O78: 6
A79: II | B79: KV THÀNH THỊ | C79: ='1B'!E81 -> 292 | D79: =SUM(D80:D102) -> 201 | E79: =SUM(E80:E102) -> 106 | F79: =SUM(F80:F102) -> 62 | G79: =SUM(G80:G102) -> 80 | H79: =SUM(H80:H102) -> 60 | I79: =SUM(I80:I102) -> 20 | J79: =SUM(J80:J102) -> 4 | K79: =SUM(K80:K102) -> 21 | ... O79: =SUM(O80:O102) -> 62
A80: 73 | B80: Phường An Lộc | C80: ='1B'!E82 -> 0
A81: 74 | B81: Phường Bảo Vinh | C81: ='1B'!E83 -> 0
A82: 75 | B82: Phường Biên Hòa | C82: ='1B'!E84 -> 24 | D82: 21 | E82: 5 | F82: 0 | G82: 1 | H82: 7 | I82: 0 | J82: 3 | K82: 1 | L82: 1 | M82: 0 | N82: 15 | O82: 3
A83: 76 | B83: Phường Bình Long | C83: ='1B'!E85 -> 0
A84: 77 | B84: Phường Bình Lộc | C84: ='1B'!E86 -> 35 | D84: 17 | E84: 19 | F84: 0 | G84: 35 | H84: 3 | I84: 0 | J84: 0 | K84: 0 | L84: 0 | M84: 0 | N84: 0 | O84: 0
A85: 78 | B85: Phường Bình Phước | C85: ='1B'!E87 -> 0
A86: 79 | B86: Phường Chơn Thành | C86: ='1B'!E88 -> 0
A87: 80 | B87: Phường Đồng Xoài | C87: ='1B'!E89 -> 0
A88: 81 | B88: Phường Hàng Gòn | C88: ='1B'!E90 -> 7 | D88: 7 | E88: 7 | F88: 7
A89: 82 | B89: Phường Hố Nai | C89: ='1B'!E91 -> 28 | D89: 22 | E89: 18 | F89: 0 | G89: 16 | H89: 0 | I89: 0 | J89: 0 | K89: 0 | L89: 0 | M89: 0 | N89: 16 | O89: 16
A90: 83 | B90: Phường Long Bình | C90: ='1B'!E92 -> 2 | D90: 2 | E90: 2
A91: 84 | B91: Phường Long Hưng | C91: ='1B'!E93 -> 26 | D91: 10 | E91: 14 | F91: 0 | G91: 1 | H91: 1 | I91: 0 | J91: 1 | K91: 0 | L91: 0 | M91: 0 | N91: 22 | O91: 3
A92: 85 | B92: Phường Long Khánh | C92: ='1B'!E94 -> 9 | D92: 0 | E92: 8 | F92: 0 | G92: 0 | H92: 0 | I92: 0 | J92: 0 | K92: 0 | L92: 0 | M92: 0 | N92: 0 | O92: 3
A93: 86 | B93: Phường Minh Hưng | C93: ='1B'!E95 -> 0 | D93: 0 | E93: 0 | F93: 0 | G93: 0 | H93: 0 | I93: 0 | J93: 0 | K93: 0 | L93: 0 | M93: 0 | N93: 0 | O93: 0
A94: 87 | B94: Phường Phước Bình | C94: ='1B'!E96 -> 0
A95: 88 | B95: Phường Phước Long | C95: ='1B'!E97 -> 0
A96: 89 | B96: Phường Phước Tân | C96: ='1B'!E98 -> 4 | D96: 0 | E96: 1 | F96: 0 | G96: 0 | H96: 0 | I96: 0 | J96: 0 | K96: 0 | L96: 0 | M96: 0 | N96: 4 | O96: 4
A97: 90 | B97: Phường Tam Hiệp | C97: ='1B'!E99 -> 50 | D97: 50 | F97: 50
A98: 91 | B98: Phường Tam Phước | C98: ='1B'!E100 -> 20 | D98: 11 | E98: 5 | F98: 0 | G98: 1 | H98: 0 | I98: 1 | J98: 0 | K98: 1 | L98: 0 | M98: 0 | N98: 11 | O98: 5
A99: 92 | B99: Phường Tân Triều | C99: ='1B'!E101 -> 13 | D99: 13 | E99: 0 | F99: 5 | G99: 13 | H99: 0 | I99: 1 | J99: 0 | K99: 13 | L99: 0 | M99: 0 | N99: 13 | O99: 13
A100: 93 | B100: Phường Trảng Dài | C100: ='1B'!E102 -> 17 | D100: 11 | E100: 0 | F100: 0 | G100: 13 | H100: 0 | I100: 0 | J100: 0 | K100: 0 | L100: 0 | M100: 0 | N100: 2 | O100: 8
A101: 94 | B101: Phường Trấn Biên | C101: ='1B'!E103 -> 49 | D101: 33 | E101: 24 | F101: 0 | G101: 0 | H101: 49 | I101: 16 | J101: 0 | K101: 6 | L101: 0 | M101: 0 | N101: 31 | O101: 7
...

Sheet 5A
A1: PHỤ LỤC 5A
A2: PHÂN TÍCH TỶ LỆ CÁC CHỈ SỐ THIẾU HỤT DỊCH VỤ XÃ HỘI CƠ BẢN CỦA HỘ NGHÈO CHUẨN TRUNG ƯƠNG NĂM 2025
A4: TT | B4: Khu vực/ | C4: Tổng số hộ nghèo | D4: Chỉ số thiếu hụt dịch vụ xã hội cơ bản của hộ nghèo
B5: Đơn vị | D5: 1 | E5: 2 | F5: 3 | G5: 4 | H5: 5 | I5: 6 | J5: 7 | K5: 8 | L5: 9 | M5: 10 | N5: 11 | O5: 12
A6: I | B6: KV NÔNG THÔN | C6: ='4A'!C9 -> 2714 | D6: ='4A'!D9*100/'5A'!$C$6 -> 38.540899 | E6: ='4A'!E9*100/'5A'!$C$6 -> 58.400884 | F6: ='4A'!F9*100/'5A'!$C$6 -> 2.8002948 | G6: ='4A'!G9*100/'5A'!$C$6 -> 45.87325 | H6: ='4A'!H9*100/'5A'!$C$6 -> 16.396463 | I6: ='4A'!I9*100/'5A'!$C$6 -> 4.1267502 | J6: ='4A'!J9*100/'5A'!$C$6 -> 21.075903 | K6: ='4A'!K9*100/'5A'!$C$6 -> 12.380251 | ... O6: ='4A'!O9*100/'5A'!$C$6 -> 40.051584
A7: 1 | B7: Xã An Phước | C7: ='4A'!C10 -> 27 | D7: ='4A'!D10*100/'5A'!$C$7 -> 0 | E7: ='4A'!E10*100/'5A'!$C$7 -> 100 | F7: ='4A'!F10*100/'5A'!$C$7 -> 0 | G7: ='4A'!G10*100/'5A'!$C$7 -> 100 | H7: ='4A'!H10*100/'5A'!$C$7 -> 0 | I7: ='4A'!I10*100/'5A'!$C$7 -> 0 | J7: ='4A'!J10*100/'5A'!$C$7 -> 18.518519 | K7: ='4A'!K10*100/'5A'!$C$7 -> 0 | ... O7: ='4A'!O10*100/'5A'!$C$7 -> 100
A8: 2 | B8: Xã An Viễn | C8: ='4A'!C11 -> 9 | D8: ='4A'!D11*100/'5A'!$C$8 -> 88.888889 | E8: ='4A'!E11*100/'5A'!$C$8 -> 11.111111 | F8: ='4A'!F11*100/'5A'!$C$8 -> 0 | G8: ='4A'!G11*100/'5A'!$C$8 -> 0 | H8: ='4A'!H11*100/'5A'!$C$8 -> 0 | I8: ='4A'!I11*100/'5A'!$C$8 -> 0 | J8: ='4A'!J11*100/'5A'!$C$8 -> 0 | K8: ='4A'!K11*100/'5A'!$C$8 -> 0 | ... O8: ='4A'!O11*100/'5A'!$C$8 -> 100
A9: 3 | B9: Xã Bàu Hàm | C9: ='4A'!C12 -> 98 | D9: ='4A'!D12*100/'5A'!$C$9 -> 56.122449 | E9: ='4A'!E12*100/'5A'!$C$9 -> 58.163265 | F9: ='4A'!F12*100/'5A'!$C$9 -> 1.0204082 | G9: ='4A'!G12*100/'5A'!$C$9 -> 89.795918 | H9: ='4A'!H12*100/'5A'!$C$9 -> 2.0408163 | I9: ='4A'!I12*100/'5A'!$C$9 -> 4.0816327 | J9: ='4A'!J12*100/'5A'!$C$9 -> 5.1020408 | K9: ='4A'!K12*100/'5A'!$C$9 -> 0 | ... O9: ='4A'!O12*100/'5A'!$C$9 -> 12.244898
A10: 4 | B10: Xã Bình An | C10: ='4A'!C13 -> 12 | D10: ='4A'!D13*100/'5A'!$C$10 -> 108.33333 | E10: ='4A'!E13*100/'5A'!$C$10 -> 0 | F10: ='4A'!F13*100/'5A'!$C$10 -> 0 | G10: ='4A'!G13*100/'5A'!$C$10 -> 83.333333 | H10: ='4A'!H13*100/'5A'!$C$10 -> 0 | I10: ='4A'!I13*100/'5A'!$C$10 -> 0 | J10: ='4A'!J13*100/'5A'!$C$10 -> 0 | K10: ='4A'!K13*100/'5A'!$C$10 -> 0 | ... O10: ='4A'!O13*100/'5A'!$C$10 -> 25
A11: 5 | B11: Xã Bình Minh | C11: ='4A'!C14 -> 21 | D11: ='4A'!D14*100/'5A'!$C$11 -> 76.190476 | E11: ='4A'!E14*100/'5A'!$C$11 -> 66.666667 | F11: ='4A'!F14*100/'5A'!$C$11 -> 0 | G11: ='4A'!G14*100/'5A'!$C$11 -> 9.5238095 | H11: ='4A'!H14*100/'5A'!$C$11 -> 0 | I11: ='4A'!I14*100/'5A'!$C$11 -> 0 | J11: ='4A'!J14*100/'5A'!$C$11 -> 28.571429 | K11: ='4A'!K14*100/'5A'!$C$11 -> 4.7619048 | ... O11: ='4A'!O14*100/'5A'!$C$11 -> 9.5238095
A12: 6 | B12: Xã Bình Tân | C12: ='4A'!C15 -> 0
A13: 7 | B13: Xã Bom Bo | C13: ='4A'!C16 -> 3 | D13: ='4A'!D16*100/'5A'!$C$13 -> 66.666667 | E13: ='4A'!E16*100/'5A'!$C$13 -> 100 | F13: ='4A'!F16*100/'5A'!$C$13 -> 0 | G13: ='4A'!G16*100/'5A'!$C$13 -> 0 | H13: ='4A'!H16*100/'5A'!$C$13 -> 33.333333 | I13: ='4A'!I16*100/'5A'!$C$13 -> 0 | J13: ='4A'!J16*100/'5A'!$C$13 -> 66.666667 | K13: ='4A'!K16*100/'5A'!$C$13 -> 33.333333 | ... O13: ='4A'!O16*100/'5A'!$C$13 -> 66.666667
A14: 8 | B14: Xã Bù Đăng | C14: ='4A'!C17 -> 2 | D14: ='4A'!D17*100/'5A'!$C$14 -> 100 | E14: ='4A'!E17*100/'5A'!$C$14 -> 0 | F14: ='4A'!F17*100/'5A'!$C$14 -> 0 | G14: ='4A'!G17*100/'5A'!$C$14 -> 0 | H14: ='4A'!H17*100/'5A'!$C$14 -> 0 | I14: ='4A'!I17*100/'5A'!$C$14 -> 0 | J14: ='4A'!J17*100/'5A'!$C$14 -> 0 | K14: ='4A'!K17*100/'5A'!$C$14 -> 0 | ... O14: ='4A'!O17*100/'5A'!$C$14 -> 0
A15: 9 | B15: Xã Bù Gia Mập | C15: ='4A'!C18 -> 200 | D15: ='4A'!D18*100/'5A'!$C$15 -> 20.5 | E15: ='4A'!E18*100/'5A'!$C$15 -> 6.5 | F15: ='4A'!F18*100/'5A'!$C$15 -> 4.5 | G15: ='4A'!G18*100/'5A'!$C$15 -> 100 | H15: ='4A'!H18*100/'5A'!$C$15 -> 13.5 | I15: ='4A'!I18*100/'5A'!$C$15 -> 4.5 | J15: ='4A'!J18*100/'5A'!$C$15 -> 100 | K15: ='4A'!K18*100/'5A'!$C$15 -> 5 | ... O15: ='4A'!O18*100/'5A'!$C$15 -> 16
A16: 10 | B16: Xã Cẩm Mỹ | C16: ='4A'!C19 -> 22 | D16: ='4A'!D19*100/'5A'!$C$16 -> 0 | E16: ='4A'!E19*100/'5A'!$C$16 -> 100 | F16: ='4A'!F19*100/'5A'!$C$16 -> 0 | G16: ='4A'!G19*100/'5A'!$C$16 -> 0 | H16: ='4A'!H19*100/'5A'!$C$16 -> 0 | I16: ='4A'!I19*100/'5A'!$C$16 -> 4.5454545 | J16: ='4A'!J19*100/'5A'!$C$16 -> 0 | K16: ='4A'!K19*100/'5A'!$C$16 -> 0 | ... O16: ='4A'!O19*100/'5A'!$C$16 -> 54.545455
A17: 11 | B17: Xã Dầu Giây | C17: ='4A'!C20 -> 124 | D17: ='4A'!D20*100/'5A'!$C$17 -> 100 | E17: ='4A'!E20*100/'5A'!$C$17 -> 100 | F17: ='4A'!F20*100/'5A'!$C$17 -> 0 | G17: ='4A'!G20*100/'5A'!$C$17 -> 0 | H17: ='4A'!H20*100/'5A'!$C$17 -> 0 | I17: ='4A'!I20*100/'5A'!$C$17 -> 0 | J17: ='4A'!J20*100/'5A'!$C$17 -> 0 | K17: ='4A'!K20*100/'5A'!$C$17 -> 0 | ... O17: ='4A'!O20*100/'5A'!$C$17 -> 0
A18: 12 | B18: Xã Đa Kia | C18: ='4A'!C21 -> 22 | D18: ='4A'!D21*100/'5A'!$C$18 -> 0 | E18: ='4A'!E21*100/'5A'!$C$18 -> 0 | F18: ='4A'!F21*100/'5A'!$C$18 -> 9.0909091 | G18: ='4A'!G21*100/'5A'!$C$18 -> 0 | H18: ='4A'!H21*100/'5A'!$C$18 -> 0 | I18: ='4A'!I21*100/'5A'!$C$18 -> 0 | J18: ='4A'!J21*100/'5A'!$C$18 -> 50 | K18: ='4A'!K21*100/'5A'!$C$18 -> 0 | ... O18: ='4A'!O21*100/'5A'!$C$18 -> 68.181818
A19: 13 | B19: Xã Đại Phước | C19: ='4A'!C22 -> 64 | D19: ='4A'!D22*100/'5A'!$C$19 -> 89.0625 | E19: ='4A'!E22*100/'5A'!$C$19 -> 45.3125 | F19: ='4A'!F22*100/'5A'!$C$19 -> 1.5625 | G19: ='4A'!G22*100/'5A'!$C$19 -> 17.1875 | H19: ='4A'!H22*100/'5A'!$C$19 -> 0 | I19: ='4A'!I22*100/'5A'!$C$19 -> 0 | J19: ='4A'!J22*100/'5A'!$C$19 -> 31.25 | K19: ='4A'!K22*100/'5A'!$C$19 -> 1.5625 | ... O19: ='4A'!O22*100/'5A'!$C$19 -> 25
A20: 14 | B20: Xã Đak Lua | C20: ='4A'!C23 -> 76 | D20: ='4A'!D23*100/'5A'!$C$20 -> 2.6315789 | E20: ='4A'!E23*100/'5A'!$C$20 -> 97.368421 | F20: ='4A'!F23*100/'5A'!$C$20 -> 0 | G20: ='4A'!G23*100/'5A'!$C$20 -> 100 | H20: ='4A'!H23*100/'5A'!$C$20 -> 0 | I20: ='4A'!I23*100/'5A'!$C$20 -> 0 | J20: ='4A'!J23*100/'5A'!$C$20 -> 0 | K20: ='4A'!K23*100/'5A'!$C$20 -> 0 | ... O20: ='4A'!O23*100/'5A'!$C$20 -> 1.3157895
A21: 15 | B21: Xã Đak Nhau | C21: ='4A'!C24 -> 35 | D21: ='4A'!D24*100/'5A'!$C$21 -> 37.142857 | E21: ='4A'!E24*100/'5A'!$C$21 -> 85.714286 | F21: ='4A'!F24*100/'5A'!$C$21 -> 0 | G21: ='4A'!G24*100/'5A'!$C$21 -> 42.857143 | H21: ='4A'!H24*100/'5A'!$C$21 -> 85.714286 | I21: ='4A'!I24*100/'5A'!$C$21 -> 2.8571429 | J21: ='4A'!J24*100/'5A'!$C$21 -> 40 | K21: ='4A'!K24*100/'5A'!$C$21 -> 2.8571429 | ... O21: ='4A'!O24*100/'5A'!$C$21 -> 0
A22: 16 | B22: Xã Đăk Ơ | C22: ='4A'!C25 -> 96 | D22: ='4A'!D25*100/'5A'!$C$22 -> 72.916667 | E22: ='4A'!E25*100/'5A'!$C$22 -> 27.083333 | F22: ='4A'!F25*100/'5A'!$C$22 -> 17.708333 | G22: ='4A'!G25*100/'5A'!$C$22 -> 0 | H22: ='4A'!H25*100/'5A'!$C$22 -> 43.75 | I22: ='4A'!I25*100/'5A'!$C$22 -> 20.833333 | J22: ='4A'!J25*100/'5A'!$C$22 -> 39.583333 | K22: ='4A'!K25*100/'5A'!$C$22 -> 21.875 | ... O22: ='4A'!O25*100/'5A'!$C$22 -> 48.958333
A23: 17 | B23: Xã Định Quán | C23: ='4A'!C26 -> 45 | D23: ='4A'!D26*100/'5A'!$C$23 -> 15.555556 | E23: ='4A'!E26*100/'5A'!$C$23 -> 0 | F23: ='4A'!F26*100/'5A'!$C$23 -> 0 | G23: ='4A'!G26*100/'5A'!$C$23 -> 86.666667 | H23: ='4A'!H26*100/'5A'!$C$23 -> 55.555556 | I23: ='4A'!I26*100/'5A'!$C$23 -> 0 | J23: ='4A'!J26*100/'5A'!$C$23 -> 0 | K23: ='4A'!K26*100/'5A'!$C$23 -> 0 | ... O23: ='4A'!O26*100/'5A'!$C$23 -> 11.111111
A24: 18 | B24: Xã Đồng Phú | C24: ='4A'!C27 -> 1 | D24: ='4A'!D27*100/'5A'!$C$24 -> 100 | E24: ='4A'!E27*100/'5A'!$C$24 -> 0 | F24: ='4A'!F27*100/'5A'!$C$24 -> 0 | G24: ='4A'!G27*100/'5A'!$C$24 -> 0 | H24: ='4A'!H27*100/'5A'!$C$24 -> 0 | I24: ='4A'!I27*100/'5A'!$C$24 -> 0 | J24: ='4A'!J27*100/'5A'!$C$24 -> 0 | K24: ='4A'!K27*100/'5A'!$C$24 -> 100 | ... O24: ='4A'!O27*100/'5A'!$C$24 -> 100
A25: 19 | B25: Xã Đồng Tâm | C25: ='4A'!C28 -> 0
A26: 20 | B26: Xã Gia Kiệm | C26: ='4A'!C29 -> 189 | D26: ='4A'!D29*100/'5A'!$C$26 -> 0 | E26: ='4A'!E29*100/'5A'!$C$26 -> 100 | F26: ='4A'!F29*100/'5A'!$C$26 -> 0 | G26: ='4A'!G29*100/'5A'!$C$26 -> 100 | H26: ='4A'!H29*100/'5A'!$C$26 -> 0 | I26: ='4A'!I29*100/'5A'!$C$26 -> 0 | J26: ='4A'!J29*100/'5A'!$C$26 -> 0 | K26: ='4A'!K29*100/'5A'!$C$26 -> 0 | ... O26: ='4A'!O29*100/'5A'!$C$26 -> 82.010582
A27: 21 | B27: Xã Hưng Phước | C27: ='4A'!C30 -> 6 | D27: ='4A'!D30*100/'5A'!$C$27 -> 100 | E27: ='4A'!E30*100/'5A'!$C$27 -> 100 | F27: ='4A'!F30*100/'5A'!$C$27 -> 0 | G27: ='4A'!G30*100/'5A'!$C$27 -> 0 | H27: ='4A'!H30*100/'5A'!$C$27 -> 100 | I27: ='4A'!I30*100/'5A'!$C$27 -> 0 | J27: ='4A'!J30*100/'5A'!$C$27 -> 0 | K27: ='4A'!K30*100/'5A'!$C$27 -> 0 | ... O27: ='4A'!O30*100/'5A'!$C$27 -> 100
A28: 22 | B28: Xã Hưng Thịnh | C28: ='4A'!C31 -> 40 | D28: ='4A'!D31*100/'5A'!$C$28 -> 100 | E28: ='4A'!E31*100/'5A'!$C$28 -> 0 | F28: ='4A'!F31*100/'5A'!$C$28 -> 0 | G28: ='4A'!G31*100/'5A'!$C$28 -> 100 | H28: ='4A'!H31*100/'5A'!$C$28 -> 0 | I28: ='4A'!I31*100/'5A'!$C$28 -> 0 | J28: ='4A'!J31*100/'5A'!$C$28 -> 0 | K28: ='4A'!K31*100/'5A'!$C$28 -> 0 | ... O28: ='4A'!O31*100/'5A'!$C$28 -> 0
A29: 23 | B29: Xã La Ngà | C29: ='4A'!C32 -> 14 | D29: ='4A'!D32*100/'5A'!$C$29 -> 100 | E29: ='4A'!E32*100/'5A'!$C$29 -> 0 | F29: ='4A'!F32*100/'5A'!$C$29 -> 0 | G29: ='4A'!G32*100/'5A'!$C$29 -> 0 | H29: ='4A'!H32*100/'5A'!$C$29 -> 0 | I29: ='4A'!I32*100/'5A'!$C$29 -> 0 | J29: ='4A'!J32*100/'5A'!$C$29 -> 0 | K29: ='4A'!K32*100/'5A'!$C$29 -> 0 | ... O29: ='4A'!O32*100/'5A'!$C$29 -> 100
A30: 24 | B30: Xã Long Hà | C30: ='4A'!C33 -> 0
A31: 25 | B31: Xã Long Phước | C31: ='4A'!C34 -> 27 | D31: ='4A'!D34*100/'5A'!$C$31 -> 81.481481 | E31: ='4A'!E34*100/'5A'!$C$31 -> 81.481481 | F31: ='4A'!F34*100/'5A'!$C$31 -> 0 | G31: ='4A'!G34*100/'5A'!$C$31 -> 74.074074 | H31: ='4A'!H34*100/'5A'!$C$31 -> 0 | I31: ='4A'!I34*100/'5A'!$C$31 -> 0 | J31: ='4A'!J34*100/'5A'!$C$31 -> 0 | K31: ='4A'!K34*100/'5A'!$C$31 -> 0 | ... O31: ='4A'!O34*100/'5A'!$C$31 -> 11.111111
A32: 26 | B32: Xã Long Thành | C32: ='4A'!C35 -> 69 | D32: ='4A'!D35*100/'5A'!$C$32 -> 28.985507 | E32: ='4A'!E35*100/'5A'!$C$32 -> 31.884058 | F32: ='4A'!F35*100/'5A'!$C$32 -> 0 | G32: ='4A'!G35*100/'5A'!$C$32 -> 92.753623 | H32: ='4A'!H35*100/'5A'!$C$32 -> 91.304348 | I32: ='4A'!I35*100/'5A'!$C$32 -> 10.144928 | J32: ='4A'!J35*100/'5A'!$C$32 -> 28.985507 | K32: ='4A'!K35*100/'5A'!$C$32 -> 20.289855 | ... O32: ='4A'!O35*100/'5A'!$C$32 -> 86.956522
A33: 27 | B33: Xã Lộc Hưng | C33: ='4A'!C36 -> 0
A34: 28 | B34: Xã Lộc Ninh | C34: ='4A'!C37 -> 0
A35: 29 | B35: Xã Lộc Quang | C35: ='4A'!C38 -> 35 | D35: ='4A'!D38*100/'5A'!$C$35 -> 62.857143 | E35: ='4A'!E38*100/'5A'!$C$35 -> 60 | F35: ='4A'!F38*100/'5A'!$C$35 -> 8.5714286 | G35: ='4A'!G38*100/'5A'!$C$35 -> 0 | H35: ='4A'!H38*100/'5A'!$C$35 -> 17.142857 | I35: ='4A'!I38*100/'5A'!$C$35 -> 8.5714286 | J35: ='4A'!J38*100/'5A'!$C$35 -> 54.285714 | K35: ='4A'!K38*100/'5A'!$C$35 -> 22.857143 | ... O35: ='4A'!O38*100/'5A'!$C$35 -> 31.428571
A36: 30 | B36: Xã Lộc Tấn | C36: ='4A'!C39 -> 176 | D36: ='4A'!D39*100/'5A'!$C$36 -> 0 | E36: ='4A'!E39*100/'5A'!$C$36 -> 100 | F36: ='4A'!F39*100/'5A'!$C$36 -> 0 | G36: ='4A'!G39*100/'5A'!$C$36 -> 0 | H36: ='4A'!H39*100/'5A'!$C$36 -> 100 | I36: ='4A'!I39*100/'5A'!$C$36 -> 0.56818182 | J36: ='4A'!J39*100/'5A'!$C$36 -> 43.181818 | K36: ='4A'!K39*100/'5A'!$C$36 -> 100 | ... O36: ='4A'!O39*100/'5A'!$C$36 -> 100
A37: 31 | B37: Xã Lộc Thành | C37: ='4A'!C40 -> 50 | D37: ='4A'!D40*100/'5A'!$C$37 -> 40 | E37: ='4A'!E40*100/'5A'!$C$37 -> 40 | F37: ='4A'!F40*100/'5A'!$C$37 -> 50 | G37: ='4A'!G40*100/'5A'!$C$37 -> 8 | H37: ='4A'!H40*100/'5A'!$C$37 -> 4 | I37: ='4A'!I40*100/'5A'!$C$37 -> 24 | J37: ='4A'!J40*100/'5A'!$C$37 -> 28 | K37: ='4A'!K40*100/'5A'!$C$37 -> 34 | ... O37: ='4A'!O40*100/'5A'!$C$37 -> 16
A38: 32 | B38: Xã Lộc Thạnh | C38: ='4A'!C41 -> 56 | D38: ='4A'!D41*100/'5A'!$C$38 -> 67.857143 | E38: ='4A'!E41*100/'5A'!$C$38 -> 58.928571 | F38: ='4A'!F41*100/'5A'!$C$38 -> 16.071429 | G38: ='4A'!G41*100/'5A'!$C$38 -> 46.428571 | H38: ='4A'!H41*100/'5A'!$C$38 -> 28.571429 | I38: ='4A'!I41*100/'5A'!$C$38 -> 35.714286 | J38: ='4A'!J41*100/'5A'!$C$38 -> 39.285714 | K38: ='4A'!K41*100/'5A'!$C$38 -> 30.357143 | ... O38: ='4A'!O41*100/'5A'!$C$38 -> 28.571429
A39: 33 | B39: Xã Minh Đức | C39: ='4A'!C42 -> 5 | D39: ='4A'!D42*100/'5A'!$C$39 -> 20 | E39: ='4A'!E42*100/'5A'!$C$39 -> 40 | F39: ='4A'!F42*100/'5A'!$C$39 -> 20 | G39: ='4A'!G42*100/'5A'!$C$39 -> 60 | H39: ='4A'!H42*100/'5A'!$C$39 -> 20 | I39: ='4A'!I42*100/'5A'!$C$39 -> 20 | J39: ='4A'!J42*100/'5A'!$C$39 -> 40 | K39: ='4A'!K42*100/'5A'!$C$39 -> 0 | ... O39: ='4A'!O42*100/'5A'!$C$39 -> 40
A40: 34 | B40: Xã Nam Cát Tiên | C40: ='4A'!C43 -> 108 | D40: ='4A'!D43*100/'5A'!$C$40 -> 43.518519 | E40: ='4A'!E43*100/'5A'!$C$40 -> 47.222222 | F40: ='4A'!F43*100/'5A'!$C$40 -> 0 | G40: ='4A'!G43*100/'5A'!$C$40 -> 2.7777778 | H40: ='4A'!H43*100/'5A'!$C$40 -> 0 | I40: ='4A'!I43*100/'5A'!$C$40 -> 0 | J40: ='4A'!J43*100/'5A'!$C$40 -> 0 | K40: ='4A'!K43*100/'5A'!$C$40 -> 0 | ... O40: ='4A'!O43*100/'5A'!$C$40 -> 50
A41: 35 | B41: Xã Nghĩa Trung | C41: ='4A'!C44 -> 9 | D41: ='4A'!D44*100/'5A'!$C$41 -> 33.333333 | E41: ='4A'!E44*100/'5A'!$C$41 -> 66.666667 | F41: ='4A'!F44*100/'5A'!$C$41 -> 33.333333 | G41: ='4A'!G44*100/'5A'!$C$41 -> 100 | H41: ='4A'!H44*100/'5A'!$C$41 -> 0 | I41: ='4A'!I44*100/'5A'!$C$41 -> 44.444444 | J41: ='4A'!J44*100/'5A'!$C$41 -> 11.111111 | K41: ='4A'!K44*100/'5A'!$C$41 -> 22.222222 | ... O41: ='4A'!O44*100/'5A'!$C$41 -> 55.555556
A42: 36 | B42: Xã Nha Bích | C42: ='4A'!C45 -> 0
A43: 37 | B43: Xã Nhơn Trạch | C43: ='4A'!C46 -> 118 | D43: ='4A'!D46*100/'5A'!$C$43 -> 15.254237 | E43: ='4A'!E46*100/'5A'!$C$43 -> 11.864407 | F43: ='4A'!F46*100/'5A'!$C$43 -> 0 | G43: ='4A'!G46*100/'5A'!$C$43 -> 100 | H43: ='4A'!H46*100/'5A'!$C$43 -> 0.84745763 | I43: ='4A'!I46*100/'5A'!$C$43 -> 0.84745763 | J43: ='4A'!J46*100/'5A'!$C$43 -> 0.84745763 | K43: ='4A'!K46*100/'5A'!$C$43 -> 0 | ... O43: ='4A'!O46*100/'5A'!$C$43 -> 94.067797
A44: 38 | B44: Xã Phú Hòa | C44: ='4A'!C47 -> 46 | D44: ='4A'!D47*100/'5A'!$C$44 -> 30.434783 | E44: ='4A'!E47*100/'5A'!$C$44 -> 21.73913 | F44: ='4A'!F47*100/'5A'!$C$44 -> 0 | G44: ='4A'!G47*100/'5A'!$C$44 -> 63.043478 | H44: ='4A'!H47*100/'5A'!$C$44 -> 6.5217391 | I44: ='4A'!I47*100/'5A'!$C$44 -> 2.173913 | J44: ='4A'!J47*100/'5A'!$C$44 -> 19.565217 | K44: ='4A'!K47*100/'5A'!$C$44 -> 0 | ... O44: ='4A'!O47*100/'5A'!$C$44 -> 71.73913
A45: 39 | B45: Xã Phú Lâm | C45: ='4A'!C48 -> 0
A46: 40 | B46: Xã Phú Lý | C46: ='4A'!C49 -> 0
A47: 41 | B47: Xã Phú Nghĩa | C47: ='4A'!C50 -> 29 | D47: ='4A'!D50*100/'5A'!$C$47 -> 89.655172 | E47: ='4A'!E50*100/'5A'!$C$47 -> 96.551724 | F47: ='4A'!F50*100/'5A'!$C$47 -> 0 | G47: ='4A'!G50*100/'5A'!$C$47 -> 0 | H47: ='4A'!H50*100/'5A'!$C$47 -> 75.862069 | I47: ='4A'!I50*100/'5A'!$C$47 -> 0 | J47: ='4A'!J50*100/'5A'!$C$47 -> 6.8965517 | K47: ='4A'!K50*100/'5A'!$C$47 -> 3.4482759 | ... O47: ='4A'!O50*100/'5A'!$C$47 -> 79.310345
A48: 42 | B48: Xã Phú Riềng | C48: ='4A'!C51 -> 1 | D48: ='4A'!D51*100/'5A'!$C$48 -> 0 | E48: ='4A'!E51*100/'5A'!$C$48 -> 100 | F48: ='4A'!F51*100/'5A'!$C$48 -> 100 | G48: ='4A'!G51*100/'5A'!$C$48 -> 100 | H48: ='4A'!H51*100/'5A'!$C$48 -> 0 | I48: ='4A'!I51*100/'5A'!$C$48 -> 0 | J48: ='4A'!J51*100/'5A'!$C$48 -> 0 | K48: ='4A'!K51*100/'5A'!$C$48 -> 0 | ... O48: ='4A'!O51*100/'5A'!$C$48 -> 0
A49: 43 | B49: Xã Phú Trung | C49: ='4A'!C52 -> 0
A50: 44 | B50: Xã Phú Vinh | C50: ='4A'!C53 -> 24 | D50: ='4A'!D53*100/'5A'!$C$50 -> 100 | E50: ='4A'!E53*100/'5A'!$C$50 -> 100 | F50: ='4A'!F53*100/'5A'!$C$50 -> 0 | G50: ='4A'!G53*100/'5A'!$C$50 -> 0 | H50: ='4A'!H53*100/'5A'!$C$50 -> 0 | I50: ='4A'!I53*100/'5A'!$C$50 -> 100 | J50: ='4A'!J53*100/'5A'!$C$50 -> 100 | K50: ='4A'!K53*100/'5A'!$C$50 -> 100 | ... O50: ='4A'!O53*100/'5A'!$C$50 -> 0
A51: 45 | B51: Xã Phước An | C51: ='4A'!C54 -> 63 | D51: ='4A'!D54*100/'5A'!$C$51 -> 50.793651 | E51: ='4A'!E54*100/'5A'!$C$51 -> 100 | F51: ='4A'!F54*100/'5A'!$C$51 -> 0 | G51: ='4A'!G54*100/'5A'!$C$51 -> 0 | H51: ='4A'!H54*100/'5A'!$C$51 -> 0 | I51: ='4A'!I54*100/'5A'!$C$51 -> 0 | J51: ='4A'!J54*100/'5A'!$C$51 -> 0 | K51: ='4A'!K54*100/'5A'!$C$51 -> 39.68254 | ... O51: ='4A'!O54*100/'5A'!$C$51 -> 0
A52: 46 | B52: Xã Phước Sơn | C52: ='4A'!C55 -> 13 | D52: ='4A'!D55*100/'5A'!$C$52 -> 100 | E52: ='4A'!E55*100/'5A'!$C$52 -> 53.846154 | F52: ='4A'!F55*100/'5A'!$C$52 -> 0 | G52: ='4A'!G55*100/'5A'!$C$52 -> 0 | H52: ='4A'!H55*100/'5A'!$C$52 -> 23.076923 | I52: ='4A'!I55*100/'5A'!$C$52 -> 7.6923077 | J52: ='4A'!J55*100/'5A'!$C$52 -> 15.384615 | K52: ='4A'!K55*100/'5A'!$C$52 -> 7.6923077 | ... O52: ='4A'!O55*100/'5A'!$C$52 -> 38.461538
A53: 47 | B53: Xã Phước Thái | C53: ='4A'!C56 -> 52 | D53: ='4A'!D56*100/'5A'!$C$53 -> 61.538462 | E53: ='4A'!E56*100/'5A'!$C$53 -> 0 | F53: ='4A'!F56*100/'5A'!$C$53 -> 0 | G53: ='4A'!G56*100/'5A'!$C$53 -> 0 | H53: ='4A'!H56*100/'5A'!$C$53 -> 0 | I53: ='4A'!I56*100/'5A'!$C$53 -> 0 | J53: ='4A'!J56*100/'5A'!$C$53 -> 3.8461538 | K53: ='4A'!K56*100/'5A'!$C$53 -> 0 | ... O53: ='4A'!O56*100/'5A'!$C$53 -> 19.230769
A54: 48 | B54: Xã Sông Ray | C54: ='4A'!C57 -> 22 | D54: ='4A'!D57*100/'5A'!$C$54 -> 59.090909 | E54: ='4A'!E57*100/'5A'!$C$54 -> 72.727273 | F54: ='4A'!F57*100/'5A'!$C$54 -> 0 | G54: ='4A'!G57*100/'5A'!$C$54 -> 4.5454545 | H54: ='4A'!H57*100/'5A'!$C$54 -> 4.5454545 | I54: ='4A'!I57*100/'5A'!$C$54 -> 0 | J54: ='4A'!J57*100/'5A'!$C$54 -> 13.636364 | K54: ='4A'!K57*100/'5A'!$C$54 -> 0 | ... O54: ='4A'!O57*100/'5A'!$C$54 -> 45.454545
A55: 49 | B55: Xã Tà Lài | C55: ='4A'!C58 -> 0
A56: 50 | B56: Xã Tân An | C56: ='4A'!C59 -> 6 | D56: ='4A'!D59*100/'5A'!$C$56 -> 100 | E56: ='4A'!E59*100/'5A'!$C$56 -> 0 | F56: ='4A'!F59*100/'5A'!$C$56 -> 0 | G56: ='4A'!G59*100/'5A'!$C$56 -> 0 | H56: ='4A'!H59*100/'5A'!$C$56 -> 0 | I56: ='4A'!I59*100/'5A'!$C$56 -> 0 | J56: ='4A'!J59*100/'5A'!$C$56 -> 0 | K56: ='4A'!K59*100/'5A'!$C$56 -> 0 | ... O56: ='4A'!O59*100/'5A'!$C$56 -> 100
A57: 51 | B57: Xã Tân Hưng | C57: ='4A'!C60 -> 0
A58: 52 | B58: Xã Tân Khai | C58: ='4A'!C61 -> 0
A59: 53 | B59: Xã Tân Lợi | C59: ='4A'!C62 -> 1 | D59: ='4A'!D62*100/'5A'!$C$59 -> 0 | E59: ='4A'!E62*100/'5A'!$C$59 -> 100 | F59: ='4A'!F62*100/'5A'!$C$59 -> 0 | G59: ='4A'!G62*100/'5A'!$C$59 -> 0 | H59: ='4A'!H62*100/'5A'!$C$59 -> 0 | I59: ='4A'!I62*100/'5A'!$C$59 -> 0 | J59: ='4A'!J62*100/'5A'!$C$59 -> 100 | K59: ='4A'!K62*100/'5A'!$C$59 -> 100 | ... O59: ='4A'!O62*100/'5A'!$C$59 -> 0
A60: 54 | B60: Xã Tân Phú | C60: ='4A'!C63 -> 0
A61: 55 | B61: Xã Tân Quan | C61: ='4A'!C64 -> 9 | D61: ='4A'!D64*100/'5A'!$C$61 -> 33.333333 | E61: ='4A'!E64*100/'5A'!$C$61 -> 88.888889 | F61: ='4A'!F64*100/'5A'!$C$61 -> 0 | G61: ='4A'!G64*100/'5A'!$C$61 -> 11.111111 | H61: ='4A'!H64*100/'5A'!$C$61 -> 0 | I61: ='4A'!I64*100/'5A'!$C$61 -> 11.111111 | J61: ='4A'!J64*100/'5A'!$C$61 -> 0 | K61: ='4A'!K64*100/'5A'!$C$61 -> 11.111111 | ... O61: ='4A'!O64*100/'5A'!$C$61 -> 77.777778
A62: 56 | B62: Xã Tân Tiến | C62: ='4A'!C65 -> 18 | D62: ='4A'!D65*100/'5A'!$C$62 -> 0 | E62: ='4A'!E65*100/'5A'!$C$62 -> 100 | F62: ='4A'!F65*100/'5A'!$C$62 -> 0 | G62: ='4A'!G65*100/'5A'!$C$62 -> 100 | H62: ='4A'!H65*100/'5A'!$C$62 -> 0 | I62: ='4A'!I65*100/'5A'!$C$62 -> 0 | J62: ='4A'!J65*100/'5A'!$C$62 -> 0 | K62: ='4A'!K65*100/'5A'!$C$62 -> 0 | ... O62: ='4A'!O65*100/'5A'!$C$62 -> 0
A63: 57 | B63: Xã Thanh Sơn | C63: ='4A'!C66 -> 75 | D63: ='4A'!D66*100/'5A'!$C$63 -> 9.3333333 | E63: ='4A'!E66*100/'5A'!$C$63 -> 93.333333 | F63: ='4A'!F66*100/'5A'!$C$63 -> 0 | G63: ='4A'!G66*100/'5A'!$C$63 -> 9.3333333 | H63: ='4A'!H66*100/'5A'!$C$63 -> 2.6666667 | I63: ='4A'!I66*100/'5A'!$C$63 -> 1.3333333 | J63: ='4A'!J66*100/'5A'!$C$63 -> 30.666667 | K63: ='4A'!K66*100/'5A'!$C$63 -> 2.6666667 | ... O63: ='4A'!O66*100/'5A'!$C$63 -> 56
A64: 58 | B64: Xã Thiện Hưng | C64: ='4A'!C67 -> 12 | D64: ='4A'!D67*100/'5A'!$C$64 -> 100 | E64: ='4A'!E67*100/'5A'!$C$64 -> 75 | F64: ='4A'!F67*100/'5A'!$C$64 -> 0 | G64: ='4A'!G67*100/'5A'!$C$64 -> 0 | H64: ='4A'!H67*100/'5A'!$C$64 -> 8.3333333 | I64: ='4A'!I67*100/'5A'!$C$64 -> 0 | J64: ='4A'!J67*100/'5A'!$C$64 -> 16.666667 | K64: ='4A'!K67*100/'5A'!$C$64 -> 8.3333333 | ... O64: ='4A'!O67*100/'5A'!$C$64 -> 25
A65: 59 | B65: Xã Thọ Sơn | C65: ='4A'!C68 -> 3 | D65: ='4A'!D68*100/'5A'!$C$65 -> 100 | E65: ='4A'!E68*100/'5A'!$C$65 -> 100 | F65: ='4A'!F68*100/'5A'!$C$65 -> 0 | G65: ='4A'!G68*100/'5A'!$C$65 -> 0 | H65: ='4A'!H68*100/'5A'!$C$65 -> 0 | I65: ='4A'!I68*100/'5A'!$C$65 -> 0 | J65: ='4A'!J68*100/'5A'!$C$65 -> 100 | K65: ='4A'!K68*100/'5A'!$C$65 -> 0 | ... O65: ='4A'!O68*100/'5A'!$C$65 -> 0
A66: 60 | B66: Xã Thống Nhất | C66: ='4A'!C69 -> 166 | D66: ='4A'!D69*100/'5A'!$C$66 -> 28.313253 | E66: ='4A'!E69*100/'5A'!$C$66 -> 56.626506 | F66: ='4A'!F69*100/'5A'!$C$66 -> 0 | G66: ='4A'!G69*100/'5A'!$C$66 -> 0 | H66: ='4A'!H69*100/'5A'!$C$66 -> 6.626506 | I66: ='4A'!I69*100/'5A'!$C$66 -> 0 | J66: ='4A'!J69*100/'5A'!$C$66 -> 12.048193 | K66: ='4A'!K69*100/'5A'!$C$66 -> 4.8192771 | ... O66: ='4A'!O69*100/'5A'!$C$66 -> 2.4096386
A67: 61 | B67: Xã Thuận Lợi | C67: ='4A'!C70 -> 0
A68: 62 | B68: Xã Trảng Bom | C68: ='4A'!C71 -> 73 | D68: ='4A'!D71*100/'5A'!$C$68 -> 0 | E68: ='4A'!E71*100/'5A'!$C$68 -> 100 | F68: ='4A'!F71*100/'5A'!$C$68 -> 0 | G68: ='4A'!G71*100/'5A'!$C$68 -> 100 | H68: ='4A'!H71*100/'5A'!$C$68 -> 0 | I68: ='4A'!I71*100/'5A'!$C$68 -> 0 | J68: ='4A'!J71*100/'5A'!$C$68 -> 0 | K68: ='4A'!K71*100/'5A'!$C$68 -> 0 | ... O68: ='4A'!O71*100/'5A'!$C$68 -> 0
A69: 63 | B69: Xã Trị An | C69: ='4A'!C72 -> 0
A70: 64 | B70: Xã Xuân Bắc | C70: ='4A'!C73 -> 40 | D70: ='4A'!D73*100/'5A'!$C$70 -> 17.5 | E70: ='4A'!E73*100/'5A'!$C$70 -> 22.5 | F70: ='4A'!F73*100/'5A'!$C$70 -> 0 | G70: ='4A'!G73*100/'5A'!$C$70 -> 0 | H70: ='4A'!H73*100/'5A'!$C$70 -> 0 | I70: ='4A'!I73*100/'5A'!$C$70 -> 0 | J70: ='4A'!J73*100/'5A'!$C$70 -> 2.5 | K70: ='4A'!K73*100/'5A'!$C$70 -> 0 | ... O70: ='4A'!O73*100/'5A'!$C$70 -> 20
A71: 65 | B71: Xã Xuân Định | C71: ='4A'!C74 -> 37 | D71: ='4A'!D74*100/'5A'!$C$71 -> 94.594595 | E71: ='4A'!E74*100/'5A'!$C$71 -> 40.540541 | F71: ='4A'!F74*100/'5A'!$C$71 -> 0 | G71: ='4A'!G74*100/'5A'!$C$71 -> 5.4054054 | H71: ='4A'!H74*100/'5A'!$C$71 -> 2.7027027 | I71: ='4A'!I74*100/'5A'!$C$71 -> 0 | J71: ='4A'!J74*100/'5A'!$C$71 -> 10.810811 | K71: ='4A'!K74*100/'5A'!$C$71 -> 0 | ... O71: ='4A'!O74*100/'5A'!$C$71 -> 18.918919
A72: 66 | B72: Xã Xuân Đông | C72: ='4A'!C75 -> 7 | D72: ='4A'!D75*100/'5A'!$C$72 -> 0 | E72: ='4A'!E75*100/'5A'!$C$72 -> 100 | F72: ='4A'!F75*100/'5A'!$C$72 -> 0 | G72: ='4A'!G75*100/'5A'!$C$72 -> 0 | H72: ='4A'!H75*100/'5A'!$C$72 -> 0 | I72: ='4A'!I75*100/'5A'!$C$72 -> 0 | J72: ='4A'!J75*100/'5A'!$C$72 -> 0 | K72: ='4A'!K75*100/'5A'!$C$72 -> 0 | ... O72: ='4A'!O75*100/'5A'!$C$72 -> 85.714286
A73: 67 | B73: Xã Xuân Đường | C73: ='4A'!C76 -> 33 | D73: ='4A'!D76*100/'5A'!$C$73 -> 100 | E73: ='4A'!E76*100/'5A'!$C$73 -> 0 | F73: ='4A'!F76*100/'5A'!$C$73 -> 0 | G73: ='4A'!G76*100/'5A'!$C$73 -> 100 | H73: ='4A'!H76*100/'5A'!$C$73 -> 0 | I73: ='4A'!I76*100/'5A'!$C$73 -> 0 | J73: ='4A'!J76*100/'5A'!$C$73 -> 0 | K73: ='4A'!K76*100/'5A'!$C$73 -> 0 | ... O73: ='4A'!O76*100/'5A'!$C$73 -> 45.454545
A74: 68 | B74: Xã Xuân Hòa | C74: ='4A'!C77 -> 129 | D74: ='4A'!D77*100/'5A'!$C$74 -> 39.534884 | E74: ='4A'!E77*100/'5A'!$C$74 -> 50.387597 | F74: ='4A'!F77*100/'5A'!$C$74 -> 2.3255814 | G74: ='4A'!G77*100/'5A'!$C$74 -> 57.364341 | H74: ='4A'!H77*100/'5A'!$C$74 -> 1.5503876 | I74: ='4A'!I77*100/'5A'!$C$74 -> 0 | J74: ='4A'!J77*100/'5A'!$C$74 -> 13.953488 | K74: ='4A'!K77*100/'5A'!$C$74 -> 1.5503876 | ... O74: ='4A'!O77*100/'5A'!$C$74 -> 58.914729
A75: 69 | B75: Xã Xuân Lộc | C75: ='4A'!C78 -> 56 | D75: ='4A'!D78*100/'5A'!$C$75 -> 21.428571 | E75: ='4A'!E78*100/'5A'!$C$75 -> 98.214286 | F75: ='4A'!F78*100/'5A'!$C$75 -> 0 | G75: ='4A'!G78*100/'5A'!$C$75 -> 100 | H75: ='4A'!H78*100/'5A'!$C$75 -> 0 | I75: ='4A'!I78*100/'5A'!$C$75 -> 0 | J75: ='4A'!J78*100/'5A'!$C$75 -> 0 | K75: ='4A'!K78*100/'5A'!$C$75 -> 0 | ... O75: ='4A'!O78*100/'5A'!$C$75 -> 0
A76: 70 | B76: Xã Xuân Phú | C76: ='4A'!C79 -> 16 | D76: ='4A'!D79*100/'5A'!$C$76 -> 43.75 | E76: ='4A'!E79*100/'5A'!$C$76 -> 56.25 | F76: ='4A'!F79*100/'5A'!$C$76 -> 0 | G76: ='4A'!G79*100/'5A'!$C$76 -> 0 | H76: ='4A'!H79*100/'5A'!$C$76 -> 0 | I76: ='4A'!I79*100/'5A'!$C$76 -> 0 | J76: ='4A'!J79*100/'5A'!$C$76 -> 0 | K76: ='4A'!K79*100/'5A'!$C$76 -> 0 | ... O76: ='4A'!O79*100/'5A'!$C$76 -> 50
A77: 71 | B77: Xã Xuân Quế | C77: ='4A'!C80 -> 0
A78: 72 | B78: Xã Xuân Thành | C78: ='4A'!C81 -> 24 | D78: ='4A'!D81*100/'5A'!$C$78 -> 29.166667 | E78: ='4A'!E81*100/'5A'!$C$78 -> 75 | F78: ='4A'!F81*100/'5A'!$C$78 -> 4.1666667 | G78: ='4A'!G81*100/'5A'!$C$78 -> 25 | H78: ='4A'!H81*100/'5A'!$C$78 -> 4.1666667 | I78: ='4A'!I81*100/'5A'!$C$78 -> 0 | J78: ='4A'!J81*100/'5A'!$C$78 -> 8.3333333 | K78: ='4A'!K81*100/'5A'!$C$78 -> 0 | ... O78: ='4A'!O81*100/'5A'!$C$78 -> 79.166667
A79: II | B79: KV THÀNH THỊ | C79: ='4A'!C82 -> 193 | D79: ='4A'!D82*100/'5A'!$C$79 -> 32.124352 | E79: ='4A'!E82*100/'5A'!$C$79 -> 63.212435 | F79: ='4A'!F82*100/'5A'!$C$79 -> 9.8445596 | G79: ='4A'!G82*100/'5A'!$C$79 -> 40.932642 | H79: ='4A'!H82*100/'5A'!$C$79 -> 1.5544041 | I79: ='4A'!I82*100/'5A'!$C$79 -> 1.5544041 | J79: ='4A'!J82*100/'5A'!$C$79 -> 1.0362694 | K79: ='4A'!K82*100/'5A'!$C$79 -> 19.689119 | ... O79: ='4A'!O82*100/'5A'!$C$79 -> 66.839378
A80: 73 | B80: Phường An Lộc | C80: ='4A'!C83 -> 0
A81: 74 | B81: Phường Bảo Vinh | C81: ='4A'!C84 -> 24 | D81: ='4A'!D84*100/'5A'!$C$81 -> 0 | E81: ='4A'!E84*100/'5A'!$C$81 -> 100 | F81: ='4A'!F84*100/'5A'!$C$81 -> 0 | G81: ='4A'!G84*100/'5A'!$C$81 -> 0 | H81: ='4A'!H84*100/'5A'!$C$81 -> 0 | I81: ='4A'!I84*100/'5A'!$C$81 -> 0 | J81: ='4A'!J84*100/'5A'!$C$81 -> 0 | K81: ='4A'!K84*100/'5A'!$C$81 -> 4.1666667 | ... O81: ='4A'!O84*100/'5A'!$C$81 -> 95.833333
A82: 75 | B82: Phường Biên Hòa | C82: ='4A'!C85 -> 0
A83: 76 | B83: Phường Bình Long | C83: ='4A'!C86 -> 0
A84: 77 | B84: Phường Bình Lộc | C84: ='4A'!C87 -> 22 | D84: ='4A'!D87*100/'5A'!$C$84 -> 100 | E84: ='4A'!E87*100/'5A'!$C$84 -> 100 | F84: ='4A'!F87*100/'5A'!$C$84 -> 0 | G84: ='4A'!G87*100/'5A'!$C$84 -> 100 | H84: ='4A'!H87*100/'5A'!$C$84 -> 0 | I84: ='4A'!I87*100/'5A'!$C$84 -> 0 | J84: ='4A'!J87*100/'5A'!$C$84 -> 0 | K84: ='4A'!K87*100/'5A'!$C$84 -> 0 | ... O84: ='4A'!O87*100/'5A'!$C$84 -> 0
A85: 78 | B85: Phường Bình Phước | C85: ='4A'!C88 -> 0
A86: 79 | B86: Phường Chơn Thành | C86: ='4A'!C89 -> 0
A87: 80 | B87: Phường Đồng Xoài | C87: ='4A'!C90 -> 0
A88: 81 | B88: Phường Hàng Gòn | C88: ='4A'!C91 -> 10 | D88: ='4A'!D91*100/'5A'!$C$88 -> 0 | E88: ='4A'!E91*100/'5A'!$C$88 -> 100 | F88: ='4A'!F91*100/'5A'!$C$88 -> 0 | G88: ='4A'!G91*100/'5A'!$C$88 -> 0 | H88: ='4A'!H91*100/'5A'!$C$88 -> 0 | I88: ='4A'!I91*100/'5A'!$C$88 -> 0 | J88: ='4A'!J91*100/'5A'!$C$88 -> 0 | K88: ='4A'!K91*100/'5A'!$C$88 -> 0 | ... O88: ='4A'!O91*100/'5A'!$C$88 -> 100
A89: 82 | B89: Phường Hố Nai | C89: ='4A'!C92 -> 17 | D89: ='4A'!D92*100/'5A'!$C$89 -> 0 | E89: ='4A'!E92*100/'5A'!$C$89 -> 0 | F89: ='4A'!F92*100/'5A'!$C$89 -> 0 | G89: ='4A'!G92*100/'5A'!$C$89 -> 100 | H89: ='4A'!H92*100/'5A'!$C$89 -> 0 | I89: ='4A'!I92*100/'5A'!$C$89 -> 0 | J89: ='4A'!J92*100/'5A'!$C$89 -> 0 | K89: ='4A'!K92*100/'5A'!$C$89 -> 0 | ... O89: ='4A'!O92*100/'5A'!$C$89 -> 94.117647
A90: 83 | B90: Phường Long Bình | C90: ='4A'!C93 -> 19 | D90: ='4A'!D93*100/'5A'!$C$90 -> 100 | E90: ='4A'!E93*100/'5A'!$C$90 -> 100 | F90: ='4A'!F93*100/'5A'!$C$90 -> 100 | G90: ='4A'!G93*100/'5A'!$C$90 -> 0 | H90: ='4A'!H93*100/'5A'!$C$90 -> 0 | I90: ='4A'!I93*100/'5A'!$C$90 -> 0 | J90: ='4A'!J93*100/'5A'!$C$90 -> 0 | K90: ='4A'!K93*100/'5A'!$C$90 -> 0 | ... O90: ='4A'!O93*100/'5A'!$C$90 -> 0
A91: 84 | B91: Phường Long Hưng | C91: ='4A'!C94 -> 3 | D91: ='4A'!D94*100/'5A'!$C$91 -> 0 | E91: ='4A'!E94*100/'5A'!$C$91 -> 100 | F91: ='4A'!F94*100/'5A'!$C$91 -> 0 | G91: ='4A'!G94*100/'5A'!$C$91 -> 66.666667 | H91: ='4A'!H94*100/'5A'!$C$91 -> 0 | I91: ='4A'!I94*100/'5A'!$C$91 -> 0 | J91: ='4A'!J94*100/'5A'!$C$91 -> 0 | K91: ='4A'!K94*100/'5A'!$C$91 -> 0 | ... O91: ='4A'!O94*100/'5A'!$C$91 -> 0
A92: 85 | B92: Phường Long Khánh | C92: ='4A'!C95 -> 30 | D92: ='4A'!D95*100/'5A'!$C$92 -> 0 | E92: ='4A'!E95*100/'5A'!$C$92 -> 100 | F92: ='4A'!F95*100/'5A'!$C$92 -> 0 | G92: ='4A'!G95*100/'5A'!$C$92 -> 0 | H92: ='4A'!H95*100/'5A'!$C$92 -> 0 | I92: ='4A'!I95*100/'5A'!$C$92 -> 10 | J92: ='4A'!J95*100/'5A'!$C$92 -> 0 | K92: ='4A'!K95*100/'5A'!$C$92 -> 0 | ... O92: ='4A'!O95*100/'5A'!$C$92 -> 66.666667
A93: 86 | B93: Phường Minh Hưng | C93: ='4A'!C96 -> 0
A94: 87 | B94: Phường Phước Bình | C94: ='4A'!C97 -> 0
A95: 88 | B95: Phường Phước Long | C95: ='4A'!C98 -> 0
A96: 89 | B96: Phường Phước Tân | C96: ='4A'!C99 -> 12 | D96: ='4A'!D99*100/'5A'!$C$96 -> 0 | E96: ='4A'!E99*100/'5A'!$C$96 -> 50 | F96: ='4A'!F99*100/'5A'!$C$96 -> 0 | G96: ='4A'!G99*100/'5A'!$C$96 -> 0 | H96: ='4A'!H99*100/'5A'!$C$96 -> 0 | I96: ='4A'!I99*100/'5A'!$C$96 -> 0 | J96: ='4A'!J99*100/'5A'!$C$96 -> 0 | K96: ='4A'!K99*100/'5A'!$C$96 -> 0 | ... O96: ='4A'!O99*100/'5A'!$C$96 -> 100
A97: 90 | B97: Phường Tam Hiệp | C97: ='4A'!C100 -> 0
A98: 91 | B98: Phường Tam Phước | C98: ='4A'!C101 -> 0
A99: 92 | B99: Phường Tân Triều | C99: ='4A'!C102 -> 34 | D99: ='4A'!D102*100/'5A'!$C$99 -> 0 | E99: ='4A'!E102*100/'5A'!$C$99 -> 0 | F99: ='4A'!F102*100/'5A'!$C$99 -> 0 | G99: ='4A'!G102*100/'5A'!$C$99 -> 100 | H99: ='4A'!H102*100/'5A'!$C$99 -> 0 | I99: ='4A'!I102*100/'5A'!$C$99 -> 0 | J99: ='4A'!J102*100/'5A'!$C$99 -> 0 | K99: ='4A'!K102*100/'5A'!$C$99 -> 100 | ... O99: ='4A'!O102*100/'5A'!$C$99 -> 100
A100: 93 | B100: Phường Trảng Dài | C100: ='4A'!C103 -> 0
A101: 94 | B101: Phường Trấn Biên | C101: ='4A'!C104 -> 15 | D101: ='4A'!D104*100/'5A'!$C$101 -> 100 | E101: ='4A'!E104*100/'5A'!$C$101 -> 46.666667 | F101: ='4A'!F104*100/'5A'!$C$101 -> 0 | G101: ='4A'!G104*100/'5A'!$C$101 -> 26.666667 | H101: ='4A'!H104*100/'5A'!$C$101 -> 20 | I101: ='4A'!I104*100/'5A'!$C$101 -> 0 | J101: ='4A'!J104*100/'5A'!$C$101 -> 13.333333 | K101: ='4A'!K104*100/'5A'!$C$101 -> 20 | ... O101: ='4A'!O104*100/'5A'!$C$101 -> 93.333333
...

Sheet 5B
A1: PHỤ LỤC 5B
A2: PHÂN TÍCH TỶ LỆ CÁC CHỈ SỐ THIẾU HỤT DỊCH VỤ XÃ HỘI CƠ BẢN CỦA HỘ NGHÈO CHUẨN TỈNH NĂM 2025 (không tính hộ nghèo chuẩn TW)
A4: TT | B4: Khu vực/ | C4: Tổng số hộ nghèo | D4: Chỉ số thiếu hụt dịch vụ xã hội cơ bản của hộ nghèo
B5: Đơn vị | D5: 1 | E5: 2 | F5: 3 | G5: 4 | H5: 5 | I5: 6 | J5: 7 | K5: 8 | L5: 9 | M5: 10 | N5: 11 | O5: 12
A6: I | B6: KV NÔNG THÔN | C6: ='4B'!C6 -> 1023 | D6: ='4B'!D6*100/'5B'!$C$6 -> 58.064516 | E6: ='4B'!E6*100/'5B'!$C$6 -> 67.937439 | F6: ='4B'!F6*100/'5B'!$C$6 -> 1.3685239 | G6: ='4B'!G6*100/'5B'!$C$6 -> 51.124145 | H6: ='4B'!H6*100/'5B'!$C$6 -> 9.6774194 | I6: ='4B'!I6*100/'5B'!$C$6 -> 3.1280547 | J6: ='4B'!J6*100/'5B'!$C$6 -> 6.9403715 | K6: ='4B'!K6*100/'5B'!$C$6 -> 11.241447 | ... O6: ='4B'!O6*100/'5B'!$C$6 -> 17.302053
A7: 1 | B7: Xã An Phước | C7: ='4B'!C7 -> 18 | D7: ='4B'!D7*100/'5B'!$C$7 -> 0 | E7: ='4B'!E7*100/'5B'!$C$7 -> 100 | F7: ='4B'!F7*100/'5B'!$C$7 -> 0 | G7: ='4B'!G7*100/'5B'!$C$7 -> 100 | H7: ='4B'!H7*100/'5B'!$C$7 -> 0 | I7: ='4B'!I7*100/'5B'!$C$7 -> 0 | J7: ='4B'!J7*100/'5B'!$C$7 -> 5.5555556 | K7: ='4B'!K7*100/'5B'!$C$7 -> 0 | ... O7: ='4B'!O7*100/'5B'!$C$7 -> 100
A8: 2 | B8: Xã An Viễn | C8: ='4B'!C8 -> 7 | D8: ='4B'!D8*100/'5B'!$C$8 -> 100 | E8: ='4B'!E8*100/'5B'!$C$8 -> 57.142857 | F8: ='4B'!F8*100/'5B'!$C$8 -> 0 | G8: ='4B'!G8*100/'5B'!$C$8 -> 28.571429 | H8: ='4B'!H8*100/'5B'!$C$8 -> 0 | I8: ='4B'!I8*100/'5B'!$C$8 -> 0 | J8: ='4B'!J8*100/'5B'!$C$8 -> 0 | K8: ='4B'!K8*100/'5B'!$C$8 -> 14.285714 | ... O8: ='4B'!O8*100/'5B'!$C$8 -> 0
A9: 3 | B9: Xã Bàu Hàm | C9: ='4B'!C9 -> 11 | D9: ='4B'!D9*100/'5B'!$C$9 -> 54.545455 | E9: ='4B'!E9*100/'5B'!$C$9 -> 81.818182 | F9: ='4B'!F9*100/'5B'!$C$9 -> 0 | G9: ='4B'!G9*100/'5B'!$C$9 -> 81.818182 | H9: ='4B'!H9*100/'5B'!$C$9 -> 18.181818 | I9: ='4B'!I9*100/'5B'!$C$9 -> 9.0909091 | J9: ='4B'!J9*100/'5B'!$C$9 -> 0 | K9: ='4B'!K9*100/'5B'!$C$9 -> 36.363636 | ... O9: ='4B'!O9*100/'5B'!$C$9 -> 9.0909091
A10: 4 | B10: Xã Bình An | C10: ='4B'!C10 -> 9 | D10: ='4B'!D10*100/'5B'!$C$10 -> 77.777778 | E10: ='4B'!E10*100/'5B'!$C$10 -> 77.777778 | F10: ='4B'!F10*100/'5B'!$C$10 -> 0 | G10: ='4B'!G10*100/'5B'!$C$10 -> 66.666667 | H10: ='4B'!H10*100/'5B'!$C$10 -> 22.222222 | I10: ='4B'!I10*100/'5B'!$C$10 -> 0 | J10: ='4B'!J10*100/'5B'!$C$10 -> 0 | K10: ='4B'!K10*100/'5B'!$C$10 -> 0 | ... O10: ='4B'!O10*100/'5B'!$C$10 -> 33.333333
A11: 5 | B11: Xã Bình Minh | C11: ='4B'!C11 -> 22 | D11: ='4B'!D11*100/'5B'!$C$11 -> 77.272727 | E11: ='4B'!E11*100/'5B'!$C$11 -> 31.818182 | F11: ='4B'!F11*100/'5B'!$C$11 -> 0 | G11: ='4B'!G11*100/'5B'!$C$11 -> 22.727273 | H11: ='4B'!H11*100/'5B'!$C$11 -> 4.5454545 | I11: ='4B'!I11*100/'5B'!$C$11 -> 0 | J11: ='4B'!J11*100/'5B'!$C$11 -> 0 | K11: ='4B'!K11*100/'5B'!$C$11 -> 27.272727 | ... O11: ='4B'!O11*100/'5B'!$C$11 -> 27.272727
A12: 6 | B12: Xã Bình Tân | C12: ='4B'!C12 -> 0
A13: 7 | B13: Xã Bom Bo | C13: ='4B'!C13 -> 0
A14: 8 | B14: Xã Bù Đăng | C14: ='4B'!C14 -> 0
A15: 9 | B15: Xã Bù Gia Mập | C15: ='4B'!C15 -> 0
A16: 10 | B16: Xã Cẩm Mỹ | C16: ='4B'!C16 -> 0
A17: 11 | B17: Xã Dầu Giây | C17: ='4B'!C17 -> 26 | D17: ='4B'!D17*100/'5B'!$C$17 -> 80.769231 | E17: ='4B'!E17*100/'5B'!$C$17 -> 80.769231 | F17: ='4B'!F17*100/'5B'!$C$17 -> 0 | G17: ='4B'!G17*100/'5B'!$C$17 -> 0 | H17: ='4B'!H17*100/'5B'!$C$17 -> 11.538462 | I17: ='4B'!I17*100/'5B'!$C$17 -> 3.8461538 | J17: ='4B'!J17*100/'5B'!$C$17 -> 3.8461538 | K17: ='4B'!K17*100/'5B'!$C$17 -> 3.8461538 | ... O17: ='4B'!O17*100/'5B'!$C$17 -> 0
A18: 12 | B18: Xã Đa Kia | C18: ='4B'!C18 -> 0
A19: 13 | B19: Xã Đại Phước | C19: ='4B'!C19 -> 45 | D19: ='4B'!D19*100/'5B'!$C$19 -> 95.555556 | E19: ='4B'!E19*100/'5B'!$C$19 -> 62.222222 | F19: ='4B'!F19*100/'5B'!$C$19 -> 4.4444444 | G19: ='4B'!G19*100/'5B'!$C$19 -> 6.6666667 | H19: ='4B'!H19*100/'5B'!$C$19 -> 17.777778 | I19: ='4B'!I19*100/'5B'!$C$19 -> 0 | J19: ='4B'!J19*100/'5B'!$C$19 -> 40 | K19: ='4B'!K19*100/'5B'!$C$19 -> 17.777778 | ... O19: ='4B'!O19*100/'5B'!$C$19 -> 6.6666667
A20: 14 | B20: Xã Đak Lua | C20: ='4B'!C20 -> 3 | D20: ='4B'!D20*100/'5B'!$C$20 -> 33.333333 | E20: ='4B'!E20*100/'5B'!$C$20 -> 66.666667 | F20: ='4B'!F20*100/'5B'!$C$20 -> 0 | G20: ='4B'!G20*100/'5B'!$C$20 -> 100 | H20: ='4B'!H20*100/'5B'!$C$20 -> 0 | I20: ='4B'!I20*100/'5B'!$C$20 -> 0 | J20: ='4B'!J20*100/'5B'!$C$20 -> 0 | K20: ='4B'!K20*100/'5B'!$C$20 -> 0 | ... O20: ='4B'!O20*100/'5B'!$C$20 -> 0
A21: 15 | B21: Xã Đak Nhau | C21: ='4B'!C21 -> 0
A22: 16 | B22: Xã Đăk Ơ | C22: ='4B'!C22 -> 0
A23: 17 | B23: Xã Định Quán | C23: ='4B'!C23 -> 4 | D23: ='4B'!D23*100/'5B'!$C$23 -> 25 | E23: ='4B'!E23*100/'5B'!$C$23 -> 150 | F23: ='4B'!F23*100/'5B'!$C$23 -> 0 | G23: ='4B'!G23*100/'5B'!$C$23 -> 350 | H23: ='4B'!H23*100/'5B'!$C$23 -> 0 | I23: ='4B'!I23*100/'5B'!$C$23 -> 100 | J23: ='4B'!J23*100/'5B'!$C$23 -> 0 | K23: ='4B'!K23*100/'5B'!$C$23 -> 0 | ... O23: ='4B'!O23*100/'5B'!$C$23 -> 0
A24: 18 | B24: Xã Đồng Phú | C24: ='4B'!C24 -> 0
A25: 19 | B25: Xã Đồng Tâm | C25: ='4B'!C25 -> 0
A26: 20 | B26: Xã Gia Kiệm | C26: ='4B'!C26 -> 14 | D26: ='4B'!D26*100/'5B'!$C$26 -> 100 | E26: ='4B'!E26*100/'5B'!$C$26 -> 100 | F26: ='4B'!F26*100/'5B'!$C$26 -> 14.285714 | G26: ='4B'!G26*100/'5B'!$C$26 -> 100 | H26: ='4B'!H26*100/'5B'!$C$26 -> 0 | I26: ='4B'!I26*100/'5B'!$C$26 -> 0 | J26: ='4B'!J26*100/'5B'!$C$26 -> 0 | K26: ='4B'!K26*100/'5B'!$C$26 -> 0 | ... O26: ='4B'!O26*100/'5B'!$C$26 -> 0
A27: 21 | B27: Xã Hưng Phước | C27: ='4B'!C27 -> 0
A28: 22 | B28: Xã Hưng Thịnh | C28: ='4B'!C28 -> 12 | D28: ='4B'!D28*100/'5B'!$C$28 -> 0 | E28: ='4B'!E28*100/'5B'!$C$28 -> 0 | F28: ='4B'!F28*100/'5B'!$C$28 -> 0 | G28: ='4B'!G28*100/'5B'!$C$28 -> 0 | H28: ='4B'!H28*100/'5B'!$C$28 -> 0 | I28: ='4B'!I28*100/'5B'!$C$28 -> 0 | J28: ='4B'!J28*100/'5B'!$C$28 -> 0 | K28: ='4B'!K28*100/'5B'!$C$28 -> 0 | ... O28: ='4B'!O28*100/'5B'!$C$28 -> 0
A29: 23 | B29: Xã La Ngà | C29: ='4B'!C29 -> 6 | D29: ='4B'!D29*100/'5B'!$C$29 -> 100 | E29: ='4B'!E29*100/'5B'!$C$29 -> 66.666667 | F29: ='4B'!F29*100/'5B'!$C$29 -> 0 | G29: ='4B'!G29*100/'5B'!$C$29 -> 0 | H29: ='4B'!H29*100/'5B'!$C$29 -> 16.666667 | I29: ='4B'!I29*100/'5B'!$C$29 -> 0 | J29: ='4B'!J29*100/'5B'!$C$29 -> 0 | K29: ='4B'!K29*100/'5B'!$C$29 -> 0 | ... O29: ='4B'!O29*100/'5B'!$C$29 -> 50
A30: 24 | B30: Xã Long Hà | C30: ='4B'!C30 -> 0
A31: 25 | B31: Xã Long Phước | C31: ='4B'!C31 -> 6 | D31: ='4B'!D31*100/'5B'!$C$31 -> 50 | E31: ='4B'!E31*100/'5B'!$C$31 -> 100 | F31: ='4B'!F31*100/'5B'!$C$31 -> 0 | G31: ='4B'!G31*100/'5B'!$C$31 -> 100 | H31: ='4B'!H31*100/'5B'!$C$31 -> 0 | I31: ='4B'!I31*100/'5B'!$C$31 -> 0 | J31: ='4B'!J31*100/'5B'!$C$31 -> 0 | K31: ='4B'!K31*100/'5B'!$C$31 -> 0 | ... O31: ='4B'!O31*100/'5B'!$C$31 -> 50
A32: 26 | B32: Xã Long Thành | C32: ='4B'!C32 -> 9 | D32: ='4B'!D32*100/'5B'!$C$32 -> 66.666667 | E32: ='4B'!E32*100/'5B'!$C$32 -> 66.666667 | F32: ='4B'!F32*100/'5B'!$C$32 -> 0 | G32: ='4B'!G32*100/'5B'!$C$32 -> 100 | H32: ='4B'!H32*100/'5B'!$C$32 -> 100 | I32: ='4B'!I32*100/'5B'!$C$32 -> 11.111111 | J32: ='4B'!J32*100/'5B'!$C$32 -> 44.444444 | K32: ='4B'!K32*100/'5B'!$C$32 -> 33.333333 | ... O32: ='4B'!O32*100/'5B'!$C$32 -> 44.444444
A33: 27 | B33: Xã Lộc Hưng | C33: ='4B'!C33 -> 0
A34: 28 | B34: Xã Lộc Ninh | C34: ='4B'!C34 -> 0
A35: 29 | B35: Xã Lộc Quang | C35: ='4B'!C35 -> 0
A36: 30 | B36: Xã Lộc Tấn | C36: ='4B'!C36 -> 0
A37: 31 | B37: Xã Lộc Thành | C37: ='4B'!C37 -> 0
A38: 32 | B38: Xã Lộc Thạnh | C38: ='4B'!C38 -> 0
A39: 33 | B39: Xã Minh Đức | C39: ='4B'!C39 -> 0
A40: 34 | B40: Xã Nam Cát Tiên | C40: ='4B'!C40 -> 0
A41: 35 | B41: Xã Nghĩa Trung | C41: ='4B'!C41 -> 0
A42: 36 | B42: Xã Nha Bích | C42: ='4B'!C42 -> 0
A43: 37 | B43: Xã Nhơn Trạch | C43: ='4B'!C43 -> 33 | D43: ='4B'!D43*100/'5B'!$C$43 -> 100 | E43: ='4B'!E43*100/'5B'!$C$43 -> 100 | F43: ='4B'!F43*100/'5B'!$C$43 -> 0 | G43: ='4B'!G43*100/'5B'!$C$43 -> 100 | H43: ='4B'!H43*100/'5B'!$C$43 -> 3.030303 | I43: ='4B'!I43*100/'5B'!$C$43 -> 3.030303 | J43: ='4B'!J43*100/'5B'!$C$43 -> 12.121212 | K43: ='4B'!K43*100/'5B'!$C$43 -> 0 | ... O43: ='4B'!O43*100/'5B'!$C$43 -> 0
A44: 38 | B44: Xã Phú Hòa | C44: ='4B'!C44 -> 13 | D44: ='4B'!D44*100/'5B'!$C$44 -> 53.846154 | E44: ='4B'!E44*100/'5B'!$C$44 -> 38.461538 | F44: ='4B'!F44*100/'5B'!$C$44 -> 7.6923077 | G44: ='4B'!G44*100/'5B'!$C$44 -> 38.461538 | H44: ='4B'!H44*100/'5B'!$C$44 -> 0 | I44: ='4B'!I44*100/'5B'!$C$44 -> 0 | J44: ='4B'!J44*100/'5B'!$C$44 -> 7.6923077 | K44: ='4B'!K44*100/'5B'!$C$44 -> 0 | ... O44: ='4B'!O44*100/'5B'!$C$44 -> 38.461538
A45: 39 | B45: Xã Phú Lâm | C45: ='4B'!C45 -> 153 | D45: ='4B'!D45*100/'5B'!$C$45 -> 11.764706 | E45: ='4B'!E45*100/'5B'!$C$45 -> 45.098039 | F45: ='4B'!F45*100/'5B'!$C$45 -> 0.65359477 | G45: ='4B'!G45*100/'5B'!$C$45 -> 87.581699 | H45: ='4B'!H45*100/'5B'!$C$45 -> 1.3071895 | I45: ='4B'!I45*100/'5B'!$C$45 -> 0 | J45: ='4B'!J45*100/'5B'!$C$45 -> 1.9607843 | K45: ='4B'!K45*100/'5B'!$C$45 -> 7.8431373 | ... O45: ='4B'!O45*100/'5B'!$C$45 -> 6.5359477
A46: 40 | B46: Xã Phú Lý | C46: ='4B'!C46 -> 33 | D46: ='4B'!D46*100/'5B'!$C$46 -> 72.727273 | E46: ='4B'!E46*100/'5B'!$C$46 -> 33.333333 | F46: ='4B'!F46*100/'5B'!$C$46 -> 0 | G46: ='4B'!G46*100/'5B'!$C$46 -> 30.30303 | H46: ='4B'!H46*100/'5B'!$C$46 -> 12.121212 | I46: ='4B'!I46*100/'5B'!$C$46 -> 51.515152 | J46: ='4B'!J46*100/'5B'!$C$46 -> 0 | K46: ='4B'!K46*100/'5B'!$C$46 -> 66.666667 | ... O46: ='4B'!O46*100/'5B'!$C$46 -> 66.666667
A47: 41 | B47: Xã Phú Nghĩa | C47: ='4B'!C47 -> 0
A48: 42 | B48: Xã Phú Riềng | C48: ='4B'!C48 -> 0
A49: 43 | B49: Xã Phú Trung | C49: ='4B'!C49 -> 0
A50: 44 | B50: Xã Phú Vinh | C50: ='4B'!C50 -> 6 | D50: ='4B'!D50*100/'5B'!$C$50 -> 100 | E50: ='4B'!E50*100/'5B'!$C$50 -> 0 | F50: ='4B'!F50*100/'5B'!$C$50 -> 0 | G50: ='4B'!G50*100/'5B'!$C$50 -> 0 | H50: ='4B'!H50*100/'5B'!$C$50 -> 0 | I50: ='4B'!I50*100/'5B'!$C$50 -> 0 | J50: ='4B'!J50*100/'5B'!$C$50 -> 0 | K50: ='4B'!K50*100/'5B'!$C$50 -> 0 | ... O50: ='4B'!O50*100/'5B'!$C$50 -> 0
A51: 45 | B51: Xã Phước An | C51: ='4B'!C51 -> 62
A52: 46 | B52: Xã Phước Sơn | C52: ='4B'!C52 -> 0
A53: 47 | B53: Xã Phước Thái | C53: ='4B'!C53 -> 28 | D53: ='4B'!D53*100/'5B'!$C$53 -> 67.857143 | E53: ='4B'!E53*100/'5B'!$C$53 -> 7.1428571 | F53: ='4B'!F53*100/'5B'!$C$53 -> 0 | G53: ='4B'!G53*100/'5B'!$C$53 -> 3.5714286 | H53: ='4B'!H53*100/'5B'!$C$53 -> 0 | I53: ='4B'!I53*100/'5B'!$C$53 -> 0 | J53: ='4B'!J53*100/'5B'!$C$53 -> 7.1428571 | K53: ='4B'!K53*100/'5B'!$C$53 -> 0 | ... O53: ='4B'!O53*100/'5B'!$C$53 -> 0
A54: 48 | B54: Xã Sông Ray | C54: ='4B'!C54 -> 0
A55: 49 | B55: Xã Tà Lài | C55: ='4B'!C55 -> 111 | D55: ='4B'!D55*100/'5B'!$C$55 -> 9.009009 | E55: ='4B'!E55*100/'5B'!$C$55 -> 50.45045 | F55: ='4B'!F55*100/'5B'!$C$55 -> 0 | G55: ='4B'!G55*100/'5B'!$C$55 -> 100 | H55: ='4B'!H55*100/'5B'!$C$55 -> 31.531532 | I55: ='4B'!I55*100/'5B'!$C$55 -> 0 | J55: ='4B'!J55*100/'5B'!$C$55 -> 3.6036036 | K55: ='4B'!K55*100/'5B'!$C$55 -> 2.7027027 | ... O55: ='4B'!O55*100/'5B'!$C$55 -> 44.144144
A56: 50 | B56: Xã Tân An | C56: ='4B'!C56 -> 5 | D56: ='4B'!D56*100/'5B'!$C$56 -> 100 | E56: ='4B'!E56*100/'5B'!$C$56 -> 0 | F56: ='4B'!F56*100/'5B'!$C$56 -> 0 | G56: ='4B'!G56*100/'5B'!$C$56 -> 0 | H56: ='4B'!H56*100/'5B'!$C$56 -> 0 | I56: ='4B'!I56*100/'5B'!$C$56 -> 0 | J56: ='4B'!J56*100/'5B'!$C$56 -> 0 | K56: ='4B'!K56*100/'5B'!$C$56 -> 0 | ... O56: ='4B'!O56*100/'5B'!$C$56 -> 0
A57: 51 | B57: Xã Tân Hưng | C57: ='4B'!C57 -> 0
A58: 52 | B58: Xã Tân Khai | C58: ='4B'!C58 -> 0
A59: 53 | B59: Xã Tân Lợi | C59: ='4B'!C59 -> 0
A60: 54 | B60: Xã Tân Phú | C60: ='4B'!C60 -> 129 | D60: ='4B'!D60*100/'5B'!$C$60 -> 34.883721 | E60: ='4B'!E60*100/'5B'!$C$60 -> 42.635659 | F60: ='4B'!F60*100/'5B'!$C$60 -> 0 | G60: ='4B'!G60*100/'5B'!$C$60 -> 36.434109 | H60: ='4B'!H60*100/'5B'!$C$60 -> 0.7751938 | I60: ='4B'!I60*100/'5B'!$C$60 -> 0 | J60: ='4B'!J60*100/'5B'!$C$60 -> 1.5503876 | K60: ='4B'!K60*100/'5B'!$C$60 -> 0 | ... O60: ='4B'!O60*100/'5B'!$C$60 -> 10.852713
A61: 55 | B61: Xã Tân Quan | C61: ='4B'!C61 -> 0
A62: 56 | B62: Xã Tân Tiến | C62: ='4B'!C62 -> 0
A63: 57 | B63: Xã Thanh Sơn | C63: ='4B'!C63 -> 83 | D63: ='4B'!D63*100/'5B'!$C$63 -> 68.674699 | E63: ='4B'!E63*100/'5B'!$C$63 -> 55.421687 | F63: ='4B'!F63*100/'5B'!$C$63 -> 0 | G63: ='4B'!G63*100/'5B'!$C$63 -> 0 | H63: ='4B'!H63*100/'5B'!$C$63 -> 19.277108 | I63: ='4B'!I63*100/'5B'!$C$63 -> 4.8192771 | J63: ='4B'!J63*100/'5B'!$C$63 -> 25.301205 | K63: ='4B'!K63*100/'5B'!$C$63 -> 3.6144578 | ... O63: ='4B'!O63*100/'5B'!$C$63 -> 3.6144578
A64: 58 | B64: Xã Thiện Hưng | C64: ='4B'!C64 -> 0
A65: 59 | B65: Xã Thọ Sơn | C65: ='4B'!C65 -> 0
A66: 60 | B66: Xã Thống Nhất | C66: ='4B'!C66 -> 16 | D66: ='4B'!D66*100/'5B'!$C$66 -> 37.5 | E66: ='4B'!E66*100/'5B'!$C$66 -> 62.5 | F66: ='4B'!F66*100/'5B'!$C$66 -> 0 | G66: ='4B'!G66*100/'5B'!$C$66 -> 0 | H66: ='4B'!H66*100/'5B'!$C$66 -> 6.25 | I66: ='4B'!I66*100/'5B'!$C$66 -> 6.25 | J66: ='4B'!J66*100/'5B'!$C$66 -> 12.5 | K66: ='4B'!K66*100/'5B'!$C$66 -> 6.25 | ... O66: ='4B'!O66*100/'5B'!$C$66 -> 0
A67: 61 | B67: Xã Thuận Lợi | C67: ='4B'!C67 -> 0
A68: 62 | B68: Xã Trảng Bom | C68: ='4B'!C68 -> 21 | D68: ='4B'!D68*100/'5B'!$C$68 -> 33.333333 | E68: ='4B'!E68*100/'5B'!$C$68 -> 66.666667 | F68: ='4B'!F68*100/'5B'!$C$68 -> 0 | G68: ='4B'!G68*100/'5B'!$C$68 -> 100 | H68: ='4B'!H68*100/'5B'!$C$68 -> 0 | I68: ='4B'!I68*100/'5B'!$C$68 -> 0 | J68: ='4B'!J68*100/'5B'!$C$68 -> 0 | K68: ='4B'!K68*100/'5B'!$C$68 -> 0 | ... O68: ='4B'!O68*100/'5B'!$C$68 -> 0
A69: 63 | B69: Xã Trị An | C69: ='4B'!C69 -> 35 | D69: ='4B'!D69*100/'5B'!$C$69 -> 0 | E69: ='4B'!E69*100/'5B'!$C$69 -> 100 | F69: ='4B'!F69*100/'5B'!$C$69 -> 0 | G69: ='4B'!G69*100/'5B'!$C$69 -> 100 | H69: ='4B'!H69*100/'5B'!$C$69 -> 0 | I69: ='4B'!I69*100/'5B'!$C$69 -> 0 | J69: ='4B'!J69*100/'5B'!$C$69 -> 0 | K69: ='4B'!K69*100/'5B'!$C$69 -> 0 | ... O69: ='4B'!O69*100/'5B'!$C$69 -> 0
A70: 64 | B70: Xã Xuân Bắc | C70: ='4B'!C70 -> 34 | D70: ='4B'!D70*100/'5B'!$C$70 -> 26.470588 | E70: ='4B'!E70*100/'5B'!$C$70 -> 5.8823529 | F70: ='4B'!F70*100/'5B'!$C$70 -> 5.8823529 | G70: ='4B'!G70*100/'5B'!$C$70 -> 2.9411765 | H70: ='4B'!H70*100/'5B'!$C$70 -> 2.9411765 | I70: ='4B'!I70*100/'5B'!$C$70 -> 0 | J70: ='4B'!J70*100/'5B'!$C$70 -> 0 | K70: ='4B'!K70*100/'5B'!$C$70 -> 0 | ... O70: ='4B'!O70*100/'5B'!$C$70 -> 2.9411765
A71: 65 | B71: Xã Xuân Định | C71: ='4B'!C71 -> 10 | D71: ='4B'!D71*100/'5B'!$C$71 -> 90 | E71: ='4B'!E71*100/'5B'!$C$71 -> 50 | F71: ='4B'!F71*100/'5B'!$C$71 -> 30 | G71: ='4B'!G71*100/'5B'!$C$71 -> 20 | H71: ='4B'!H71*100/'5B'!$C$71 -> 40 | I71: ='4B'!I71*100/'5B'!$C$71 -> 0 | J71: ='4B'!J71*100/'5B'!$C$71 -> 10 | K71: ='4B'!K71*100/'5B'!$C$71 -> 20 | ... O71: ='4B'!O71*100/'5B'!$C$71 -> 20
A72: 66 | B72: Xã Xuân Đông | C72: ='4B'!C72 -> 0
A73: 67 | B73: Xã Xuân Đường | C73: ='4B'!C73 -> 5 | D73: ='4B'!D73*100/'5B'!$C$73 -> 100 | E73: ='4B'!E73*100/'5B'!$C$73 -> 100 | F73: ='4B'!F73*100/'5B'!$C$73 -> 0 | G73: ='4B'!G73*100/'5B'!$C$73 -> 100 | H73: ='4B'!H73*100/'5B'!$C$73 -> 0 | I73: ='4B'!I73*100/'5B'!$C$73 -> 0 | J73: ='4B'!J73*100/'5B'!$C$73 -> 0 | K73: ='4B'!K73*100/'5B'!$C$73 -> 0 | ... O73: ='4B'!O73*100/'5B'!$C$73 -> 0
A74: 68 | B74: Xã Xuân Hòa | C74: ='4B'!C74 -> 36 | D74: ='4B'!D74*100/'5B'!$C$74 -> 38.888889 | E74: ='4B'!E74*100/'5B'!$C$74 -> 77.777778 | F74: ='4B'!F74*100/'5B'!$C$74 -> 5.5555556 | G74: ='4B'!G74*100/'5B'!$C$74 -> 72.222222 | H74: ='4B'!H74*100/'5B'!$C$74 -> 5.5555556 | I74: ='4B'!I74*100/'5B'!$C$74 -> 2.7777778 | J74: ='4B'!J74*100/'5B'!$C$74 -> 8.3333333 | K74: ='4B'!K74*100/'5B'!$C$74 -> 5.5555556 | ... O74: ='4B'!O74*100/'5B'!$C$74 -> 25
A75: 69 | B75: Xã Xuân Lộc | C75: ='4B'!C75 -> 0
A76: 70 | B76: Xã Xuân Phú | C76: ='4B'!C76 -> 6 | D76: ='4B'!D76*100/'5B'!$C$76 -> 50 | E76: ='4B'!E76*100/'5B'!$C$76 -> 66.666667 | F76: ='4B'!F76*100/'5B'!$C$76 -> 0 | G76: ='4B'!G76*100/'5B'!$C$76 -> 0 | H76: ='4B'!H76*100/'5B'!$C$76 -> 16.666667 | I76: ='4B'!I76*100/'5B'!$C$76 -> 0 | J76: ='4B'!J76*100/'5B'!$C$76 -> 0 | K76: ='4B'!K76*100/'5B'!$C$76 -> 0 | ... O76: ='4B'!O76*100/'5B'!$C$76 -> 33.333333
A77: 71 | B77: Xã Xuân Quế | C77: ='4B'!C77 -> 0
A78: 72 | B78: Xã Xuân Thành | C78: ='4B'!C78 -> 12 | D78: ='4B'!D78*100/'5B'!$C$78 -> 66.666667 | E78: ='4B'!E78*100/'5B'!$C$78 -> 41.666667 | F78: ='4B'!F78*100/'5B'!$C$78 -> 8.3333333 | G78: ='4B'!G78*100/'5B'!$C$78 -> 16.666667 | H78: ='4B'!H78*100/'5B'!$C$78 -> 33.333333 | I78: ='4B'!I78*100/'5B'!$C$78 -> 8.3333333 | J78: ='4B'!J78*100/'5B'!$C$78 -> 8.3333333 | K78: ='4B'!K78*100/'5B'!$C$78 -> 8.3333333 | ... O78: ='4B'!O78*100/'5B'!$C$78 -> 50
A79: II | B79: KV THÀNH THỊ | C79: ='4B'!C79 -> 292 | D79: ='4B'!D79*100/'5B'!$C$79 -> 68.835616 | E79: ='4B'!E79*100/'5B'!$C$79 -> 36.30137 | F79: ='4B'!F79*100/'5B'!$C$79 -> 21.232877 | G79: ='4B'!G79*100/'5B'!$C$79 -> 27.39726 | H79: ='4B'!H79*100/'5B'!$C$79 -> 20.547945 | I79: ='4B'!I79*100/'5B'!$C$79 -> 6.8493151 | J79: ='4B'!J79*100/'5B'!$C$79 -> 1.369863 | K79: ='4B'!K79*100/'5B'!$C$79 -> 7.1917808 | ... O79: ='4B'!O79*100/'5B'!$C$79 -> 21.232877
A80: 73 | B80: Phường An Lộc | C80: ='4B'!C80 -> 0
A81: 74 | B81: Phường Bảo Vinh | C81: ='4B'!C81 -> 0
A82: 75 | B82: Phường Biên Hòa | C82: ='4B'!C82 -> 24 | D82: ='4B'!D82*100/'5B'!$C$82 -> 87.5 | E82: ='4B'!E82*100/'5B'!$C$82 -> 20.833333 | F82: ='4B'!F82*100/'5B'!$C$82 -> 0 | G82: ='4B'!G82*100/'5B'!$C$82 -> 4.1666667 | H82: ='4B'!H82*100/'5B'!$C$82 -> 29.166667 | I82: ='4B'!I82*100/'5B'!$C$82 -> 0 | J82: ='4B'!J82*100/'5B'!$C$82 -> 12.5 | K82: ='4B'!K82*100/'5B'!$C$82 -> 4.1666667 | ... O82: ='4B'!O82*100/'5B'!$C$82 -> 12.5
A83: 76 | B83: Phường Bình Long | C83: ='4B'!C83 -> 0
A84: 77 | B84: Phường Bình Lộc | C84: ='4B'!C84 -> 35 | D84: ='4B'!D84*100/'5B'!$C$84 -> 48.571429 | E84: ='4B'!E84*100/'5B'!$C$84 -> 54.285714 | F84: ='4B'!F84*100/'5B'!$C$84 -> 0 | G84: ='4B'!G84*100/'5B'!$C$84 -> 100 | H84: ='4B'!H84*100/'5B'!$C$84 -> 8.5714286 | I84: ='4B'!I84*100/'5B'!$C$84 -> 0 | J84: ='4B'!J84*100/'5B'!$C$84 -> 0 | K84: ='4B'!K84*100/'5B'!$C$84 -> 0 | ... O84: ='4B'!O84*100/'5B'!$C$84 -> 0
A85: 78 | B85: Phường Bình Phước | C85: ='4B'!C85 -> 0
A86: 79 | B86: Phường Chơn Thành | C86: ='4B'!C86 -> 0
A87: 80 | B87: Phường Đồng Xoài | C87: ='4B'!C87 -> 0
A88: 81 | B88: Phường Hàng Gòn | C88: ='4B'!C88 -> 7 | D88: ='4B'!D88*100/'5B'!$C$88 -> 100 | E88: ='4B'!E88*100/'5B'!$C$88 -> 100 | F88: ='4B'!F88*100/'5B'!$C$88 -> 100 | G88: ='4B'!G88*100/'5B'!$C$88 -> 0 | H88: ='4B'!H88*100/'5B'!$C$88 -> 0 | I88: ='4B'!I88*100/'5B'!$C$88 -> 0 | J88: ='4B'!J88*100/'5B'!$C$88 -> 0 | K88: ='4B'!K88*100/'5B'!$C$88 -> 0 | ... O88: ='4B'!O88*100/'5B'!$C$88 -> 0
A89: 82 | B89: Phường Hố Nai | C89: ='4B'!C89 -> 28 | D89: ='4B'!D89*100/'5B'!$C$89 -> 78.571429 | E89: ='4B'!E89*100/'5B'!$C$89 -> 64.285714 | F89: ='4B'!F89*100/'5B'!$C$89 -> 0 | G89: ='4B'!G89*100/'5B'!$C$89 -> 57.142857 | H89: ='4B'!H89*100/'5B'!$C$89 -> 0 | I89: ='4B'!I89*100/'5B'!$C$89 -> 0 | J89: ='4B'!J89*100/'5B'!$C$89 -> 0 | K89: ='4B'!K89*100/'5B'!$C$89 -> 0 | ... O89: ='4B'!O89*100/'5B'!$C$89 -> 57.142857
A90: 83 | B90: Phường Long Bình | C90: ='4B'!C90 -> 2
A91: 84 | B91: Phường Long Hưng | C91: ='4B'!C91 -> 26 | D91: ='4B'!D91*100/'5B'!$C$91 -> 38.461538 | E91: ='4B'!E91*100/'5B'!$C$91 -> 53.846154 | F91: ='4B'!F91*100/'5B'!$C$91 -> 0 | G91: ='4B'!G91*100/'5B'!$C$91 -> 3.8461538 | H91: ='4B'!H91*100/'5B'!$C$91 -> 3.8461538 | I91: ='4B'!I91*100/'5B'!$C$91 -> 0 | J91: ='4B'!J91*100/'5B'!$C$91 -> 3.8461538 | K91: ='4B'!K91*100/'5B'!$C$91 -> 0 | ... O91: ='4B'!O91*100/'5B'!$C$91 -> 11.538462
A92: 85 | B92: Phường Long Khánh | C92: ='4B'!C92 -> 9 | D92: ='4B'!D92*100/'5B'!$C$92 -> 0 | E92: ='4B'!E92*100/'5B'!$C$92 -> 88.888889 | F92: ='4B'!F92*100/'5B'!$C$92 -> 0 | G92: ='4B'!G92*100/'5B'!$C$92 -> 0 | H92: ='4B'!H92*100/'5B'!$C$92 -> 0 | I92: ='4B'!I92*100/'5B'!$C$92 -> 0 | J92: ='4B'!J92*100/'5B'!$C$92 -> 0 | K92: ='4B'!K92*100/'5B'!$C$92 -> 0 | ... O92: ='4B'!O92*100/'5B'!$C$92 -> 33.333333
A93: 86 | B93: Phường Minh Hưng | C93: ='4B'!C93 -> 0
A94: 87 | B94: Phường Phước Bình | C94: ='4B'!C94 -> 0
A95: 88 | B95: Phường Phước Long | C95: ='4B'!C95 -> 0
A96: 89 | B96: Phường Phước Tân | C96: ='4B'!C96 -> 4 | D96: ='4B'!D96*100/'5B'!$C$96 -> 0 | E96: ='4B'!E96*100/'5B'!$C$96 -> 25 | F96: ='4B'!F96*100/'5B'!$C$96 -> 0 | G96: ='4B'!G96*100/'5B'!$C$96 -> 0 | H96: ='4B'!H96*100/'5B'!$C$96 -> 0 | I96: ='4B'!I96*100/'5B'!$C$96 -> 0 | J96: ='4B'!J96*100/'5B'!$C$96 -> 0 | K96: ='4B'!K96*100/'5B'!$C$96 -> 0 | ... O96: ='4B'!O96*100/'5B'!$C$96 -> 100
A97: 90 | B97: Phường Tam Hiệp | C97: ='4B'!C97 -> 50
A98: 91 | B98: Phường Tam Phước | C98: ='4B'!C98 -> 20 | D98: ='4B'!D98*100/'5B'!$C$98 -> 55 | E98: ='4B'!E98*100/'5B'!$C$98 -> 25 | F98: ='4B'!F98*100/'5B'!$C$98 -> 0 | G98: ='4B'!G98*100/'5B'!$C$98 -> 5 | H98: ='4B'!H98*100/'5B'!$C$98 -> 0 | I98: ='4B'!I98*100/'5B'!$C$98 -> 5 | J98: ='4B'!J98*100/'5B'!$C$98 -> 0 | K98: ='4B'!K98*100/'5B'!$C$98 -> 5 | ... O98: ='4B'!O98*100/'5B'!$C$98 -> 25
A99: 92 | B99: Phường Tân Triều | C99: ='4B'!C99 -> 13 | D99: ='4B'!D99*100/'5B'!$C$99 -> 100 | E99: ='4B'!E99*100/'5B'!$C$99 -> 0 | F99: ='4B'!F99*100/'5B'!$C$99 -> 38.461538 | G99: ='4B'!G99*100/'5B'!$C$99 -> 100 | H99: ='4B'!H99*100/'5B'!$C$99 -> 0 | I99: ='4B'!I99*100/'5B'!$C$99 -> 7.6923077 | J99: ='4B'!J99*100/'5B'!$C$99 -> 0 | K99: ='4B'!K99*100/'5B'!$C$99 -> 100 | ... O99: ='4B'!O99*100/'5B'!$C$99 -> 100
A100: 93 | B100: Phường Trảng Dài | C100: ='4B'!C100 -> 17 | D100: ='4B'!D100*100/'5B'!$C$100 -> 64.705882 | E100: ='4B'!E100*100/'5B'!$C$100 -> 0 | F100: ='4B'!F100*100/'5B'!$C$100 -> 0 | G100: ='4B'!G100*100/'5B'!$C$100 -> 76.470588 | H100: ='4B'!H100*100/'5B'!$C$100 -> 0 | I100: ='4B'!I100*100/'5B'!$C$100 -> 0 | J100: ='4B'!J100*100/'5B'!$C$100 -> 0 | K100: ='4B'!K100*100/'5B'!$C$100 -> 0 | ... O100: ='4B'!O100*100/'5B'!$C$100 -> 47.058824
A101: 94 | B101: Phường Trấn Biên | C101: ='4B'!C101 -> 49 | D101: ='4B'!D101*100/'5B'!$C$101 -> 67.346939 | E101: ='4B'!E101*100/'5B'!$C$101 -> 48.979592 | F101: ='4B'!F101*100/'5B'!$C$101 -> 0 | G101: ='4B'!G101*100/'5B'!$C$101 -> 0 | H101: ='4B'!H101*100/'5B'!$C$101 -> 100 | I101: ='4B'!I101*100/'5B'!$C$101 -> 32.653061 | J101: ='4B'!J101*100/'5B'!$C$101 -> 0 | K101: ='4B'!K101*100/'5B'!$C$101 -> 12.244898 | ... O101: ='4B'!O101*100/'5B'!$C$101 -> 14.285714
...

Sheet 6A
A1: PHỤ LỤC 5A
A2: PHÂN TÍCH CÁC CHỈ SỐ THIẾU HỤT DỊCH VỤ XÃ HỘI CƠ BẢN CỦA HỘ CẬN NGHÈO CHUẨN TRUNG ƯƠNG NĂM 2025
A4: TT | B4: Khu vực/ | C4: Tổng số hộ | D4: Chỉ số thiếu hụt dịch vụ xã hội cơ bản của hộ nghèo
B5: Đơn vị | D5: 1 | E5: 2 | F5: 3 | G5: 4 | H5: 5 | I5: 6 | J5: 7 | K5: 8 | L5: 9 | M5: 10 | N5: 11 | O5: 12
A6: I | B6: KV NÔNG THÔN | C6: ='1A'!G8 -> 1906 | D6: =SUM(D7:D78) -> 1023 | E6: =SUM(E7:E78) -> 845 | F6: =SUM(F7:F78) -> 201 | G6: =SUM(G7:G78) -> 219 | H6: =SUM(H7:H78) -> 353.01 | I6: =SUM(I7:I78) -> 198 | J6: =SUM(J7:J78) -> 397 | K6: =SUM(K7:K78) -> 265 | ... O6: =SUM(O7:O78) -> 261
A7: 1 | B7: Xã An Phước | C7: ='1A'!G9 -> 0
A8: 2 | B8: Xã An Viễn | C8: ='1A'!G10 -> 2 | D8: 2 | E8: 0 | F8: 0 | G8: 0 | H8: 0 | I8: 0 | J8: 0 | K8: 0 | L8: 0 | M8: 0 | N8: 0 | O8: 0
A9: 3 | B9: Xã Bàu Hàm | C9: ='1A'!G11 -> 0
A10: 4 | B10: Xã Bình An | C10: ='1A'!G12 -> 0
A11: 5 | B11: Xã Bình Minh | C11: ='1A'!G13 -> 4 | D11: 4 | E11: 4 | F11: 0 | G11: 0 | H11: 0 | I11: 0 | J11: 2 | K11: 0 | L11: 0 | M11: 0 | N11: 0 | O11: 0
A12: 6 | B12: Xã Bình Tân | C12: ='1A'!G14 -> 173 | D12: 166 | E12: 40 | F12: 15 | G12: 0 | H12: 0 | I12: 0 | J12: 25 | K12: 28 | L12: 0 | M12: 0 | N12: 4 | O12: 65
A13: 7 | B13: Xã Bom Bo | C13: ='1A'!G15 -> 17 | D13: 4 | E13: 17 | F13: 6 | G13: 1 | H13: 15 | I13: 8 | J13: 8 | K13: 7 | L13: 7 | M13: 6 | N13: 3 | O13: 3
A14: 8 | B14: Xã Bù Đăng | C14: ='1A'!G16 -> 82 | D14: 8 | E14: 35 | F14: 10 | G14: 0 | H14: 27 | I14: 12 | J14: 6 | K14: 6 | L14: 0 | M14: 0 | N14: 0 | O14: 0
A15: 9 | B15: Xã Bù Gia Mập | C15: ='1A'!G17 -> 210 | D15: 68 | E15: 45 | F15: 10 | G15: 0 | H15: 42 | I15: 13 | J15: 38 | K15: 19 | L15: 26 | M15: 23 | N15: 44 | O15: 40
A16: 10 | B16: Xã Cẩm Mỹ | C16: ='1A'!G18 -> 31 | D16: 15 | E16: 15 | F16: 0 | G16: 0 | H16: 1 | I16: 0 | J16: 2 | K16: 0 | L16: 2 | M16: 0 | N16: 24 | O16: 3
A17: 11 | B17: Xã Dầu Giây | C17: ='1A'!G19 -> 0
A18: 12 | B18: Xã Đa Kia | C18: ='1A'!G20 -> 171 | D18: 0 | E18: 0 | F18: 1 | G18: 0 | H18: 5 | I18: 0 | J18: 87 | K18: 0 | L18: 87 | M18: 0 | N18: 0 | O18: 0
A19: 13 | B19: Xã Đại Phước | C19: ='1A'!G21 -> 0
A20: 14 | B20: Xã Đak Lua | C20: ='1A'!G22 -> 0
A21: 15 | B21: Xã Đak Nhau | C21: ='1A'!G23 -> 76 | D21: 52 | E21: 63 | F21: 0 | G21: 20 | H21: 65 | I21: 0 | J21: 14 | K21: 0 | L21: 9 | M21: 15 | N21: 7 | O21: 1
A22: 16 | B22: Xã Đăk Ơ | C22: ='1A'!G24 -> 139 | D22: 96 | E22: 67 | F22: 14 | G22: 0 | H22: 61 | I22: 23 | J22: 61 | K22: 34 | L22: 44 | M22: 40 | N22: 62 | O22: 57
A23: 17 | B23: Xã Định Quán | C23: ='1A'!G25 -> 0
A24: 18 | B24: Xã Đồng Phú | C24: ='1A'!G26 -> 8 | D24: 6 | E24: 6 | F24: 0 | G24: 0 | H24: 0 | I24: 0 | J24: 6 | K24: 0 | L24: 0 | M24: 0 | N24: 0 | O24: 0
A25: 19 | B25: Xã Đồng Tâm | C25: ='1A'!G27 -> 31 | D25: 16 | E25: 9 | F25: 1 | G25: 20 | H25: 1.01 | I25: 1 | J25: 2 | K25: 4 | L25: 0 | M25: 3 | N25: 1 | O25: 3
A26: 20 | B26: Xã Gia Kiệm | C26: ='1A'!G28 -> 0
A27: 21 | B27: Xã Hưng Phước | C27: ='1A'!G29 -> 30 | D27: 30 | E27: 5 | F27: 0 | G27: 0 | H27: 0 | I27: 0 | J27: 0 | K27: 0 | L27: 0 | M27: 0 | N27: 3 | O27: 4
A28: 22 | B28: Xã Hưng Thịnh | C28: ='1A'!G30 -> 0
A29: 23 | B29: Xã La Ngà | C29: ='1A'!G31 -> 6 | D29: 6 | E29: 0 | F29: 0 | G29: 0 | H29: 0 | I29: 0 | J29: 0 | K29: 0 | L29: 0 | M29: 0 | N29: 4 | O29: 2
A30: 24 | B30: Xã Long Hà | C30: ='1A'!G32 -> 47 | D30: 31 | E30: 22 | F30: 8 | G30: 0 | H30: 16 | I30: 4 | J30: 29 | K30: 32 | L30: 1 | M30: 14 | N30: 1 | O30: 3
A31: 25 | B31: Xã Long Phước | C31: ='1A'!G33 -> 0
A32: 26 | B32: Xã Long Thành | C32: ='1A'!G34 -> 27 | D32: 21 | E32: 24 | F32: 7 | G32: 22 | H32: 19 | I32: 2 | J32: 7 | K32: 6 | L32: 5 | M32: 0 | N32: 10 | O32: 16
A33: 27 | B33: Xã Lộc Hưng | C33: ='1A'!G35 -> 5 | D33: 3 | E33: 5 | F33: 0 | G33: 5 | H33: 1 | I33: 2 | J33: 5
A34: 28 | B34: Xã Lộc Ninh | C34: ='1A'!G36 -> 14 | D34: 3 | E34: 0 | F34: 0 | G34: 3 | H34: 4 | I34: 2 | J34: 3 | K34: 1 | L34: 1 | M34: 4 | N34: 0 | O34: 0
A35: 29 | B35: Xã Lộc Quang | C35: ='1A'!G37 -> 161 | D35: 89 | E35: 65 | F35: 3 | G35: 1 | H35: 14 | I35: 7 | J35: 37 | K35: 10 | L35: 34 | M35: 22 | N35: 16 | O35: 24
A36: 30 | B36: Xã Lộc Tấn | C36: ='1A'!G38 -> 10 | D36: 0 | E36: 10 | F36: 10 | G36: 10 | H36: 0 | I36: 9 | J36: 10 | K36: 0 | L36: 10 | M36: 9 | N36: 0 | O36: 5
A37: 31 | B37: Xã Lộc Thành | C37: ='1A'!G39 -> 28 | D37: 17 | E37: 9 | F37: 7 | G37: 6 | H37: 7 | I37: 9 | J37: 13 | K37: 4 | L37: 4 | M37: 2 | N37: 3 | O37: 4
A38: 32 | B38: Xã Lộc Thạnh | C38: ='1A'!G40 -> 10 | D38: 6 | E38: 1 | F38: 0 | G38: 1 | H38: 2 | I38: 0 | J38: 0 | K38: 0 | L38: 0 | M38: 1 | N38: 5 | O38: 0
A39: 33 | B39: Xã Minh Đức | C39: ='1A'!G41 -> 6 | E39: 2 | H39: 1 | L39: 1 | M39: 1 | N39: 3 | O39: 3
A40: 34 | B40: Xã Nam Cát Tiên | C40: ='1A'!G42 -> 0
A41: 35 | B41: Xã Nghĩa Trung | C41: ='1A'!G43 -> 17 | D41: 16 | E41: 15 | F41: 1 | G41: 17 | I41: 16 | J41: 10 | M41: 10 | N41: 17 | O41: 4
A42: 36 | B42: Xã Nha Bích | C42: ='1A'!G44 -> 21 | D42: 21 | E42: 21 | F42: 21
A43: 37 | B43: Xã Nhơn Trạch | C43: ='1A'!G45 -> 0
A44: 38 | B44: Xã Phú Hòa | C44: ='1A'!G46 -> 0
A45: 39 | B45: Xã Phú Lâm | C45: ='1A'!G47 -> 0
A46: 40 | B46: Xã Phú Lý | C46: ='1A'!G48 -> 0
A47: 41 | B47: Xã Phú Nghĩa | C47: ='1A'!G49 -> 20 | D47: 14 | E47: 15 | F47: 0 | G47: 0 | H47: 15 | I47: 0 | J47: 0 | K47: 1 | L47: 2 | M47: 0 | N47: 3 | O47: 6
A48: 42 | B48: Xã Phú Riềng | C48: ='1A'!G50 -> 36 | D48: 11 | E48: 21 | F48: 0 | G48: 14 | H48: 0 | I48: 4 | J48: 3 | K48: 10 | L48: 0 | M48: 0 | N48: 0 | O48: 1
A49: 43 | B49: Xã Phú Trung | C49: ='1A'!G51 -> 6 | D49: 1 | E49: 2 | F49: 0 | G49: 4 | H49: 0 | I49: 0 | J49: 0 | K49: 0 | L49: 0 | M49: 1 | N49: 3 | O49: 0
A50: 44 | B50: Xã Phú Vinh | C50: ='1A'!G52 -> 0
A51: 45 | B51: Xã Phước An | C51: ='1A'!G53 -> 0
A52: 46 | B52: Xã Phước Sơn | C52: ='1A'!G54 -> 89 | D52: 64 | E52: 27 | F52: 0 | G52: 0 | H52: 32 | I52: 1 | J52: 2 | K52: 5 | L52: 0 | M52: 10 | N52: 10 | O52: 1
A53: 47 | B53: Xã Phước Thái | C53: ='1A'!G55 -> 0
A54: 48 | B54: Xã Sông Ray | C54: ='1A'!G56 -> 85 | D54: 55 | E54: 44 | F54: 5 | G54: 7 | H54: 8 | I54: 0 | J54: 6 | K54: 8 | L54: 10 | M54: 1 | N54: 23 | O54: 3
A55: 49 | B55: Xã Tà Lài | C55: ='1A'!G57 -> 0
A56: 50 | B56: Xã Tân An | C56: ='1A'!G58 -> 0
A57: 51 | B57: Xã Tân Hưng | C57: ='1A'!G59 -> 25 | D57: 11 | E57: 10 | F57: 0 | G57: 0 | H57: 4 | I57: 1 | J57: 0 | K57: 0 | L57: 0 | M57: 0 | N57: 5 | O57: 0
A58: 52 | B58: Xã Tân Khai | C58: ='1A'!G60 -> 12 | D58: 8 | E58: 7 | F58: 0 | G58: 0 | H58: 10 | I58: 0 | J58: 10 | K58: 9 | L58: 0 | M58: 0 | N58: 0 | O58: 7
A59: 53 | B59: Xã Tân Lợi | C59: ='1A'!G61 -> 10 | D59: 9 | E59: 3 | F59: 0 | G59: 0 | H59: 1 | I59: 2 | J59: 1 | K59: 0 | L59: 0 | M59: 1 | N59: 0 | O59: 3
A60: 54 | B60: Xã Tân Phú | C60: ='1A'!G62 -> 0
A61: 55 | B61: Xã Tân Quan | C61: ='1A'!G63 -> 29 | D61: 0 | E61: 29 | F61: 0 | G61: 0 | H61: 0 | I61: 0 | J61: 0 | K61: 0 | L61: 0 | M61: 0 | N61: 6 | O61: 1
A62: 56 | B62: Xã Tân Tiến | C62: ='1A'!G64 -> 59 | D62: 0 | E62: 59 | F62: 0 | G62: 59 | H62: 0 | I62: 0 | J62: 0 | K62: 0 | L62: 0 | M62: 0 | N62: 0 | O62: 0
A63: 57 | B63: Xã Thanh Sơn | C63: ='1A'!G65 -> 0
A64: 58 | B64: Xã Thiện Hưng | C64: ='1A'!G66 -> 64 | D64: 64 | E64: 28 | F64: 0 | G64: 0 | H64: 2 | I64: 1 | J64: 9 | K64: 0 | L64: 0 | M64: 0 | N64: 2 | O64: 0
A65: 59 | B65: Xã Thọ Sơn | C65: ='1A'!G67 -> 81 | D65: 81 | E65: 81 | F65: 81 | I65: 81 | K65: 81 | L65: 40 | M65: 40
A66: 60 | B66: Xã Thống Nhất | C66: ='1A'!G68 -> 0
A67: 61 | B67: Xã Thuận Lợi | C67: ='1A'!G69 -> 1 | D67: 1 | E67: 1 | J67: 1
A68: 62 | B68: Xã Trảng Bom | C68: ='1A'!G70 -> 0
A69: 63 | B69: Xã Trị An | C69: ='1A'!G71 -> 0
A70: 64 | B70: Xã Xuân Bắc | C70: ='1A'!G72 -> 0
A71: 65 | B71: Xã Xuân Định | C71: ='1A'!G73 -> 1 | D71: 1 | E71: 0 | F71: 1 | G71: 0 | H71: 0 | I71: 0 | J71: 0 | K71: 0 | L71: 0 | M71: 0 | N71: 0 | O71: 0
A72: 66 | B72: Xã Xuân Đông | C72: ='1A'!G74 -> 29 | D72: 23 | E72: 5 | F72: 0 | G72: 0 | H72: 0 | I72: 0 | J72: 0 | K72: 0 | L72: 0 | M72: 0 | N72: 1 | O72: 2
A73: 67 | B73: Xã Xuân Đường | C73: ='1A'!G75 -> 0
A74: 68 | B74: Xã Xuân Hòa | C74: ='1A'!G76 -> 0
A75: 69 | B75: Xã Xuân Lộc | C75: ='1A'!G77 -> 0
A76: 70 | B76: Xã Xuân Phú | C76: ='1A'!G78 -> 0
A77: 71 | B77: Xã Xuân Quế | C77: ='1A'!G79 -> 33 | D77: 0 | E77: 33 | F77: 0 | G77: 29 | H77: 0 | I77: 0 | J77: 0 | K77: 0 | L77: 0 | M77: 0 | N77: 26 | O77: 0
A78: 72 | B78: Xã Xuân Thành | C78: ='1A'!G80 -> 0
A79: II | B79: KV THÀNH THỊ | C79: ='1A'!G81 -> 132 | D79: =SUM(D80:D102) -> 76 | E79: =SUM(E80:E102) -> 32 | F79: =SUM(F80:F102) -> 0 | G79: =SUM(G80:G102) -> 39 | H79: =SUM(H80:H102) -> 16 | I79: =SUM(I80:I102) -> 1 | J79: =SUM(J80:J102) -> 1 | K79: =SUM(K80:K102) -> 5 | ... O79: =SUM(O80:O102) -> 6
A80: 73 | B80: Phường An Lộc | C80: ='1A'!G82 -> 17 | E80: 1 | H80: 16
A81: 74 | B81: Phường Bảo Vinh | C81: ='1A'!G83 -> 0
A82: 75 | B82: Phường Biên Hòa | C82: ='1A'!G84 -> 0
A83: 76 | B83: Phường Bình Long | C83: ='1A'!G85 -> 32 | D83: 22 | E83: 6 | F83: 0 | G83: 0 | H83: 0 | I83: 0 | J83: 0 | K83: 4 | L83: 0 | M83: 0 | N83: 0 | O83: 0
A84: 77 | B84: Phường Bình Lộc | C84: ='1A'!G86 -> 4 | D84: 0 | E84: 0 | F84: 0 | G84: 4 | H84: 0 | I84: 0 | J84: 0 | K84: 0 | L84: 0 | M84: 0 | N84: 0 | O84: 0
A85: 78 | B85: Phường Bình Phước | C85: ='1A'!G87 -> 0
A86: 79 | B86: Phường Chơn Thành | C86: ='1A'!G88 -> 34 | D86: 30 | E86: 4 | F86: 0 | G86: 0 | H86: 0 | I86: 0 | J86: 0 | K86: 0 | L86: 0 | M86: 0 | N86: 0 | O86: 0
A87: 80 | B87: Phường Đồng Xoài | C87: ='1A'!G89 -> 0
A88: 81 | B88: Phường Hàng Gòn | C88: ='1A'!G90 -> 0
A89: 82 | B89: Phường Hố Nai | C89: ='1A'!G91 -> 0
A90: 83 | B90: Phường Long Bình | C90: ='1A'!G92 -> 0
A91: 84 | B91: Phường Long Hưng | C91: ='1A'!G93 -> 0
A92: 85 | B92: Phường Long Khánh | C92: ='1A'!G94 -> 3 | D92: 0 | E92: 3 | F92: 0 | G92: 0 | H92: 0 | I92: 1 | J92: 0 | K92: 0 | L92: 0 | M92: 0 | N92: 0 | O92: 3
A93: 86 | B93: Phường Minh Hưng | C93: ='1A'!G95 -> 25 | D93: 15 | E93: 10 | F93: 0 | G93: 25 | H93: 0 | I93: 0 | J93: 0 | K93: 0 | L93: 0 | M93: 0 | N93: 0 | O93: 0
A94: 87 | B94: Phường Phước Bình | C94: ='1A'!G96 -> 2 | D94: 2 | E94: 2 | F94: 0 | G94: 0 | H94: 0 | I94: 0 | J94: 0 | K94: 0 | L94: 0 | M94: 0 | N94: 0 | O94: 0
A95: 88 | B95: Phường Phước Long | C95: ='1A'!G97 -> 13 | D95: 5 | E95: 6 | F95: 0 | G95: 10 | H95: 0 | I95: 0 | J95: 1 | K95: 1 | L95: 0 | M95: 0 | N95: 1 | O95: 1
A96: 89 | B96: Phường Phước Tân | C96: ='1A'!G98 -> 0
A97: 90 | B97: Phường Tam Hiệp | C97: ='1A'!G99 -> 0
A98: 91 | B98: Phường Tam Phước | C98: ='1A'!G100 -> 0
A99: 92 | B99: Phường Tân Triều | C99: ='1A'!G101 -> 0
A100: 93 | B100: Phường Trảng Dài | C100: ='1A'!G102 -> 0
A101: 94 | B101: Phường Trấn Biên | C101: ='1A'!G103 -> 0
...

Sheet 6B
A1: PHỤ LỤC 6B
A2: PHÂN TÍCH CÁC CHỈ SỐ THIẾU HỤT DỊCH VỤ XÃ HỘI CƠ BẢN CỦA HỘ CẬN NGHÈO CHUẨN TỈNH NĂM 2025 (không tính hộ nghèo chuẩn TW)
A3: (Kèm theo Quyết định số /QĐ-UBND ngày tháng năm của UBND tỉnh Đồng Nai)
A5: TT | B5: Khu vực/ | C5: Tổng số hộ | D5: Chỉ số thiếu hụt dịch vụ xã hội cơ bản của hộ nghèo
B6: Đơn vị | D6: 1 | E6: 2 | F6: 3 | G6: 4 | H6: 5 | I6: 6 | J6: 7 | K6: 8 | L6: 9 | M6: 10 | N6: 11 | O6: 12
A7: I | B7: KV NÔNG THÔN | C7: ='1B'!G8 -> 4528 | D7: =SUM(D8:D79) -> 1889 | E7: =SUM(E8:E79) -> 1002 | F7: =SUM(F8:F79) -> 31 | G7: =SUM(G8:G79) -> 2454 | H7: =SUM(H8:H79) -> 166 | I7: =SUM(I8:I79) -> 220 | J7: =SUM(J8:J79) -> 216 | K7: =SUM(K8:K79) -> 207 | ... O7: =SUM(O8:O79) -> 202
A8: 1 | B8: Xã An Phước | C8: ='1B'!G9 -> 13 | D8: 0 | E8: 0 | F8: 0 | G8: 13 | H8: 0 | I8: 0 | J8: 0 | K8: 0 | L8: 0 | M8: 0 | N8: 0 | O8: 0
A9: 2 | B9: Xã An Viễn | C9: ='1B'!G10 -> 83 | D9: 60 | E9: 15 | F9: 0 | G9: 2 | H9: 1 | I9: 0 | J9: 0 | K9: 0 | L9: 0 | M9: 0 | N9: 5 | O9: 0
A10: 3 | B10: Xã Bàu Hàm | C10: ='1B'!G11 -> 111 | D10: 24 | E10: 38 | F10: 3 | G10: 77 | H10: 3 | I10: 5 | J10: 0 | K10: 12 | L10: 0 | M10: 0 | N10: 21 | O10: 0
A11: 4 | B11: Xã Bình An | C11: ='1B'!G12 -> 13 | D11: 9 | E11: 0 | F11: 0 | G11: 2 | H11: 0 | I11: 0 | J11: 0 | K11: 0 | L11: 0 | M11: 0 | N11: 0 | O11: 0
A12: 5 | B12: Xã Bình Minh | C12: ='1B'!G13 -> 114 | D12: 91 | E12: 74 | F12: 0 | G12: 24 | H12: 8 | I12: 0 | J12: 29 | K12: 32 | L12: 0 | M12: 0 | N12: 56 | O12: 11
A13: 6 | B13: Xã Bình Tân | C13: ='1B'!G14 -> 0
A14: 7 | B14: Xã Bom Bo | C14: ='1B'!G15 -> 0
A15: 8 | B15: Xã Bù Đăng | C15: ='1B'!G16 -> 0
A16: 9 | B16: Xã Bù Gia Mập | C16: ='1B'!G17 -> 0
A17: 10 | B17: Xã Cẩm Mỹ | C17: ='1B'!G18 -> 139 | D17: 46 | E17: 45 | F17: 0 | G17: 4 | H17: 4 | I17: 1 | J17: 4 | K17: 2 | L17: 12 | M17: 4 | N17: 14 | O17: 3
A18: 11 | B18: Xã Dầu Giây | C18: ='1B'!G19 -> 170 | D18: 77 | E18: 86 | F18: 0 | G18: 0 | H18: 0 | I18: 0 | J18: 0 | K18: 0 | L18: 0 | M18: 0 | N18: 7 | O18: 0
A19: 12 | B19: Xã Đa Kia | C19: ='1B'!G20 -> 0
A20: 13 | B20: Xã Đại Phước | C20: ='1B'!G21 -> 34 | D20: 22 | E20: 1 | F20: 4 | G20: 1 | H20: 0 | I20: 0 | J20: 0 | K20: 4 | L20: 0 | M20: 0 | N20: 3 | O20: 0
A21: 14 | B21: Xã Đak Lua | C21: ='1B'!G22 -> 95 | D21: 1 | E21: 0 | F21: 0 | G21: 95 | H21: 0 | I21: 0 | J21: 5 | K21: 0 | L21: 0 | M21: 1 | N21: 0 | O21: 0
A22: 15 | B22: Xã Đak Nhau | C22: ='1B'!G23 -> 0
A23: 16 | B23: Xã Đăk Ơ | C23: ='1B'!G24 -> 0
A24: 17 | B24: Xã Định Quán | C24: ='1B'!G25 -> 138 | D24: 101 | E24: 143 | F24: 0 | G24: 198 | H24: 5 | I24: 17 | J24: 4 | K24: 4 | L24: 0 | M24: 0 | N24: 16 | O24: 0
A25: 18 | B25: Xã Đồng Phú | C25: ='1B'!G26 -> 0
A26: 19 | B26: Xã Đồng Tâm | C26: ='1B'!G27 -> 0
A27: 20 | B27: Xã Gia Kiệm | C27: ='1B'!G28 -> 184 | D27: 15 | E27: 16 | F27: 13 | G27: 173 | H27: 0 | I27: 0 | J27: 0 | K27: 0 | L27: 0 | M27: 0 | N27: 0 | O27: 0
A28: 21 | B28: Xã Hưng Phước | C28: ='1B'!G29 -> 0
A29: 22 | B29: Xã Hưng Thịnh | C29: ='1B'!G30 -> 162 | D29: 0 | E29: 0 | F29: 0 | G29: 162 | H29: 0 | I29: 0 | J29: 0 | K29: 0 | L29: 0 | M29: 0 | N29: 0 | O29: 0
A30: 23 | B30: Xã La Ngà | C30: ='1B'!G31 -> 84 | D30: 69 | E30: 12 | F30: 0 | G30: 0 | H30: 0 | I30: 0 | J30: 0 | K30: 0 | L30: 0 | M30: 0 | N30: 3 | O30: 0
A31: 24 | B31: Xã Long Hà | C31: ='1B'!G32 -> 0
A32: 25 | B32: Xã Long Phước | C32: ='1B'!G33 -> 24 | D32: 24 | E32: 17 | G32: 24 | N32: 24 | O32: 24
A33: 26 | B33: Xã Long Thành | C33: ='1B'!G34 -> 12 | D33: 8 | E33: 11 | F33: 0 | G33: 12 | H33: 12 | I33: 3 | J33: 0 | K33: 0 | L33: 0 | M33: 0 | N33: 1 | O33: 0
A34: 27 | B34: Xã Lộc Hưng | C34: ='1B'!G35 -> 0
A35: 28 | B35: Xã Lộc Ninh | C35: ='1B'!G36 -> 0
A36: 29 | B36: Xã Lộc Quang | C36: ='1B'!G37 -> 0
A37: 30 | B37: Xã Lộc Tấn | C37: ='1B'!G38 -> 0
A38: 31 | B38: Xã Lộc Thành | C38: ='1B'!G39 -> 0
A39: 32 | B39: Xã Lộc Thạnh | C39: ='1B'!G40 -> 0
A40: 33 | B40: Xã Minh Đức | C40: ='1B'!G41 -> 0
A41: 34 | B41: Xã Nam Cát Tiên | C41: ='1B'!G42 -> 164 | D41: 36 | E41: 38 | F41: 0 | G41: 10 | H41: 0 | I41: 0 | J41: 0 | K41: 0 | L41: 0 | M41: 0 | N41: 38 | O41: 40
A42: 35 | B42: Xã Nghĩa Trung | C42: ='1B'!G43 -> 0
A43: 36 | B43: Xã Nha Bích | C43: ='1B'!G44 -> 0 | D43: 5 | E43: 3 | F43: 0 | G43: 21 | H43: 2 | I43: 2 | J43: 0 | K43: 0 | L43: 0 | M43: 0 | N43: 8 | O43: 0
A44: 37 | B44: Xã Nhơn Trạch | C44: ='1B'!G45 -> 49 | D44: 0 | E44: 0 | F44: 0 | G44: 49 | H44: 0 | I44: 0 | J44: 0 | K44: 0 | L44: 0 | M44: 0 | N44: 0 | O44: 0
A45: 38 | B45: Xã Phú Hòa | C45: ='1B'!G46 -> 60 | D45: 26 | E45: 11 | G45: 16 | H45: 1 | N45: 6
A46: 39 | B46: Xã Phú Lâm | C46: ='1B'!G47 -> 373 | D46: 39 | E46: 0 | F46: 0 | G46: 373 | H46: 0 | I46: 0 | J46: 0 | K46: 0 | L46: 0 | M46: 0 | N46: 0 | O46: 0
A47: 40 | B47: Xã Phú Lý | C47: ='1B'!G48 -> 119 | D47: 68 | E47: 0 | F47: 0 | G47: 0 | H47: 64 | I47: 68 | J47: 0 | K47: 0 | L47: 0 | M47: 85 | N47: 95 | O47: 97
A48: 41 | B48: Xã Phú Nghĩa | C48: ='1B'!G49 -> 0
A49: 42 | B49: Xã Phú Riềng | C49: ='1B'!G50 -> 0
A50: 43 | B50: Xã Phú Trung | C50: ='1B'!G51 -> 0
A51: 44 | B51: Xã Phú Vinh | C51: ='1B'!G52 -> 116 | D51: 116 | E51: 116 | F51: 0 | G51: 116 | I51: 116 | J51: 116 | K51: 116
A52: 45 | B52: Xã Phước An | C52: ='1B'!G53 -> 10 | D52: 10 | E52: 10 | F52: 0 | G52: 0 | H52: 0 | I52: 0 | J52: 0 | K52: 0 | L52: 0 | M52: 0 | N52: 3 | O52: 0
A53: 46 | B53: Xã Phước Sơn | C53: ='1B'!G54 -> 0
A54: 47 | B54: Xã Phước Thái | C54: ='1B'!G55 -> 18 | D54: 5 | E54: 3 | F54: 0 | G54: 0 | H54: 0 | I54: 0 | J54: 3 | K54: 1 | L54: 1 | M54: 1 | N54: 2 | O54: 2
A55: 48 | B55: Xã Sông Ray | C55: ='1B'!G56 -> 0 | D55: 55 | E55: 44 | F55: 5 | G55: 7 | H55: 8 | I55: 0 | J55: 6 | K55: 8 | L55: 10 | M55: 1 | N55: 23 | O55: 3
A56: 49 | B56: Xã Tà Lài | C56: ='1B'!G57 -> 307 | D56: 307 | E56: 0 | F56: 0 | G56: 307 | H56: 0 | I56: 0 | J56: 0 | K56: 0 | L56: 0 | M56: 0 | N56: 0 | O56: 0
A57: 50 | B57: Xã Tân An | C57: ='1B'!G58 -> 14 | D57: 7 | E57: 3 | F57: 0 | G57: 0 | H57: 0 | I57: 2 | J57: 0 | K57: 0 | L57: 0 | M57: 0 | N57: 1 | O57: 0
A58: 51 | B58: Xã Tân Hưng | C58: ='1B'!G59 -> 0
A59: 52 | B59: Xã Tân Khai | C59: ='1B'!G60 -> 0
A60: 53 | B60: Xã Tân Lợi | C60: ='1B'!G61 -> 0
A61: 54 | B61: Xã Tân Phú | C61: ='1B'!G62 -> 659 | D61: 218 | E61: 91 | F61: 0 | G61: 301 | H61: 0 | I61: 0 | J61: 0 | K61: 17 | L61: 0 | M61: 13 | N61: 19 | O61: 0
A62: 55 | B62: Xã Tân Quan | C62: ='1B'!G63 -> 0
A63: 56 | B63: Xã Tân Tiến | C63: ='1B'!G64 -> 0
A64: 57 | B64: Xã Thanh Sơn | C64: ='1B'!G65 -> 146 | D64: 57 | E64: 25 | F64: 0 | G64: 0 | H64: 14 | I64: 4 | J64: 34 | K64: 0 | L64: 0 | M64: 0 | N64: 12 | O64: 0
A65: 58 | B65: Xã Thiện Hưng | C65: ='1B'!G66 -> 0
A66: 59 | B66: Xã Thọ Sơn | C66: ='1B'!G67 -> 0
A67: 60 | B67: Xã Thống Nhất | C67: ='1B'!G68 -> 82 | D67: 26 | E67: 27 | F67: 0 | G67: 1 | H67: 17 | I67: 0 | J67: 7 | K67: 1 | L67: 0 | M67: 0 | N67: 5 | O67: 0
A68: 61 | B68: Xã Thuận Lợi | C68: ='1B'!G69 -> 0
A69: 62 | B69: Xã Trảng Bom | C69: ='1B'!G70 -> 116 | D69: 3 | E69: 6 | F69: 0 | G69: 107 | H69: 0 | I69: 0 | J69: 0 | K69: 0 | L69: 0 | M69: 0 | N69: 0 | O69: 0
A70: 63 | B70: Xã Trị An | C70: ='1B'!G71 -> 156 | D70: 0 | E70: 0 | F70: 0 | G70: 156 | H70: 0 | I70: 0 | J70: 0 | K70: 0 | L70: 0 | M70: 0 | N70: 0 | O70: 0
A71: 64 | B71: Xã Xuân Bắc | C71: ='1B'!G72 -> 92 | D71: 38 | E71: 35 | F71: 0 | G71: 4 | H71: 6 | I71: 0 | J71: 1 | K71: 0 | L71: 1 | M71: 0 | N71: 2 | O71: 0
A72: 65 | B72: Xã Xuân Định | C72: ='1B'!G73 -> 34 | D72: 28 | E72: 7 | F72: 1 | G72: 2 | H72: 2 | I72: 1 | J72: 2 | K72: 0 | L72: 0 | M72: 1 | N72: 5 | O72: 9
A73: 66 | B73: Xã Xuân Đông | C73: ='1B'!G74 -> 161 | D73: 161 | E73: 0 | F73: 0 | G73: 0 | H73: 0 | I73: 0 | J73: 0 | K73: 0 | L73: 0 | M73: 0 | N73: 0 | O73: 0
A74: 67 | B74: Xã Xuân Đường | C74: ='1B'!G75 -> 73 | D74: 0 | E74: 0 | F74: 0 | G74: 73 | H74: 0 | I74: 0 | J74: 0 | K74: 0 | L74: 0 | M74: 0 | N74: 0 | O74: 0
A75: 68 | B75: Xã Xuân Hòa | C75: ='1B'!G76 -> 156 | D75: 13 | E75: 17 | F75: 2 | G75: 94 | H75: 3 | I75: 0 | J75: 2 | K75: 1 | L75: 7 | M75: 7 | N75: 3 | O75: 11
A76: 69 | B76: Xã Xuân Lộc | C76: ='1B'!G77 -> 0
A77: 70 | B77: Xã Xuân Phú | C77: ='1B'!G78 -> 67 | D77: 22 | E77: 35 | F77: 0 | G77: 0 | H77: 6 | I77: 0 | J77: 1 | K77: 0 | L77: 1 | M77: 0 | N77: 2 | O77: 0
A78: 71 | B78: Xã Xuân Quế | C78: ='1B'!G79 -> 111 | D78: 60 | E78: 35 | F78: 0 | G78: 0 | H78: 0 | I78: 0 | J78: 0 | K78: 0 | L78: 0 | M78: 0 | N78: 24 | O78: 0
A79: 72 | B79: Xã Xuân Thành | C79: ='1B'!G80 -> 69 | D79: 42 | E79: 38 | F79: 3 | G79: 30 | H79: 10 | I79: 1 | J79: 2 | K79: 9 | L79: 8 | M79: 1 | N79: 9 | O79: 2
A80: II | B80: KV THÀNH THỊ | C80: ='1B'!G81 -> 376 | D80: =SUM(D81:D103) -> 197 | E80: =SUM(E81:E103) -> 159 | F80: =SUM(F81:F103) -> 0 | G80: =SUM(G81:G103) -> 82 | H80: =SUM(H81:H103) -> 17 | I80: =SUM(I81:I103) -> 12 | J80: =SUM(J81:J103) -> 4 | K80: =SUM(K81:K103) -> 82 | ... O80: =SUM(O81:O103) -> 22
A81: 73 | B81: Phường An Lộc | C81: ='1B'!G82 -> 0
A82: 74 | B82: Phường Bảo Vinh | C82: ='1B'!G83 -> 16 | D82: 4 | E82: 10 | F82: 0 | G82: 0 | H82: 0 | I82: 1 | J82: 0 | K82: 1 | L82: 0 | M82: 0 | N82: 0 | O82: 0
A83: 75 | B83: Phường Biên Hòa | C83: ='1B'!G84 -> 23 | D83: 14 | E83: 4 | F83: 0 | G83: 0 | H83: 1 | I83: 0 | J83: 1 | K83: 0 | L83: 0 | M83: 0 | N83: 3 | O83: 0
A84: 76 | B84: Phường Bình Long | C84: ='1B'!G85 -> 0
A85: 77 | B85: Phường Bình Lộc | C85: ='1B'!G86 -> 64 | D85: 0 | E85: 8 | F85: 0 | G85: 56 | H85: 0 | I85: 0 | J85: 0 | K85: 0 | L85: 0 | M85: 0 | N85: 0 | O85: 0
A86: 78 | B86: Phường Bình Phước | C86: ='1B'!G87 -> 0
A87: 79 | B87: Phường Chơn Thành | C87: ='1B'!G88 -> 0
A88: 80 | B88: Phường Đồng Xoài | C88: ='1B'!G89 -> 0
A89: 81 | B89: Phường Hàng Gòn | C89: ='1B'!G90 -> 8 | D89: 1 | E89: 7 | F89: 0 | G89: 0 | H89: 0 | I89: 0 | J89: 0 | K89: 8 | L89: 0 | M89: 0 | N89: 0 | O89: 0
A90: 82 | B90: Phường Hố Nai | C90: ='1B'!G91 -> 11 | D90: 11 | E90: 11
A91: 83 | B91: Phường Long Bình | C91: ='1B'!G92 -> 26 | D91: 26 | E91: 26
A92: 84 | B92: Phường Long Hưng | C92: ='1B'!G93 -> 31 | D92: 9 | E92: 9 | F92: 0 | G92: 0 | H92: 1 | I92: 0 | J92: 1 | K92: 0 | L92: 5 | M92: 2 | N92: 4 | O92: 0
A93: 85 | B93: Phường Long Khánh | C93: ='1B'!G94 -> 17 | D93: 0 | E93: 17 | F93: 0 | G93: 0 | H93: 0 | I93: 0 | J93: 0 | K93: 0 | L93: 0 | M93: 0 | N93: 1 | O93: 7
A94: 86 | B94: Phường Minh Hưng | C94: ='1B'!G95 -> 0
A95: 87 | B95: Phường Phước Bình | C95: ='1B'!G96 -> 0
A96: 88 | B96: Phường Phước Long | C96: ='1B'!G97 -> 0
A97: 89 | B97: Phường Phước Tân | C97: ='1B'!G98 -> 15 | D97: 0 | E97: 14 | F97: 0 | G97: 0 | H97: 0 | I97: 0 | J97: 0 | K97: 0 | L97: 0 | M97: 0 | N97: 0 | O97: 0
A98: 90 | B98: Phường Tam Hiệp | C98: ='1B'!G99 -> 21 | D98: 21 | E98: 21
A99: 91 | B99: Phường Tam Phước | C99: ='1B'!G100 -> 20 | D99: 5 | E99: 9 | F99: 0 | G99: 0 | H99: 0 | I99: 0 | J99: 0 | K99: 1 | L99: 0 | M99: 0 | N99: 4 | O99: 0
A100: 92 | B100: Phường Tân Triều | C100: ='1B'!G101 -> 68 | D100: 68 | E100: 0 | F100: 0 | G100: 21 | H100: 0 | I100: 0 | J100: 0 | K100: 68 | L100: 0 | M100: 0 | N100: 21 | O100: 0
A101: 93 | B101: Phường Trảng Dài | C101: ='1B'!G102 -> 15 | D101: 11 | E101: 4 | F101: 0 | G101: 5 | H101: 0 | I101: 0 | J101: 0 | K101: 0 | L101: 0 | M101: 0 | N101: 0 | O101: 5
...

Sheet 7A
A1: PHỤ LỤC 5A
A2: PHÂN TÍCH TỶ LỆ CÁC CHỈ SỐ THIẾU HỤT DỊCH VỤ XÃ HỘI CƠ BẢN CỦA HỘ CẬN NGHÈO CHUẨN TRUNG ƯƠNG NĂM 2025
A4: TT | B4: Khu vực/ | C4: Tổng số hộ nghèo | D4: Chỉ số thiếu hụt dịch vụ xã hội cơ bản của hộ nghèo
B5: Đơn vị | D5: 1 | E5: 2 | F5: 3 | G5: 4 | H5: 5 | I5: 6 | J5: 7 | K5: 8 | L5: 9 | M5: 10 | N5: 11 | O5: 12
A6: I | B6: KV NÔNG THÔN | C6: ='6A'!C6 -> 1906 | D6: ='6A'!D6*100/'7A'!$C$6 -> 53.672613 | E6: ='6A'!E6*100/'7A'!$C$6 -> 44.333683 | F6: ='6A'!F6*100/'7A'!$C$6 -> 10.545645 | G6: ='6A'!G6*100/'7A'!$C$6 -> 11.490031 | H6: ='6A'!H6*100/'7A'!$C$6 -> 18.520986 | I6: ='6A'!I6*100/'7A'!$C$6 -> 10.388248 | J6: ='6A'!J6*100/'7A'!$C$6 -> 20.828961 | K6: ='6A'!K6*100/'7A'!$C$6 -> 13.903463 | ... O6: ='6A'!O6*100/'7A'!$C$6 -> 13.693599
A7: 1 | B7: Xã An Phước | C7: ='6A'!C7 -> 0
A8: 2 | B8: Xã An Viễn | C8: ='6A'!C8 -> 2 | D8: ='6A'!D8*100/'7A'!$C$8 -> 100 | E8: ='6A'!E8*100/'7A'!$C$8 -> 0 | F8: ='6A'!F8*100/'7A'!$C$8 -> 0 | G8: ='6A'!G8*100/'7A'!$C$8 -> 0 | H8: ='6A'!H8*100/'7A'!$C$8 -> 0 | I8: ='6A'!I8*100/'7A'!$C$8 -> 0 | J8: ='6A'!J8*100/'7A'!$C$8 -> 0 | K8: ='6A'!K8*100/'7A'!$C$8 -> 0 | ... O8: ='6A'!O8*100/'7A'!$C$8 -> 0
A9: 3 | B9: Xã Bàu Hàm | C9: ='6A'!C9 -> 0
A10: 4 | B10: Xã Bình An | C10: ='6A'!C10 -> 0
A11: 5 | B11: Xã Bình Minh | C11: ='6A'!C11 -> 4 | D11: ='6A'!D11*100/'7A'!$C$11 -> 100 | E11: ='6A'!E11*100/'7A'!$C$11 -> 100 | F11: ='6A'!F11*100/'7A'!$C$11 -> 0 | G11: ='6A'!G11*100/'7A'!$C$11 -> 0 | H11: ='6A'!H11*100/'7A'!$C$11 -> 0 | I11: ='6A'!I11*100/'7A'!$C$11 -> 0 | J11: ='6A'!J11*100/'7A'!$C$11 -> 50 | K11: ='6A'!K11*100/'7A'!$C$11 -> 0 | ... O11: ='6A'!O11*100/'7A'!$C$11 -> 0
A12: 6 | B12: Xã Bình Tân | C12: ='6A'!C12 -> 173 | D12: ='6A'!D12*100/'7A'!$C$12 -> 95.953757 | E12: ='6A'!E12*100/'7A'!$C$12 -> 23.121387 | F12: ='6A'!F12*100/'7A'!$C$12 -> 8.6705202 | G12: ='6A'!G12*100/'7A'!$C$12 -> 0 | H12: ='6A'!H12*100/'7A'!$C$12 -> 0 | I12: ='6A'!I12*100/'7A'!$C$12 -> 0 | J12: ='6A'!J12*100/'7A'!$C$12 -> 14.450867 | K12: ='6A'!K12*100/'7A'!$C$12 -> 16.184971 | ... O12: ='6A'!O12*100/'7A'!$C$12 -> 37.572254
A13: 7 | B13: Xã Bom Bo | C13: ='6A'!C13 -> 17 | D13: ='6A'!D13*100/'7A'!$C$13 -> 23.529412 | E13: ='6A'!E13*100/'7A'!$C$13 -> 100 | F13: ='6A'!F13*100/'7A'!$C$13 -> 35.294118 | G13: ='6A'!G13*100/'7A'!$C$13 -> 5.8823529 | H13: ='6A'!H13*100/'7A'!$C$13 -> 88.235294 | I13: ='6A'!I13*100/'7A'!$C$13 -> 47.058824 | J13: ='6A'!J13*100/'7A'!$C$13 -> 47.058824 | K13: ='6A'!K13*100/'7A'!$C$13 -> 41.176471 | ... O13: ='6A'!O13*100/'7A'!$C$13 -> 17.647059
A14: 8 | B14: Xã Bù Đăng | C14: ='6A'!C14 -> 82 | D14: ='6A'!D14*100/'7A'!$C$14 -> 9.7560976 | E14: ='6A'!E14*100/'7A'!$C$14 -> 42.682927 | F14: ='6A'!F14*100/'7A'!$C$14 -> 12.195122 | G14: ='6A'!G14*100/'7A'!$C$14 -> 0 | H14: ='6A'!H14*100/'7A'!$C$14 -> 32.926829 | I14: ='6A'!I14*100/'7A'!$C$14 -> 14.634146 | J14: ='6A'!J14*100/'7A'!$C$14 -> 7.3170732 | K14: ='6A'!K14*100/'7A'!$C$14 -> 7.3170732 | ... O14: ='6A'!O14*100/'7A'!$C$14 -> 0
A15: 9 | B15: Xã Bù Gia Mập | C15: ='6A'!C15 -> 210 | D15: ='6A'!D15*100/'7A'!$C$15 -> 32.380952 | E15: ='6A'!E15*100/'7A'!$C$15 -> 21.428571 | F15: ='6A'!F15*100/'7A'!$C$15 -> 4.7619048 | G15: ='6A'!G15*100/'7A'!$C$15 -> 0 | H15: ='6A'!H15*100/'7A'!$C$15 -> 20 | I15: ='6A'!I15*100/'7A'!$C$15 -> 6.1904762 | J15: ='6A'!J15*100/'7A'!$C$15 -> 18.095238 | K15: ='6A'!K15*100/'7A'!$C$15 -> 9.047619 | ... O15: ='6A'!O15*100/'7A'!$C$15 -> 19.047619
A16: 10 | B16: Xã Cẩm Mỹ | C16: ='6A'!C16 -> 31 | D16: ='6A'!D16*100/'7A'!$C$16 -> 48.387097 | E16: ='6A'!E16*100/'7A'!$C$16 -> 48.387097 | F16: ='6A'!F16*100/'7A'!$C$16 -> 0 | G16: ='6A'!G16*100/'7A'!$C$16 -> 0 | H16: ='6A'!H16*100/'7A'!$C$16 -> 3.2258065 | I16: ='6A'!I16*100/'7A'!$C$16 -> 0 | J16: ='6A'!J16*100/'7A'!$C$16 -> 6.4516129 | K16: ='6A'!K16*100/'7A'!$C$16 -> 0 | ... O16: ='6A'!O16*100/'7A'!$C$16 -> 9.6774194
A17: 11 | B17: Xã Dầu Giây | C17: ='6A'!C17 -> 0
A18: 12 | B18: Xã Đa Kia | C18: ='6A'!C18 -> 171 | D18: ='6A'!D18*100/'7A'!$C$18 -> 0 | E18: ='6A'!E18*100/'7A'!$C$18 -> 0 | F18: ='6A'!F18*100/'7A'!$C$18 -> 0.58479532 | G18: ='6A'!G18*100/'7A'!$C$18 -> 0 | H18: ='6A'!H18*100/'7A'!$C$18 -> 2.9239766 | I18: ='6A'!I18*100/'7A'!$C$18 -> 0 | J18: ='6A'!J18*100/'7A'!$C$18 -> 50.877193 | K18: ='6A'!K18*100/'7A'!$C$18 -> 0 | ... O18: ='6A'!O18*100/'7A'!$C$18 -> 0
A19: 13 | B19: Xã Đại Phước | C19: ='6A'!C19 -> 0
A20: 14 | B20: Xã Đak Lua | C20: ='6A'!C20 -> 0
A21: 15 | B21: Xã Đak Nhau | C21: ='6A'!C21 -> 76 | D21: ='6A'!D21*100/'7A'!$C$21 -> 68.421053 | E21: ='6A'!E21*100/'7A'!$C$21 -> 82.894737 | F21: ='6A'!F21*100/'7A'!$C$21 -> 0 | G21: ='6A'!G21*100/'7A'!$C$21 -> 26.315789 | H21: ='6A'!H21*100/'7A'!$C$21 -> 85.526316 | I21: ='6A'!I21*100/'7A'!$C$21 -> 0 | J21: ='6A'!J21*100/'7A'!$C$21 -> 18.421053 | K21: ='6A'!K21*100/'7A'!$C$21 -> 0 | ... O21: ='6A'!O21*100/'7A'!$C$21 -> 1.3157895
A22: 16 | B22: Xã Đăk Ơ | C22: ='6A'!C22 -> 139 | D22: ='6A'!D22*100/'7A'!$C$22 -> 69.064748 | E22: ='6A'!E22*100/'7A'!$C$22 -> 48.201439 | F22: ='6A'!F22*100/'7A'!$C$22 -> 10.071942 | G22: ='6A'!G22*100/'7A'!$C$22 -> 0 | H22: ='6A'!H22*100/'7A'!$C$22 -> 43.884892 | I22: ='6A'!I22*100/'7A'!$C$22 -> 16.546763 | J22: ='6A'!J22*100/'7A'!$C$22 -> 43.884892 | K22: ='6A'!K22*100/'7A'!$C$22 -> 24.460432 | ... O22: ='6A'!O22*100/'7A'!$C$22 -> 41.007194
A23: 17 | B23: Xã Định Quán | C23: ='6A'!C23 -> 0
A24: 18 | B24: Xã Đồng Phú | C24: ='6A'!C24 -> 8 | D24: ='6A'!D24*100/'7A'!$C$24 -> 75 | E24: ='6A'!E24*100/'7A'!$C$24 -> 75 | F24: ='6A'!F24*100/'7A'!$C$24 -> 0 | G24: ='6A'!G24*100/'7A'!$C$24 -> 0 | H24: ='6A'!H24*100/'7A'!$C$24 -> 0 | I24: ='6A'!I24*100/'7A'!$C$24 -> 0 | J24: ='6A'!J24*100/'7A'!$C$24 -> 75 | K24: ='6A'!K24*100/'7A'!$C$24 -> 0 | ... O24: ='6A'!O24*100/'7A'!$C$24 -> 0
A25: 19 | B25: Xã Đồng Tâm | C25: ='6A'!C25 -> 31 | D25: ='6A'!D25*100/'7A'!$C$25 -> 51.612903 | E25: ='6A'!E25*100/'7A'!$C$25 -> 29.032258 | F25: ='6A'!F25*100/'7A'!$C$25 -> 3.2258065 | G25: ='6A'!G25*100/'7A'!$C$25 -> 64.516129 | H25: ='6A'!H25*100/'7A'!$C$25 -> 3.2580645 | I25: ='6A'!I25*100/'7A'!$C$25 -> 3.2258065 | J25: ='6A'!J25*100/'7A'!$C$25 -> 6.4516129 | K25: ='6A'!K25*100/'7A'!$C$25 -> 12.903226 | ... O25: ='6A'!O25*100/'7A'!$C$25 -> 9.6774194
A26: 20 | B26: Xã Gia Kiệm | C26: ='6A'!C26 -> 0
A27: 21 | B27: Xã Hưng Phước | C27: ='6A'!C27 -> 30 | D27: ='6A'!D27*100/'7A'!$C$27 -> 100 | E27: ='6A'!E27*100/'7A'!$C$27 -> 16.666667 | F27: ='6A'!F27*100/'7A'!$C$27 -> 0 | G27: ='6A'!G27*100/'7A'!$C$27 -> 0 | H27: ='6A'!H27*100/'7A'!$C$27 -> 0 | I27: ='6A'!I27*100/'7A'!$C$27 -> 0 | J27: ='6A'!J27*100/'7A'!$C$27 -> 0 | K27: ='6A'!K27*100/'7A'!$C$27 -> 0 | ... O27: ='6A'!O27*100/'7A'!$C$27 -> 13.333333
A28: 22 | B28: Xã Hưng Thịnh | C28: ='6A'!C28 -> 0
A29: 23 | B29: Xã La Ngà | C29: ='6A'!C29 -> 6 | D29: ='6A'!D29*100/'7A'!$C$29 -> 100 | E29: ='6A'!E29*100/'7A'!$C$29 -> 0 | F29: ='6A'!F29*100/'7A'!$C$29 -> 0 | G29: ='6A'!G29*100/'7A'!$C$29 -> 0 | H29: ='6A'!H29*100/'7A'!$C$29 -> 0 | I29: ='6A'!I29*100/'7A'!$C$29 -> 0 | J29: ='6A'!J29*100/'7A'!$C$29 -> 0 | K29: ='6A'!K29*100/'7A'!$C$29 -> 0 | ... O29: ='6A'!O29*100/'7A'!$C$29 -> 33.333333
A30: 24 | B30: Xã Long Hà | C30: ='6A'!C30 -> 47 | D30: ='6A'!D30*100/'7A'!$C$30 -> 65.957447 | E30: ='6A'!E30*100/'7A'!$C$30 -> 46.808511 | F30: ='6A'!F30*100/'7A'!$C$30 -> 17.021277 | G30: ='6A'!G30*100/'7A'!$C$30 -> 0 | H30: ='6A'!H30*100/'7A'!$C$30 -> 34.042553 | I30: ='6A'!I30*100/'7A'!$C$30 -> 8.5106383 | J30: ='6A'!J30*100/'7A'!$C$30 -> 61.702128 | K30: ='6A'!K30*100/'7A'!$C$30 -> 68.085106 | ... O30: ='6A'!O30*100/'7A'!$C$30 -> 6.3829787
A31: 25 | B31: Xã Long Phước | C31: ='6A'!C31 -> 0
A32: 26 | B32: Xã Long Thành | C32: ='6A'!C32 -> 27 | D32: ='6A'!D32*100/'7A'!$C$32 -> 77.777778 | E32: ='6A'!E32*100/'7A'!$C$32 -> 88.888889 | F32: ='6A'!F32*100/'7A'!$C$32 -> 25.925926 | G32: ='6A'!G32*100/'7A'!$C$32 -> 81.481481 | H32: ='6A'!H32*100/'7A'!$C$32 -> 70.37037 | I32: ='6A'!I32*100/'7A'!$C$32 -> 7.4074074 | J32: ='6A'!J32*100/'7A'!$C$32 -> 25.925926 | K32: ='6A'!K32*100/'7A'!$C$32 -> 22.222222 | ... O32: ='6A'!O32*100/'7A'!$C$32 -> 59.259259
A33: 27 | B33: Xã Lộc Hưng | C33: ='6A'!C33 -> 5 | D33: ='6A'!D33*100/'7A'!$C$33 -> 60 | E33: ='6A'!E33*100/'7A'!$C$33 -> 100 | F33: ='6A'!F33*100/'7A'!$C$33 -> 0 | G33: ='6A'!G33*100/'7A'!$C$33 -> 100 | H33: ='6A'!H33*100/'7A'!$C$33 -> 20 | I33: ='6A'!I33*100/'7A'!$C$33 -> 40 | J33: ='6A'!J33*100/'7A'!$C$33 -> 100 | K33: ='6A'!K33*100/'7A'!$C$33 -> 0 | ... O33: ='6A'!O33*100/'7A'!$C$33 -> 0
A34: 28 | B34: Xã Lộc Ninh | C34: ='6A'!C34 -> 14 | D34: ='6A'!D34*100/'7A'!$C$34 -> 21.428571 | E34: ='6A'!E34*100/'7A'!$C$34 -> 0 | F34: ='6A'!F34*100/'7A'!$C$34 -> 0 | G34: ='6A'!G34*100/'7A'!$C$34 -> 21.428571 | H34: ='6A'!H34*100/'7A'!$C$34 -> 28.571429 | I34: ='6A'!I34*100/'7A'!$C$34 -> 14.285714 | J34: ='6A'!J34*100/'7A'!$C$34 -> 21.428571 | K34: ='6A'!K34*100/'7A'!$C$34 -> 7.1428571 | ... O34: ='6A'!O34*100/'7A'!$C$34 -> 0
A35: 29 | B35: Xã Lộc Quang | C35: ='6A'!C35 -> 161 | D35: ='6A'!D35*100/'7A'!$C$35 -> 55.279503 | E35: ='6A'!E35*100/'7A'!$C$35 -> 40.372671 | F35: ='6A'!F35*100/'7A'!$C$35 -> 1.863354 | G35: ='6A'!G35*100/'7A'!$C$35 -> 0.62111801 | H35: ='6A'!H35*100/'7A'!$C$35 -> 8.6956522 | I35: ='6A'!I35*100/'7A'!$C$35 -> 4.3478261 | J35: ='6A'!J35*100/'7A'!$C$35 -> 22.981366 | K35: ='6A'!K35*100/'7A'!$C$35 -> 6.2111801 | ... O35: ='6A'!O35*100/'7A'!$C$35 -> 14.906832
A36: 30 | B36: Xã Lộc Tấn | C36: ='6A'!C36 -> 10 | D36: ='6A'!D36*100/'7A'!$C$36 -> 0 | E36: ='6A'!E36*100/'7A'!$C$36 -> 100 | F36: ='6A'!F36*100/'7A'!$C$36 -> 100 | G36: ='6A'!G36*100/'7A'!$C$36 -> 100 | H36: ='6A'!H36*100/'7A'!$C$36 -> 0 | I36: ='6A'!I36*100/'7A'!$C$36 -> 90 | J36: ='6A'!J36*100/'7A'!$C$36 -> 100 | K36: ='6A'!K36*100/'7A'!$C$36 -> 0 | ... O36: ='6A'!O36*100/'7A'!$C$36 -> 50
A37: 31 | B37: Xã Lộc Thành | C37: ='6A'!C37 -> 28 | D37: ='6A'!D37*100/'7A'!$C$37 -> 60.714286 | E37: ='6A'!E37*100/'7A'!$C$37 -> 32.142857 | F37: ='6A'!F37*100/'7A'!$C$37 -> 25 | G37: ='6A'!G37*100/'7A'!$C$37 -> 21.428571 | H37: ='6A'!H37*100/'7A'!$C$37 -> 25 | I37: ='6A'!I37*100/'7A'!$C$37 -> 32.142857 | J37: ='6A'!J37*100/'7A'!$C$37 -> 46.428571 | K37: ='6A'!K37*100/'7A'!$C$37 -> 14.285714 | ... O37: ='6A'!O37*100/'7A'!$C$37 -> 14.285714
A38: 32 | B38: Xã Lộc Thạnh | C38: ='6A'!C38 -> 10 | D38: ='6A'!D38*100/'7A'!$C$38 -> 60 | E38: ='6A'!E38*100/'7A'!$C$38 -> 10 | F38: ='6A'!F38*100/'7A'!$C$38 -> 0 | G38: ='6A'!G38*100/'7A'!$C$38 -> 10 | H38: ='6A'!H38*100/'7A'!$C$38 -> 20 | I38: ='6A'!I38*100/'7A'!$C$38 -> 0 | J38: ='6A'!J38*100/'7A'!$C$38 -> 0 | K38: ='6A'!K38*100/'7A'!$C$38 -> 0 | ... O38: ='6A'!O38*100/'7A'!$C$38 -> 0
A39: 33 | B39: Xã Minh Đức | C39: ='6A'!C39 -> 6 | D39: ='6A'!D39*100/'7A'!$C$39 -> 0 | E39: ='6A'!E39*100/'7A'!$C$39 -> 33.333333 | F39: ='6A'!F39*100/'7A'!$C$39 -> 0 | G39: ='6A'!G39*100/'7A'!$C$39 -> 0 | H39: ='6A'!H39*100/'7A'!$C$39 -> 16.666667 | I39: ='6A'!I39*100/'7A'!$C$39 -> 0 | J39: ='6A'!J39*100/'7A'!$C$39 -> 0 | K39: ='6A'!K39*100/'7A'!$C$39 -> 0 | ... O39: ='6A'!O39*100/'7A'!$C$39 -> 50
A40: 34 | B40: Xã Nam Cát Tiên | C40: ='6A'!C40 -> 0
A41: 35 | B41: Xã Nghĩa Trung | C41: ='6A'!C41 -> 17 | D41: ='6A'!D41*100/'7A'!$C$41 -> 94.117647 | E41: ='6A'!E41*100/'7A'!$C$41 -> 88.235294 | F41: ='6A'!F41*100/'7A'!$C$41 -> 5.8823529 | G41: ='6A'!G41*100/'7A'!$C$41 -> 100 | H41: ='6A'!H41*100/'7A'!$C$41 -> 0 | I41: ='6A'!I41*100/'7A'!$C$41 -> 94.117647 | J41: ='6A'!J41*100/'7A'!$C$41 -> 58.823529 | K41: ='6A'!K41*100/'7A'!$C$41 -> 0 | ... O41: ='6A'!O41*100/'7A'!$C$41 -> 23.529412
A42: 36 | B42: Xã Nha Bích | C42: ='6A'!C42 -> 21 | D42: ='6A'!D42*100/'7A'!$C$42 -> 100 | E42: ='6A'!E42*100/'7A'!$C$42 -> 100 | F42: ='6A'!F42*100/'7A'!$C$42 -> 100 | G42: ='6A'!G42*100/'7A'!$C$42 -> 0 | H42: ='6A'!H42*100/'7A'!$C$42 -> 0 | I42: ='6A'!I42*100/'7A'!$C$42 -> 0 | J42: ='6A'!J42*100/'7A'!$C$42 -> 0 | K42: ='6A'!K42*100/'7A'!$C$42 -> 0 | ... O42: ='6A'!O42*100/'7A'!$C$42 -> 0
A43: 37 | B43: Xã Nhơn Trạch | C43: ='6A'!C43 -> 0
A44: 38 | B44: Xã Phú Hòa | C44: ='6A'!C44 -> 0
A45: 39 | B45: Xã Phú Lâm | C45: ='6A'!C45 -> 0
A46: 40 | B46: Xã Phú Lý | C46: ='6A'!C46 -> 0
A47: 41 | B47: Xã Phú Nghĩa | C47: ='6A'!C47 -> 20 | D47: ='6A'!D47*100/'7A'!$C$47 -> 70 | E47: ='6A'!E47*100/'7A'!$C$47 -> 75 | F47: ='6A'!F47*100/'7A'!$C$47 -> 0 | G47: ='6A'!G47*100/'7A'!$C$47 -> 0 | H47: ='6A'!H47*100/'7A'!$C$47 -> 75 | I47: ='6A'!I47*100/'7A'!$C$47 -> 0 | J47: ='6A'!J47*100/'7A'!$C$47 -> 0 | K47: ='6A'!K47*100/'7A'!$C$47 -> 5 | ... O47: ='6A'!O47*100/'7A'!$C$47 -> 30
A48: 42 | B48: Xã Phú Riềng | C48: ='6A'!C48 -> 36 | D48: ='6A'!D48*100/'7A'!$C$48 -> 30.555556 | E48: ='6A'!E48*100/'7A'!$C$48 -> 58.333333 | F48: ='6A'!F48*100/'7A'!$C$48 -> 0 | G48: ='6A'!G48*100/'7A'!$C$48 -> 38.888889 | H48: ='6A'!H48*100/'7A'!$C$48 -> 0 | I48: ='6A'!I48*100/'7A'!$C$48 -> 11.111111 | J48: ='6A'!J48*100/'7A'!$C$48 -> 8.3333333 | K48: ='6A'!K48*100/'7A'!$C$48 -> 27.777778 | ... O48: ='6A'!O48*100/'7A'!$C$48 -> 2.7777778
A49: 43 | B49: Xã Phú Trung | C49: ='6A'!C49 -> 6 | D49: ='6A'!D49*100/'7A'!$C$49 -> 16.666667 | E49: ='6A'!E49*100/'7A'!$C$49 -> 33.333333 | F49: ='6A'!F49*100/'7A'!$C$49 -> 0 | G49: ='6A'!G49*100/'7A'!$C$49 -> 66.666667 | H49: ='6A'!H49*100/'7A'!$C$49 -> 0 | I49: ='6A'!I49*100/'7A'!$C$49 -> 0 | J49: ='6A'!J49*100/'7A'!$C$49 -> 0 | K49: ='6A'!K49*100/'7A'!$C$49 -> 0 | ... O49: ='6A'!O49*100/'7A'!$C$49 -> 0
A50: 44 | B50: Xã Phú Vinh | C50: ='6A'!C50 -> 0
A51: 45 | B51: Xã Phước An | C51: ='6A'!C51 -> 0
A52: 46 | B52: Xã Phước Sơn | C52: ='6A'!C52 -> 89 | D52: ='6A'!D52*100/'7A'!$C$52 -> 71.910112 | E52: ='6A'!E52*100/'7A'!$C$52 -> 30.337079 | F52: ='6A'!F52*100/'7A'!$C$52 -> 0 | G52: ='6A'!G52*100/'7A'!$C$52 -> 0 | H52: ='6A'!H52*100/'7A'!$C$52 -> 35.955056 | I52: ='6A'!I52*100/'7A'!$C$52 -> 1.1235955 | J52: ='6A'!J52*100/'7A'!$C$52 -> 2.247191 | K52: ='6A'!K52*100/'7A'!$C$52 -> 5.6179775 | ... O52: ='6A'!O52*100/'7A'!$C$52 -> 1.1235955
A53: 47 | B53: Xã Phước Thái | C53: ='6A'!C53 -> 0
A54: 48 | B54: Xã Sông Ray | C54: ='6A'!C54 -> 85 | D54: ='6A'!D54*100/'7A'!$C$54 -> 64.705882 | E54: ='6A'!E54*100/'7A'!$C$54 -> 51.764706 | F54: ='6A'!F54*100/'7A'!$C$54 -> 5.8823529 | G54: ='6A'!G54*100/'7A'!$C$54 -> 8.2352941 | H54: ='6A'!H54*100/'7A'!$C$54 -> 9.4117647 | I54: ='6A'!I54*100/'7A'!$C$54 -> 0 | J54: ='6A'!J54*100/'7A'!$C$54 -> 7.0588235 | K54: ='6A'!K54*100/'7A'!$C$54 -> 9.4117647 | ... O54: ='6A'!O54*100/'7A'!$C$54 -> 3.5294118
A55: 49 | B55: Xã Tà Lài | C55: ='6A'!C55 -> 0
A56: 50 | B56: Xã Tân An | C56: ='6A'!C56 -> 0
A57: 51 | B57: Xã Tân Hưng | C57: ='6A'!C57 -> 25 | D57: ='6A'!D57*100/'7A'!$C$57 -> 44 | E57: ='6A'!E57*100/'7A'!$C$57 -> 40 | F57: ='6A'!F57*100/'7A'!$C$57 -> 0 | G57: ='6A'!G57*100/'7A'!$C$57 -> 0 | H57: ='6A'!H57*100/'7A'!$C$57 -> 16 | I57: ='6A'!I57*100/'7A'!$C$57 -> 4 | J57: ='6A'!J57*100/'7A'!$C$57 -> 0 | K57: ='6A'!K57*100/'7A'!$C$57 -> 0 | ... O57: ='6A'!O57*100/'7A'!$C$57 -> 0
A58: 52 | B58: Xã Tân Khai | C58: ='6A'!C58 -> 12 | D58: ='6A'!D58*100/'7A'!$C$58 -> 66.666667 | E58: ='6A'!E58*100/'7A'!$C$58 -> 58.333333 | F58: ='6A'!F58*100/'7A'!$C$58 -> 0 | G58: ='6A'!G58*100/'7A'!$C$58 -> 0 | H58: ='6A'!H58*100/'7A'!$C$58 -> 83.333333 | I58: ='6A'!I58*100/'7A'!$C$58 -> 0 | J58: ='6A'!J58*100/'7A'!$C$58 -> 83.333333 | K58: ='6A'!K58*100/'7A'!$C$58 -> 75 | ... O58: ='6A'!O58*100/'7A'!$C$58 -> 58.333333
A59: 53 | B59: Xã Tân Lợi | C59: ='6A'!C59 -> 10 | D59: ='6A'!D59*100/'7A'!$C$59 -> 90 | E59: ='6A'!E59*100/'7A'!$C$59 -> 30 | F59: ='6A'!F59*100/'7A'!$C$59 -> 0 | G59: ='6A'!G59*100/'7A'!$C$59 -> 0 | H59: ='6A'!H59*100/'7A'!$C$59 -> 10 | I59: ='6A'!I59*100/'7A'!$C$59 -> 20 | J59: ='6A'!J59*100/'7A'!$C$59 -> 10 | K59: ='6A'!K59*100/'7A'!$C$59 -> 0 | ... O59: ='6A'!O59*100/'7A'!$C$59 -> 30
A60: 54 | B60: Xã Tân Phú | C60: ='6A'!C60 -> 0
A61: 55 | B61: Xã Tân Quan | C61: ='6A'!C61 -> 29 | D61: ='6A'!D61*100/'7A'!$C$61 -> 0 | E61: ='6A'!E61*100/'7A'!$C$61 -> 100 | F61: ='6A'!F61*100/'7A'!$C$61 -> 0 | G61: ='6A'!G61*100/'7A'!$C$61 -> 0 | H61: ='6A'!H61*100/'7A'!$C$61 -> 0 | I61: ='6A'!I61*100/'7A'!$C$61 -> 0 | J61: ='6A'!J61*100/'7A'!$C$61 -> 0 | K61: ='6A'!K61*100/'7A'!$C$61 -> 0 | ... O61: ='6A'!O61*100/'7A'!$C$61 -> 3.4482759
A62: 56 | B62: Xã Tân Tiến | C62: ='6A'!C62 -> 59 | D62: ='6A'!D62*100/'7A'!$C$62 -> 0 | E62: ='6A'!E62*100/'7A'!$C$62 -> 100 | F62: ='6A'!F62*100/'7A'!$C$62 -> 0 | G62: ='6A'!G62*100/'7A'!$C$62 -> 100 | H62: ='6A'!H62*100/'7A'!$C$62 -> 0 | I62: ='6A'!I62*100/'7A'!$C$62 -> 0 | J62: ='6A'!J62*100/'7A'!$C$62 -> 0 | K62: ='6A'!K62*100/'7A'!$C$62 -> 0 | ... O62: ='6A'!O62*100/'7A'!$C$62 -> 0
A63: 57 | B63: Xã Thanh Sơn | C63: ='6A'!C63 -> 0
A64: 58 | B64: Xã Thiện Hưng | C64: ='6A'!C64 -> 64 | D64: ='6A'!D64*100/'7A'!$C$64 -> 100 | E64: ='6A'!E64*100/'7A'!$C$64 -> 43.75 | F64: ='6A'!F64*100/'7A'!$C$64 -> 0 | G64: ='6A'!G64*100/'7A'!$C$64 -> 0 | H64: ='6A'!H64*100/'7A'!$C$64 -> 3.125 | I64: ='6A'!I64*100/'7A'!$C$64 -> 1.5625 | J64: ='6A'!J64*100/'7A'!$C$64 -> 14.0625 | K64: ='6A'!K64*100/'7A'!$C$64 -> 0 | ... O64: ='6A'!O64*100/'7A'!$C$64 -> 0
A65: 59 | B65: Xã Thọ Sơn | C65: ='6A'!C65 -> 81 | D65: ='6A'!D65*100/'7A'!$C$65 -> 100 | E65: ='6A'!E65*100/'7A'!$C$65 -> 100 | F65: ='6A'!F65*100/'7A'!$C$65 -> 100 | G65: ='6A'!G65*100/'7A'!$C$65 -> 0 | H65: ='6A'!H65*100/'7A'!$C$65 -> 0 | I65: ='6A'!I65*100/'7A'!$C$65 -> 100 | J65: ='6A'!J65*100/'7A'!$C$65 -> 0 | K65: ='6A'!K65*100/'7A'!$C$65 -> 100 | ... O65: ='6A'!O65*100/'7A'!$C$65 -> 0
A66: 60 | B66: Xã Thống Nhất | C66: ='6A'!C66 -> 0
A67: 61 | B67: Xã Thuận Lợi | C67: ='6A'!C67 -> 1 | D67: ='6A'!D67*100/'7A'!$C$67 -> 100 | E67: ='6A'!E67*100/'7A'!$C$67 -> 100 | F67: ='6A'!F67*100/'7A'!$C$67 -> 0 | G67: ='6A'!G67*100/'7A'!$C$67 -> 0 | H67: ='6A'!H67*100/'7A'!$C$67 -> 0 | I67: ='6A'!I67*100/'7A'!$C$67 -> 0 | J67: ='6A'!J67*100/'7A'!$C$67 -> 100 | K67: ='6A'!K67*100/'7A'!$C$67 -> 0 | ... O67: ='6A'!O67*100/'7A'!$C$67 -> 0
A68: 62 | B68: Xã Trảng Bom | C68: ='6A'!C68 -> 0
A69: 63 | B69: Xã Trị An | C69: ='6A'!C69 -> 0
A70: 64 | B70: Xã Xuân Bắc | C70: ='6A'!C70 -> 0
A71: 65 | B71: Xã Xuân Định | C71: ='6A'!C71 -> 1 | D71: ='6A'!D71*100/'7A'!$C$71 -> 100 | E71: ='6A'!E71*100/'7A'!$C$71 -> 0 | F71: ='6A'!F71*100/'7A'!$C$71 -> 100 | G71: ='6A'!G71*100/'7A'!$C$71 -> 0 | H71: ='6A'!H71*100/'7A'!$C$71 -> 0 | I71: ='6A'!I71*100/'7A'!$C$71 -> 0 | J71: ='6A'!J71*100/'7A'!$C$71 -> 0 | K71: ='6A'!K71*100/'7A'!$C$71 -> 0 | ... O71: ='6A'!O71*100/'7A'!$C$71 -> 0
A72: 66 | B72: Xã Xuân Đông | C72: ='6A'!C72 -> 29 | D72: ='6A'!D72*100/'7A'!$C$72 -> 79.310345 | E72: ='6A'!E72*100/'7A'!$C$72 -> 17.241379 | F72: ='6A'!F72*100/'7A'!$C$72 -> 0 | G72: ='6A'!G72*100/'7A'!$C$72 -> 0 | H72: ='6A'!H72*100/'7A'!$C$72 -> 0 | I72: ='6A'!I72*100/'7A'!$C$72 -> 0 | J72: ='6A'!J72*100/'7A'!$C$72 -> 0 | K72: ='6A'!K72*100/'7A'!$C$72 -> 0 | ... O72: ='6A'!O72*100/'7A'!$C$72 -> 6.8965517
A73: 67 | B73: Xã Xuân Đường | C73: ='6A'!C73 -> 0
A74: 68 | B74: Xã Xuân Hòa | C74: ='6A'!C74 -> 0
A75: 69 | B75: Xã Xuân Lộc | C75: ='6A'!C75 -> 0
A76: 70 | B76: Xã Xuân Phú | C76: ='6A'!C76 -> 0
A77: 71 | B77: Xã Xuân Quế | C77: ='6A'!C77 -> 33 | D77: ='6A'!D77*100/'7A'!$C$77 -> 0 | E77: ='6A'!E77*100/'7A'!$C$77 -> 100 | F77: ='6A'!F77*100/'7A'!$C$77 -> 0 | G77: ='6A'!G77*100/'7A'!$C$77 -> 87.878788 | H77: ='6A'!H77*100/'7A'!$C$77 -> 0 | I77: ='6A'!I77*100/'7A'!$C$77 -> 0 | J77: ='6A'!J77*100/'7A'!$C$77 -> 0 | K77: ='6A'!K77*100/'7A'!$C$77 -> 0 | ... O77: ='6A'!O77*100/'7A'!$C$77 -> 0
A78: 72 | B78: Xã Xuân Thành | C78: ='6A'!C78 -> 0
A79: II | B79: KV THÀNH THỊ | C79: ='6A'!C79 -> 132 | D79: ='6A'!D79*100/'7A'!$C$79 -> 57.575758 | E79: ='6A'!E79*100/'7A'!$C$79 -> 24.242424 | F79: ='6A'!F79*100/'7A'!$C$79 -> 0 | G79: ='6A'!G79*100/'7A'!$C$79 -> 29.545455 | H79: ='6A'!H79*100/'7A'!$C$79 -> 12.121212 | I79: ='6A'!I79*100/'7A'!$C$79 -> 0.75757576 | J79: ='6A'!J79*100/'7A'!$C$79 -> 0.75757576 | K79: ='6A'!K79*100/'7A'!$C$79 -> 3.7878788 | ... O79: ='6A'!O79*100/'7A'!$C$79 -> 4.5454545
A80: 73 | B80: Phường An Lộc | C80: ='6A'!C80 -> 17 | D80: ='6A'!D80*100/'7A'!$C$80 -> 0 | E80: ='6A'!E80*100/'7A'!$C$80 -> 5.8823529 | F80: ='6A'!F80*100/'7A'!$C$80 -> 0 | G80: ='6A'!G80*100/'7A'!$C$80 -> 0 | H80: ='6A'!H80*100/'7A'!$C$80 -> 94.117647 | I80: ='6A'!I80*100/'7A'!$C$80 -> 0 | J80: ='6A'!J80*100/'7A'!$C$80 -> 0 | K80: ='6A'!K80*100/'7A'!$C$80 -> 0 | ... O80: ='6A'!O80*100/'7A'!$C$80 -> 0
A81: 74 | B81: Phường Bảo Vinh | C81: ='6A'!C81 -> 0
A82: 75 | B82: Phường Biên Hòa | C82: ='6A'!C82 -> 0
A83: 76 | B83: Phường Bình Long | C83: ='6A'!C83 -> 32 | D83: ='6A'!D83*100/'7A'!$C$83 -> 68.75 | E83: ='6A'!E83*100/'7A'!$C$83 -> 18.75 | F83: ='6A'!F83*100/'7A'!$C$83 -> 0 | G83: ='6A'!G83*100/'7A'!$C$83 -> 0 | H83: ='6A'!H83*100/'7A'!$C$83 -> 0 | I83: ='6A'!I83*100/'7A'!$C$83 -> 0 | J83: ='6A'!J83*100/'7A'!$C$83 -> 0 | K83: ='6A'!K83*100/'7A'!$C$83 -> 12.5 | ... O83: ='6A'!O83*100/'7A'!$C$83 -> 0
A84: 77 | B84: Phường Bình Lộc | C84: ='6A'!C84 -> 4 | D84: ='6A'!D84*100/'7A'!$C$84 -> 0 | E84: ='6A'!E84*100/'7A'!$C$84 -> 0 | F84: ='6A'!F84*100/'7A'!$C$84 -> 0 | G84: ='6A'!G84*100/'7A'!$C$84 -> 100 | H84: ='6A'!H84*100/'7A'!$C$84 -> 0 | I84: ='6A'!I84*100/'7A'!$C$84 -> 0 | J84: ='6A'!J84*100/'7A'!$C$84 -> 0 | K84: ='6A'!K84*100/'7A'!$C$84 -> 0 | ... O84: ='6A'!O84*100/'7A'!$C$84 -> 0
A85: 78 | B85: Phường Bình Phước | C85: ='6A'!C85 -> 0
A86: 79 | B86: Phường Chơn Thành | C86: ='6A'!C86 -> 34 | D86: ='6A'!D86*100/'7A'!$C$86 -> 88.235294 | E86: ='6A'!E86*100/'7A'!$C$86 -> 11.764706 | F86: ='6A'!F86*100/'7A'!$C$86 -> 0 | G86: ='6A'!G86*100/'7A'!$C$86 -> 0 | H86: ='6A'!H86*100/'7A'!$C$86 -> 0 | I86: ='6A'!I86*100/'7A'!$C$86 -> 0 | J86: ='6A'!J86*100/'7A'!$C$86 -> 0 | K86: ='6A'!K86*100/'7A'!$C$86 -> 0 | ... O86: ='6A'!O86*100/'7A'!$C$86 -> 0
A87: 80 | B87: Phường Đồng Xoài | C87: ='6A'!C87 -> 0
A88: 81 | B88: Phường Hàng Gòn | C88: ='6A'!C88 -> 0
A89: 82 | B89: Phường Hố Nai | C89: ='6A'!C89 -> 0
A90: 83 | B90: Phường Long Bình | C90: ='6A'!C90 -> 0
A91: 84 | B91: Phường Long Hưng | C91: ='6A'!C91 -> 0
A92: 85 | B92: Phường Long Khánh | C92: ='6A'!C92 -> 3 | D92: ='6A'!D92*100/'7A'!$C$92 -> 0 | E92: ='6A'!E92*100/'7A'!$C$92 -> 100 | F92: ='6A'!F92*100/'7A'!$C$92 -> 0 | G92: ='6A'!G92*100/'7A'!$C$92 -> 0 | H92: ='6A'!H92*100/'7A'!$C$92 -> 0 | I92: ='6A'!I92*100/'7A'!$C$92 -> 33.333333 | J92: ='6A'!J92*100/'7A'!$C$92 -> 0 | K92: ='6A'!K92*100/'7A'!$C$92 -> 0 | ... O92: ='6A'!O92*100/'7A'!$C$92 -> 100
A93: 86 | B93: Phường Minh Hưng | C93: ='6A'!C93 -> 25 | D93: ='6A'!D93*100/'7A'!$C$93 -> 60 | E93: ='6A'!E93*100/'7A'!$C$93 -> 40 | F93: ='6A'!F93*100/'7A'!$C$93 -> 0 | G93: ='6A'!G93*100/'7A'!$C$93 -> 100 | H93: ='6A'!H93*100/'7A'!$C$93 -> 0 | I93: ='6A'!I93*100/'7A'!$C$93 -> 0 | J93: ='6A'!J93*100/'7A'!$C$93 -> 0 | K93: ='6A'!K93*100/'7A'!$C$93 -> 0 | ... O93: ='6A'!O93*100/'7A'!$C$93 -> 0
A94: 87 | B94: Phường Phước Bình | C94: ='6A'!C94 -> 2 | D94: ='6A'!D94*100/'7A'!$C$94 -> 100 | E94: ='6A'!E94*100/'7A'!$C$94 -> 100 | F94: ='6A'!F94*100/'7A'!$C$94 -> 0 | G94: ='6A'!G94*100/'7A'!$C$94 -> 0 | H94: ='6A'!H94*100/'7A'!$C$94 -> 0 | I94: ='6A'!I94*100/'7A'!$C$94 -> 0 | J94: ='6A'!J94*100/'7A'!$C$94 -> 0 | K94: ='6A'!K94*100/'7A'!$C$94 -> 0 | ... O94: ='6A'!O94*100/'7A'!$C$94 -> 0
A95: 88 | B95: Phường Phước Long | C95: ='6A'!C95 -> 13 | D95: ='6A'!D95*100/'7A'!$C$95 -> 38.461538 | E95: ='6A'!E95*100/'7A'!$C$95 -> 46.153846 | F95: ='6A'!F95*100/'7A'!$C$95 -> 0 | G95: ='6A'!G95*100/'7A'!$C$95 -> 76.923077 | H95: ='6A'!H95*100/'7A'!$C$95 -> 0 | I95: ='6A'!I95*100/'7A'!$C$95 -> 0 | J95: ='6A'!J95*100/'7A'!$C$95 -> 7.6923077 | K95: ='6A'!K95*100/'7A'!$C$95 -> 7.6923077 | ... O95: ='6A'!O95*100/'7A'!$C$95 -> 7.6923077
A96: 89 | B96: Phường Phước Tân | C96: ='6A'!C96 -> 0
A97: 90 | B97: Phường Tam Hiệp | C97: ='6A'!C97 -> 0
A98: 91 | B98: Phường Tam Phước | C98: ='6A'!C98 -> 0
A99: 92 | B99: Phường Tân Triều | C99: ='6A'!C99 -> 0
A100: 93 | B100: Phường Trảng Dài | C100: ='6A'!C100 -> 0
A101: 94 | B101: Phường Trấn Biên | C101: ='6A'!C101 -> 0
...

Sheet 7B
A1: PHỤ LỤC 7B
A2: PHÂN TÍCH TỶ LỆ CÁC CHỈ SỐ THIẾU HỤT DỊCH VỤ XÃ HỘI CƠ BẢN CỦA HỘ CẬN NGHÈO CHUẨN TỈNH NĂM 2025 (không tính hộ nghèo chuẩn TW)
