Workbook

Sheet Kangatang

Sheet 1A
A1: PHỤ LỤC 1A
A2: TỔNG HỢP KẾT QUẢ RÀ SOÁT HỘ NGHÈO, HỘ CẬN NGHÈO THEO CHUẨN TRUNG ƯƠNG NĂM 2025
A4: TT | B4: Khu vực/Địa bàn | C4: Tổng số hộ dân cư | E4: Kết quả rà soát
E5: Tổng số hộ nghèo | G5: Tổng số hộ cận nghèo
C6: Số hộ | D6: Nhân khẩu | E6: Số hộ | F6: Tỷ lệ | G6: Số hộ | H6: Tỷ lệ
A7: A | B7: B | C7: 1 | D7: 2 | E7: 3 | F7: 4 | G7: 5 | H7: 6
A8: I | B8: KV NÔNG THÔN | C8: =SUM(C9:C80) -> 759333 | D8: =SUM(D9:D80) -> 3012965 | E8: =SUM(E9:E80) -> 2714 | F8: =E8*100/C8 -> 0.35741895 | G8: =SUM(G9:G80) -> 1906 | H8: =G8*100/C8 -> 0.25100977
A9: =ROW()-8 -> 1 | B9: Xã An Phước | C9: 27355 | D9: 65776 | E9: 27 | F9: =E9*100/C9 -> 0.098702248 | G9: 0 | H9: =G9*100/C9 -> 0
A10: =ROW()-8 -> 2 | B10: Xã An Viễn | C10: 8543 | D10: 27129 | E10: 9 | F10: =E10*100/C10 -> 0.10534941 | G10: 2 | H10: =G10*100/C10 -> 0.02341098
A11: =ROW()-8 -> 3 | B11: Xã Bàu Hàm | C11: 11470 | D11: 47829 | E11: 98 | F11: =E11*100/C11 -> 0.85440279 | G11: 0 | H11: =G11*100/C11 -> 0
A12: =ROW()-8 -> 4 | B12: Xã Bình An | C12: 8283 | D12: 26383 | E12: 12 | F12: =E12*100/C12 -> 0.14487505 | G12: 0 | H12: =G12*100/C12 -> 0
A13: =ROW()-8 -> 5 | B13: Xã Bình Minh | C13: 27214 | D13: 86190 | E13: 21 | F13: =E13*100/C13 -> 0.077166164 | G13: 4 | H13: =G13*100/C13 -> 0.014698317
A14: =ROW()-8 -> 6 | B14: Xã Bình Tân | C14: 7280 | D14: 28745 | E14: 0 | F14: =E14*100/C14 -> 0 | G14: 173 | H14: =G14*100/C14 -> 2.3763736
A15: =ROW()-8 -> 7 | B15: Xã Bom Bo | C15: 6605 | D15: 27547 | E15: 3 | F15: =E15*100/C15 -> 0.045420136 | G15: 17 | H15: =G15*100/C15 -> 0.25738077
A16: =ROW()-8 -> 8 | B16: Xã Bù Đăng | C16: 8022 | D16: 34357 | E16: 2 | F16: =E16*100/C16 -> 0.024931439 | G16: 82 | H16: =G16*100/C16 -> 1.022189
A17: =ROW()-8 -> 9 | B17: Xã Bù Gia Mập | C17: 2059 | D17: 8559 | E17: 200 | F17: =E17*100/C17 -> 9.7134531 | G17: 210 | H17: =G17*100/C17 -> 10.199126
A18: =ROW()-8 -> 10 | B18: Xã Cẩm Mỹ | C18: 10146 | D18: 46111 | E18: 22 | F18: =E18*100/C18 -> 0.21683422 | G18: 31 | H18: =G18*100/C18 -> 0.30553913
A19: =ROW()-8 -> 11 | B19: Xã Dầu Giây | C19: 16378 | D19: 72012 | E19: 124 | F19: =E19*100/C19 -> 0.7571132 | G19: 0 | H19: =G19*100/C19 -> 0
A20: =ROW()-8 -> 12 | B20: Xã Đa Kia | C20: 8348 | D20: 32167 | E20: 22 | F20: =E20*100/C20 -> 0.26353618 | G20: 171 | H20: =G20*100/C20 -> 2.0483948
... A32: =ROW()-8 -> 24 | B32: Xã Long Hà | C32: 7028 | D32: 28107 | E32: 0 | F32: =E32*100/C32 -> 0 | G32: 47 | H32: =G32*100/C32 -> 0.66875356
A33: =ROW()-8 -> 25 | B33: Xã Long Phước | C33: 11523 | D33: 43792 | E33: 27 | F33: =E33*100/C33 -> 0.23431398 | H33: =G33*100/C33 -> 0
A34: =ROW()-8 -> 26 | B34: Xã Long Thành | C34: 28730 | D34: 96026 | E34: 69 | F34: =E34*100/C34 -> 0.24016707 | G34: 27 | H34: =G34*100/C34 -> 0.09397842
A35: =ROW()-8 -> 27 | B35: Xã Lộc Hưng | C35: 6792 | D35: 26933 | E35: 0 | F35: =E35*100/C35 -> 0 | G35: 5 | H35: =G35*100/C35 -> 0.073616019
A36: =ROW()-8 -> 28 | B36: Xã Lộc Ninh | C36: 8255 | D36: 32299 | E36: 0 | F36: =E36*100/C36 -> 0 | G36: 14 | H36: =G36*100/C36 -> 0.16959419
A37: =ROW()-8 -> 29 | B37: Xã Lộc Quang | C37: 6936 | D37: 26694 | E37: 35 | F37: =E37*100/C37 -> 0.50461361 | G37: 161 | H37: =G37*100/C37 -> 2.3212226
A38: =ROW()-8 -> 30 | B38: Xã Lộc Tấn | C38: 5861 | D38: 23995 | E38: 176 | F38: =E38*100/C38 -> 3.0029005 | G38: 10 | H38: =G38*100/C38 -> 0.17061935
A39: =ROW()-8 -> 31 | B39: Xã Lộc Thành | C39: 3941 | D39: 15539 | E39: 50 | F39: =E39*100/C39 -> 1.2687135 | G39: 28 | H39: =G39*100/C39 -> 0.71047957
A40: =ROW()-8 -> 32 | B40: Xã Lộc Thạnh | C40: 2515 | D40: 10541 | E40: 56 | F40: =E40*100/C40 -> 2.2266402 | G40: 10 | H40: =G40*100/C40 -> 0.39761431
A41: =ROW()-8 -> 33 | B41: Xã Minh Đức | C41: 4210 | D41: 17327 | E41: 5 | F41: =E41*100/C41 -> 0.11876485 | G41: 6 | H41: =G41*100/C41 -> 0.14251781
A42: =ROW()-8 -> 34 | B42: Xã Nam Cát Tiên | C42: 3666 | D42: 16192 | E42: 108 | F42: =E42*100/C42 -> 2.9459902 | G42: 0 | H42: =G42*100/C42 -> 0
A43: =ROW()-8 -> 35 | B43: Xã Nghĩa Trung | C43: 8263 | D43: 34554 | E43: 9 | F43: =E43*100/C43 -> 0.10891928 | G43: 17 | H43: =G43*100/C43 -> 0.20573642
A44: =ROW()-8 -> 36 | B44: Xã Nha Bích | C44: 7560 | D44: 23919 | E44: 0 | F44: =E44*100/C44 -> 0 | G44: 21 | H44: =G44*100/C44 -> 0.27777778
A45: =ROW()-8 -> 37 | B45: Xã Nhơn Trạch | C45: 47541 | D45: 159408 | E45: 118 | F45: =E45*100/C45 -> 0.24820681 | G45: 0 | H45: =G45*100/C45 -> 0
... A56: =ROW()-8 -> 48 | B56: Xã Sông Ray | C56: 6525 | D56: 31494 | E56: 22 | F56: =E56*100/C56 -> 0.33716475 | G56: 85 | H56: =G56*100/C56 -> 1.302682
A57: =ROW()-8 -> 49 | B57: Xã Tà Lài | C57: 7830 | D57: 34635 | F57: =E57*100/C57 -> 0 | H57: =G57*100/C57 -> 0
A58: =ROW()-8 -> 50 | B58: Xã Tân An | C58: 9103 | D58: 41102 | E58: 6 | F58: =E58*100/C58 -> 0.065912337 | G58: 0 | H58: =G58*100/C58 -> 0
A59: =ROW()-8 -> 51 | B59: Xã Tân Hưng | C59: 8133 | D59: 35875 | E59: 0 | F59: =E59*100/C59 -> 0 | G59: 25 | H59: =G59*100/C59 -> 0.30738965
A60: =ROW()-8 -> 52 | B60: Xã Tân Khai | C60: 10700 | D60: 37409 | E60: 0 | F60: =E60*100/C60 -> 0 | G60: 12 | H60: =G60*100/C60 -> 0.11214953
A61: =ROW()-8 -> 53 | B61: Xã Tân Lợi | C61: 3755 | D61: 14666 | E61: 1 | F61: =E61*100/C61 -> 0.026631158 | G61: 10 | H61: =G61*100/C61 -> 0.26631158
A62: =ROW()-8 -> 54 | B62: Xã Tân Phú | C62: 16765 | D62: 77159 | E62: 0 | F62: =E62*100/C62 -> 0 | G62: 0 | H62: =G62*100/C62 -> 0
...

Sheet 1B
A1: PHỤ LỤC 1B
A2: TỔNG HỢP KẾT QUẢ RÀ SOÁT HỘ NGHÈO, HỘ CẬN NGHÈO THEO CHUẨN TỈNH NĂM 2025 (không tính hộ nghèo chuẩn TW)
A4: TT | B4: Khu vực/Địa bàn | C4: Tổng số hộ dân cư | E4: Kết quả rà soát
E5: Tổng số hộ nghèo | G5: Tổng số hộ cận nghèo
C6: Số hộ | D6: Nhân khẩu | E6: Số hộ | F6: Tỷ lệ | G6: Số hộ | H6: Tỷ lệ
C7: 1 | D7: 2 | E7: 3 | F7: 4 | G7: 5 | H7: 6
A8: I | B8: KV NÔNG THÔN | C8: ='1A'!C8 -> 759333 | D8: ='1A'!D8 -> 3012965 | E8: =SUM(E9:E80) -> 1023 | F8: =E8*100/C8 -> 0.1347235 | G8: =SUM(G9:G80) -> 4528 | H8: =G8*100/C8 -> 0.59631282
A9: =ROW()-12 -> -3 | B9: Xã An Phước | C9: ='1A'!C9 -> 27355 | D9: ='1A'!D9 -> 65776 | E9: 18 | F9: =E9*100/C9 -> 0.065801499 | G9: 13 | H9: =G9*100/C9 -> 0.047523305
A10: =ROW()-12 -> -2 | B10: Xã An Viễn | C10: ='1A'!C10 -> 8543 | D10: ='1A'!D10 -> 27129 | E10: 7 | F10: =E10*100/C10 -> 0.081938429 | G10: 83 | H10: =G10*100/C10 -> 0.97155566
A11: =ROW()-12 -> -1 | B11: Xã Bàu Hàm | C11: ='1A'!C11 -> 11470 | D11: ='1A'!D11 -> 47829 | E11: 11 | F11: =E11*100/C11 -> 0.095902354 | G11: 111 | H11: =G11*100/C11 -> 0.96774194
A12: =ROW()-12 -> 0 | B12: Xã Bình An | C12: ='1A'!C12 -> 8283 | D12: ='1A'!D12 -> 26383 | E12: 9 | F12: =E12*100/C12 -> 0.10865628 | G12: 13 | H12: =G12*100/C12 -> 0.15694797
A13: =ROW()-12 -> 1 | B13: Xã Bình Minh | C13: ='1A'!C13 -> 27214 | D13: ='1A'!D13 -> 86190 | E13: 22 | F13: =E13*100/C13 -> 0.080840744 | G13: 114 | H13: =G13*100/C13 -> 0.41890204
A14: =ROW()-12 -> 2 | B14: Xã Bình Tân | C14: ='1A'!C14 -> 7280 | D14: ='1A'!D14 -> 28745 | F14: =E14*100/C14 -> 0 | H14: =G14*100/C14 -> 0
A15: =ROW()-12 -> 3 | B15: Xã Bom Bo | C15: ='1A'!C15 -> 6605 | D15: ='1A'!D15 -> 27547 | F15: =E15*100/C15 -> 0 | H15: =G15*100/C15 -> 0
A16: =ROW()-12 -> 4 | B16: Xã Bù Đăng | C16: ='1A'!C16 -> 8022 | D16: ='1A'!D16 -> 34357 | F16: =E16*100/C16 -> 0 | H16: =G16*100/C16 -> 0
A17: =ROW()-12 -> 5 | B17: Xã Bù Gia Mập | C17: ='1A'!C17 -> 2059 | D17: ='1A'!D17 -> 8559 | F17: =E17*100/C17 -> 0 | H17: =G17*100/C17 -> 0
A18: =ROW()-12 -> 6 | B18: Xã Cẩm Mỹ | C18: ='1A'!C18 -> 10146 | D18: ='1A'!D18 -> 46111 | E18: 0 | F18: =E18*100/C18 -> 0 | G18: 139 | H18: =G18*100/C18 -> 1.369998
A19: =ROW()-12 -> 7 | B19: Xã Dầu Giây | C19: ='1A'!C19 -> 16378 | D19: ='1A'!D19 -> 72012 | E19: 26 | F19: =E19*100/C19 -> 0.15874954 | G19: 170 | H19: =G19*100/C19 -> 1.0379778
A20: =ROW()-12 -> 8 | B20: Xã Đa Kia | C20: ='1A'!C20 -> 8348 | D20: ='1A'!D20 -> 32167 | F20: =E20*100/C20 -> 0 | H20: =G20*100/C20 -> 0
A21: =ROW()-12 -> 9 | B21: Xã Đại Phước | C21: ='1A'!C21 -> 17318 | D21: ='1A'!D21 -> 61940 | E21: 45 | F21: =E21*100/C21 -> 0.25984525 | G21: 34 | H21: =G21*100/C21 -> 0.19632752
A22: =ROW()-12 -> 10 | B22: Xã Đak Lua | C22: ='1A'!C22 -> 1822 | D22: ='1A'!D22 -> 8314 | E22: 3 | F22: =E22*100/C22 -> 0.16465423 | G22: 95 | H22: =G22*100/C22 -> 5.2140505
A23: =ROW()-12 -> 11 | B23: Xã Đak Nhau | C23: ='1A'!C23 -> 5966 | D23: ='1A'!D23 -> 24525 | F23: =E23*100/C23 -> 0 | H23: =G23*100/C23 -> 0
A24: =ROW()-12 -> 12 | B24: Xã Đăk Ơ | C24: ='1A'!C24 -> 4869 | D24: ='1A'!D24 -> 19722 | F24: =E24*100/C24 -> 0 | H24: =G24*100/C24 -> 0
A25: =ROW()-12 -> 13 | B25: Xã Định Quán | C25: ='1A'!C25 -> 19860 | D25: ='1A'!D25 -> 86581 | E25: 4 | F25: =E25*100/C25 -> 0.020140987 | G25: 138 | H25: =G25*100/C25 -> 0.69486405
A26: =ROW()-12 -> 14 | B26: Xã Đồng Phú | C26: ='1A'!C26 -> 17550 | D26: ='1A'!D26 -> 49341 | E26: 0 | F26: =E26*100/C26 -> 0 | G26: 0 | H26: =G26*100/C26 -> 0
A27: =ROW()-12 -> 15 | B27: Xã Đồng Tâm | C27: ='1A'!C27 -> 10071 | D27: ='1A'!D27 -> 36227 | E27: 0 | F27: =E27*100/C27 -> 0 | G27: 0 | H27: =G27*100/C27 -> 0
A28: =ROW()-12 -> 16 | B28: Xã Gia Kiệm | C28: ='1A'!C28 -> 18661 | D28: ='1A'!D28 -> 80086 | E28: 14 | F28: =E28*100/C28 -> 0.075022775 | G28: 184 | H28: =G28*100/C28 -> 0.98601361
A29: =ROW()-12 -> 17 | B29: Xã Hưng Phước | C29: ='1A'!C29 -> 3559 | D29: ='1A'!D29 -> 13230 | F29: =E29*100/C29 -> 0 | H29: =G29*100/C29 -> 0
A30: =ROW()-12 -> 18 | B30: Xã Hưng Thịnh | C30: ='1A'!C30 -> 13526 | D30: ='1A'!D30 -> 60910 | E30: 12 | F30: =E30*100/C30 -> 0.088718025 | G30: 162 | H30: =G30*100/C30 -> 1.1976933
A31: =ROW()-12 -> 19 | B31: Xã La Ngà | C31: ='1A'!C31 -> 7537 | D31: ='1A'!D31 -> 26918 | E31: 6 | F31: =E31*100/C31 -> 0.079607271 | G31: 84 | H31: =G31*100/C31 -> 1.1145018
A32: =ROW()-12 -> 20 | B32: Xã Long Hà | C32: ='1A'!C32 -> 7028 | D32: ='1A'!D32 -> 28107 | F32: =E32*100/C32 -> 0 | H32: =G32*100/C32 -> 0
A33: =ROW()-12 -> 21 | B33: Xã Long Phước | C33: ='1A'!C33 -> 11523 | D33: ='1A'!D33 -> 43792 | E33: 6 | F33: =E33*100/C33 -> 0.052069773 | G33: 24 | H33: =G33*100/C33 -> 0.20827909
A34: =ROW()-12 -> 22 | B34: Xã Long Thành | C34: ='1A'!C34 -> 28730 | D34: ='1A'!D34 -> 96026 | E34: 9 | F34: =E34*100/C34 -> 0.03132614 | G34: 12 | H34: =G34*100/C34 -> 0.041768187
A35: =ROW()-12 -> 23 | B35: Xã Lộc Hưng | C35: ='1A'!C35 -> 6792 | D35: ='1A'!D35 -> 26933 | F35: =E35*100/C35 -> 0 | H35: =G35*100/C35 -> 0
A36: =ROW()-12 -> 24 | B36: Xã Lộc Ninh | C36: ='1A'!C36 -> 8255 | D36: ='1A'!D36 -> 32299 | F36: =E36*100/C36 -> 0 | H36: =G36*100/C36 -> 0
A37: =ROW()-12 -> 25 | B37: Xã Lộc Quang | C37: ='1A'!C37 -> 6936 | D37: ='1A'!D37 -> 26694 | E37: 0 | F37: =E37*100/C37 -> 0 | G37: 0 | H37: =G37*100/C37 -> 0
A38: =ROW()-12 -> 26 | B38: Xã Lộc Tấn | C38: ='1A'!C38 -> 5861 | D38: ='1A'!D38 -> 23995 | F38: =E38*100/C38 -> 0 | H38: =G38*100/C38 -> 0
A39: =ROW()-12 -> 27 | B39: Xã Lộc Thành | C39: ='1A'!C39 -> 3941 | D39: ='1A'!D39 -> 15539 | F39: =E39*100/C39 -> 0 | H39: =G39*100/C39 -> 0
A40: =ROW()-12 -> 28 | B40: Xã Lộc Thạnh | C40: ='1A'!C40 -> 2515 | D40: ='1A'!D40 -> 10541 | F40: =E40*100/C40 -> 0 | H40: =G40*100/C40 -> 0
A41: =ROW()-12 -> 29 | B41: Xã Minh Đức | C41: ='1A'!C41 -> 4210 | D41: ='1A'!D41 -> 17327 | F41: =E41*100/C41 -> 0 | H41: =G41*100/C41 -> 0
...

Sheet 2A
A1: PHỤ LỤC 2A
A2: TỔNG HỢP DIỄN BIẾN HỘ NGHÈO CHUẨN TRUNG ƯƠNG TRONG NĂM 2025
A4: TT | B4: Khu vực/Địa bàn | C4: Phân tổ | D4: Tổng số hộ nghèo đầu năm 2025 | E4: Diễn biến giảm số hộ nghèo | H4: Diễn biến tăng số hộ nghèo | L4: Tổng số hộ nghèo cuối năm 2025
E5: Số hộ thoát nghèo | G5: Nguyên nhân: thay đổi nhân khẩu, hộ nghèo đơn thân chết đi, chuyển đi nơi khác, tách, nhập với hộ khác,… | H5: Số hộ cận nghèo trở thành hộ nghèo | I5: Số hộ ngoài danh sách hộ nghèo, hộ cận nghèo gặp khó khăn đột xuất trong năm | K5: Nguyên nhân: thay đổi nhân khẩu, chuyển đến, tách, nhập với hộ khác,...
E7: Trở thành hộ cận nghèo | F7: Vượt chuẩn cận nghèo | I7: Tái nghèo | J7: Phát sinh mới
A8: A | B8: B | C8: C | D8: 1 | E8: 2 | F8: 3 | G8: 4 | H8: 5 | I8: 6 | J8: 7 | K8: 8 | L8: 9
A9: I | B9: Khu vực nông thôn | C9: Hộ | D9: =D11+D13+D15+D17+D19+D21+D23+D25+D27+D29+D31+D33+D35+D37+D39+D41+D43+D45+D47+D49+D51+D53+D55+D57+D59+D61+D63+D65+D67+D69+D71+D73+D75+D77+D79+D81+D83+D85+D87+D89+D91+D93+D95+D97+D99+D101+D103+D105+D107+D109+D111+D113+D115+D117+D119+D121+D123+D125+D127+D129+D131+D133+D135+D137+D139+D141+D143+D145+D147+D149+D151+D153 -> 2665 | E9: =E11+E13+E15+E17+E19+E21+E23+E25+E27+E29+E31+E33+E35+E37+E39+E41+E43+E45+E47+E49+E51+E53+E55+E57+E59+E61+E63+E65+E67+E69+E71+E73+E75+E77+E79+E81+E83+E85+E87+E89+E91+E93+E95+E97+E99+E101+E103+E105+E107+E109+E111+E113+E115+E117+E119+E121+E123+E125+E127+E129+E131+E133+E135+E137+E139+E141+E143+E145+E147+E149+E151+E153 -> 111 | F9: =F11+F13+F15+F17+F19+F21+F23+F25+F27+F29+F31+F33+F35+F37+F39+F41+F43+F45+F47+F49+F51+F53+F55+F57+F59+F61+F63+F65+F67+F69+F71+F73+F75+F77+F79+F81+F83+F85+F87+F89+F91+F93+F95+F97+F99+F101+F103+F105+F107+F109+F111+F113+F115+F117+F119+F121+F123+F125+F127+F129+F131+F133+F135+F137+F139+F141+F143+F145+F147+F149+F151+F153 -> 268 | G9: =G11+G13+G15+G17+G19+G21+G23+G25+G27+G29+G31+G33+G35+G37+G39+G41+G43+G45+G47+G49+G51+G53+G55+G57+G59+G61+G63+G65+G67+G69+G71+G73+G75+G77+G79+G81+G83+G85+G87+G89+G91+G93+G95+G97+G99+G101+G103+G105+G107+G109+G111+G113+G115+G117+G119+G121+G123+G125+G127+G129+G131+G133+G135+G137+G139+G141+G143+G145+G147+G149+G151+G153 -> 335 | H9: =H11+H13+H15+H17+H19+H21+H23+H25+H27+H29+H31+H33+H35+H37+H39+H41+H43+H45+H47+H49+H51+H53+H55+H57+H59+H61+H63+H65+H67+H69+H71+H73+H75+H77+H79+H81+H83+H85+H87+H89+H91+H93+H95+H97+H99+H101+H103+H105+H107+H109+H111+H113+H115+H117+H119+H121+H123+H125+H127+H129+H131+H133+H135+H137+H139+H141+H143+H145+H147+H149+H151+H153 -> 57 | I9: =I11+I13+I15+I17+I19+I21+I23+I25+I27+I29+I31+I33+I35+I37+I39+I41+I43+I45+I47+I49+I51+I53+I55+I57+I59+I61+I63+I65+I67+I69+I71+I73+I75+I77+I79+I81+I83+I85+I87+I89+I91+I93+I95+I97+I99+I101+I103+I105+I107+I109+I111+I113+I115+I117+I119+I121+I123+I125+I127+I129+I131+I133+I135+I137+I139+I141+I143+I145+I147+I149+I151+I153 -> 13 | J9: =J11+J13+J15+J17+J19+J21+J23+J25+J27+J29+J31+J33+J35+J37+J39+J41+J43+J45+J47+J49+J51+J53+J55+J57+J59+J61+J63+J65+J67+J69+J71+J73+J75+J77+J79+J81+J83+J85+J87+J89+J91+J93+J95+J97+J99+J101+J103+J105+J107+J109+J111+J113+J115+J117+J119+J121+J123+J125+J127+J129+J131+J133+J135+J137+J139+J141+J143+J145+J147+J149+J151+J153 -> 602 | K9: =K11+K13+K15+K17+K19+K21+K23+K25+K27+K29+K31+K33+K35+K37+K39+K41+K43+K45+K47+K49+K51+K53+K55+K57+K59+K61+K63+K65+K67+K69+K71+K73+K75+K77+K79+K81+K83+K85+K87+K89+K91+K93+K95+K97+K99+K101+K103+K105+K107+K109+K111+K113+K115+K117+K119+K121+K123+K125+K127+K129+K131+K133+K135+K137+K139+K141+K143+K145+K147+K149+K151+K153 -> 91 | L9: =L11+L13+L15+L17+L19+L21+L23+L25+L27+L29+L31+L33+L35+L37+L39+L41+L43+L45+L47+L49+L51+L53+L55+L57+L59+L61+L63+L65+L67+L69+L71+L73+L75+L77+L79+L81+L83+L85+L87+L89+L91+L93+L95+L97+L99+L101+L103+L105+L107+L109+L111+L113+L115+L117+L119+L121+L123+L125+L127+L129+L131+L133+L135+L137+L139+L141+L143+L145+L147+L149+L151+L153 -> 2714
C10: Nhân khẩu | D10: =D12+D14+D16+D18+D20+D22+D24+D26+D28+D30+D32+D34+D36+D38+D40+D42+D44+D46+D48+D50+D52+D54+D56+D58+D60+D62+D64+D66+D68+D70+D72+D74+D76+D78+D80+D82+D84+D86+D88+D90+D92+D94+D96+D98+D100+D102+D104+D106+D108+D110+D112+D114+D116+D118+D120+D122+D124+D126+D128+D130+D132+D134+D136+D138+D140+D142+D144+D146+D148+D150+D152+D154 -> 4810 | E10: =E12+E14+E16+E18+E20+E22+E24+E26+E28+E30+E32+E34+E36+E38+E40+E42+E44+E46+E48+E50+E52+E54+E56+E58+E60+E62+E64+E66+E68+E70+E72+E74+E76+E78+E80+E82+E84+E86+E88+E90+E92+E94+E96+E98+E100+E102+E104+E106+E108+E110+E112+E114+E116+E118+E120+E122+E124+E126+E128+E130+E132+E134+E136+E138+E140+E142+E144+E146+E148+E150+E152+E154 -> 365 | F10: =F12+F14+F16+F18+F20+F22+F24+F26+F28+F30+F32+F34+F36+F38+F40+F42+F44+F46+F48+F50+F52+F54+F56+F58+F60+F62+F64+F66+F68+F70+F72+F74+F76+F78+F80+F82+F84+F86+F88+F90+F92+F94+F96+F98+F100+F102+F104+F106+F108+F110+F112+F114+F116+F118+F120+F122+F124+F126+F128+F130+F132+F134+F136+F138+F140+F142+F144+F146+F148+F150+F152+F154 -> 621 | G10: =G12+G14+G16+G18+G20+G22+G24+G26+G28+G30+G32+G34+G36+G38+G40+G42+G44+G46+G48+G50+G52+G54+G56+G58+G60+G62+G64+G66+G68+G70+G72+G74+G76+G78+G80+G82+G84+G86+G88+G90+G92+G94+G96+G98+G100+G102+G104+G106+G108+G110+G112+G114+G116+G118+G120+G122+G124+G126+G128+G130+G132+G134+G136+G138+G140+G142+G144+G146+G148+G150+G152+G154 -> 773 | H10: =H12+H14+H16+H18+H20+H22+H24+H26+H28+H30+H32+H34+H36+H38+H40+H42+H44+H46+H48+H50+H52+H54+H56+H58+H60+H62+H64+H66+H68+H70+H72+H74+H76+H78+H80+H82+H84+H86+H88+H90+H92+H94+H96+H98+H100+H102+H104+H106+H108+H110+H112+H114+H116+H118+H120+H122+H124+H126+H128+H130+H132+H134+H136+H138+H140+H142+H144+H146+H148+H150+H152+H154 -> 135 | I10: =I12+I14+I16+I18+I20+I22+I24+I26+I28+I30+I32+I34+I36+I38+I40+I42+I44+I46+I48+I50+I52+I54+I56+I58+I60+I62+I64+I66+I68+I70+I72+I74+I76+I78+I80+I82+I84+I86+I88+I90+I92+I94+I96+I98+I100+I102+I104+I106+I108+I110+I112+I114+I116+I118+I120+I122+I124+I126+I128+I130+I132+I134+I136+I138+I140+I142+I144+I146+I148+I150+I152+I154 -> 38 | J10: =J12+J14+J16+J18+J20+J22+J24+J26+J28+J30+J32+J34+J36+J38+J40+J42+J44+J46+J48+J50+J52+J54+J56+J58+J60+J62+J64+J66+J68+J70+J72+J74+J76+J78+J80+J82+J84+J86+J88+J90+J92+J94+J96+J98+J100+J102+J104+J106+J108+J110+J112+J114+J116+J118+J120+J122+J124+J126+J128+J130+J132+J134+J136+J138+J140+J142+J144+J146+J148+J150+J152+J154 -> 1959 | K10: =K12+K14+K16+K18+K20+K22+K24+K26+K28+K30+K32+K34+K36+K38+K40+K42+K44+K46+K48+K50+K52+K54+K56+K58+K60+K62+K64+K66+K68+K70+K72+K74+K76+K78+K80+K82+K84+K86+K88+K90+K92+K94+K96+K98+K100+K102+K104+K106+K108+K110+K112+K114+K116+K118+K120+K122+K124+K126+K128+K130+K132+K134+K136+K138+K140+K142+K144+K146+K148+K150+K152+K154 -> 187 | L10: =L12+L14+L16+L18+L20+L22+L24+L26+L28+L30+L32+L34+L36+L38+L40+L42+L44+L46+L48+L50+L52+L54+L56+L58+L60+L62+L64+L66+L68+L70+L72+L74+L76+L78+L80+L82+L84+L86+L88+L90+L92+L94+L96+L98+L100+L102+L104+L106+L108+L110+L112+L114+L116+L118+L120+L122+L124+L126+L128+L130+L132+L134+L136+L138+L140+L142+L144+L146+L148+L150+L152+L154 -> 5370
A11: 1 | B11: Xã An Phước | C11: Hộ | D11: 30 | E11: 0 | F11: 0 | G11: 3 | H11: 0 | I11: 0 | J11: 0 | K11: 0 | L11: 27
C12: Nhân khẩu | D12: 40 | E12: 0 | F12: 0 | G12: 3 | H12: 0 | I12: 0 | J12: 0 | K12: 0 | L12: 37
A13: 2 | B13: Xã An Viễn | C13: Hộ | D13: 11 | E13: 2 | L13: 9
C14: Nhân khẩu | D14: 16 | E14: 3 | L14: 13
A15: 3 | B15: Xã Bàu Hàm | C15: Hộ | D15: 88 | G15: 3 | K15: 13 | L15: 98
C16: Nhân khẩu | D16: 137 | G16: 5 | K16: 42 | L16: 174
A17: 4 | B17: Xã Bình An | C17: Hộ | D17: 14 | E17: 0 | F17: 0 | G17: 2 | H17: 0 | I17: 0 | J17: 0 | K17: 0 | L17: 12
C18: Nhân khẩu | D18: 20 | E18: 0 | F18: 0 | G18: 2 | H18: 0 | I18: 0 | J18: 0 | K18: 0 | L18: 18
A19: 5 | B19: Xã Bình Minh | C19: Hộ | D19: 26 | E19: 0 | F19: 5 | G19: 0 | H19: 0 | I19: 0 | J19: 0 | K19: 0 | L19: 21
C20: Nhân khẩu | D20: 42 | E20: 0 | F20: 6 | G20: 0 | H20: 0 | I20: 0 | J20: 0 | K20: 0 | L20: 36
A21: 6 | B21: Xã Bình Tân | C21: Hộ
C22: Nhân khẩu
A23: 7 | B23: Xã Bom Bo | C23: Hộ | D23: 12 | E23: 2 | F23: 7 | H23: 0 | I23: 0 | J23: 0 | L23: 3
C24: Nhân khẩu | D24: 46 | E24: 7 | F24: 30 | H24: 0 | I24: 0 | J24: 0 | L24: 9
A25: 8 | B25: Xã Bù Đăng | C25: Hộ | D25: 8 | E25: 0 | F25: 6 | H25: 0 | I25: 0 | J25: 0 | K25: 0 | L25: 2
C26: Nhân khẩu | D26: 32 | E26: 0 | F26: 30 | H26: 0 | I26: 0 | J26: 0 | K26: 0 | L26: 2
A27: 9 | B27: Xã Bù Gia Mập | C27: Hộ | D27: 97 | E27: 0 | F27: 0 | G27: 97 | H27: 0 | I27: 0 | J27: 200 | L27: 200
C28: Nhân khẩu | D28: 348 | E28: 0 | F28: 0 | G28: 348 | H28: 0 | I28: 0 | J28: 680 | L28: 680
A29: 10 | B29: Xã Cẩm Mỹ | C29: Hộ | D29: 23 | E29: 0 | F29: 0 | G29: 1 | H29: 0 | I29: 0 | J29: 0 | K29: 0 | L29: 22
C30: Nhân khẩu | D30: 34 | E30: 0 | F30: 0 | G30: 2 | H30: 0 | I30: 0 | J30: 0 | K30: 0 | L30: 32
A31: 11 | B31: Xã Dầu Giây | C31: Hộ | D31: 134 | F31: 16 | H31: 1 | J31: 5 | L31: 124
C32: Nhân khẩu | D32: 183 | F32: 19 | H32: 1 | J32: 8 | L32: 173
A33: 12 | B33: Xã Đa Kia | C33: Hộ | D33: 51 | E33: 15 | F33: 16 | G33: 0 | H33: 0 | I33: 0 | J33: 2 | K33: 0 | L33: 22
C34: Nhân khẩu | D34: 160 | E34: 57 | F34: 52 | G34: 2 | H34: 0 | I34: 0 | J34: 9 | K34: 0 | L34: 58
A35: 13 | B35: Xã Đại Phước | C35: Hộ | D35: 68 | E35: 0 | F35: 6 | G35: 1 | H35: 1 | I35: 0 | J35: 2 | K35: 0 | L35: 64
C36: Nhân khẩu | D36: 90 | E36: 0 | F36: 8 | G36: 1 | H36: 1 | I36: 0 | J36: 2 | K36: 0 | L36: 84
A37: 14 | B37: Xã Đak Lua | C37: Hộ | D37: 79 | E37: 0 | F37: 5 | H37: 0 | I37: 0 | J37: 2 | K37: 0 | L37: 76
C38: Nhân khẩu | D38: 128 | E38: 0 | F38: 7 | H38: 0 | I38: 0 | J38: 6 | K38: 0 | L38: 127
A39: 15 | B39: Xã Đak Nhau | C39: Hộ | D39: 40 | E39: 8 | F39: 16 | H39: 3 | I39: 1 | J39: 15 | L39: 35
C40: Nhân khẩu | D40: 156 | E40: 28 | F40: 56 | H40: 9 | I40: 7 | J40: 53 | L40: 141
A41: 16 | B41: Xã Đăk Ơ | C41: Hộ | D41: 112 | E41: 1 | G41: 15 | H41: 0 | L41: 96
C42: Nhân khẩu | D42: 414 | E42: 1 | G42: 53 | H42: 0 | L42: 360
...

Sheet 2B
A1: PHỤ LỤC 2B
A2: TỔNG HỢP DIỄN BIẾN HỘ NGHÈO CHUẨN TỈNH TRONG NĂM 2025
A4: TT | B4: Khu vực/Địa bàn | C4: Phân tổ | D4: Tổng số hộ nghèo đầu năm 2025 | E4: Diễn biến giảm số hộ nghèo | H4: Diễn biến tăng số hộ nghèo | L4: Tổng số hộ nghèo cuối năm 2025
E5: Số hộ thoát nghèo | G5: Nguyên nhân: thay đổi nhân khẩu, hộ nghèo đơn thân chết đi, chuyển đi nơi khác, tách, nhập với hộ khác,… | H5: Số hộ cận nghèo trở thành hộ nghèo | I5: Số hộ ngoài danh sách hộ nghèo, hộ cận nghèo gặp khó khăn đột xuất trong năm | K5: Nguyên nhân: thay đổi nhân khẩu, chuyển đến, tách, nhập với hộ khác,...
E7: Trở thành hộ cận nghèo | F7: Vượt chuẩn cận nghèo | I7: Tái nghèo | J7: Phát sinh mới
A8: A | B8: B | C8: C | D8: 1 | E8: 2 | F8: 3 | G8: 4 | H8: 5 | I8: 6 | J8: 7 | K8: 8 | L8: 9
A9: I | B9: Khu vực nông thôn | C9: Hộ | D9: =D11+D13+D15+D17+D19+D21+D23+D25+D27+D29+D31+D33+D35+D37+D39+D41+D43+D45+D47+D49+D51+D53+D55+D57+D59+D61+D63+D65+D67+D69+D71+D73+D75+D77+D79+D81+D83+D85+D87+D89+D91+D93+D95+D97+D99+D101+D103+D105+D107+D109+D111+D113+D115+D117+D119+D121+D123+D125+D127+D129+D131+D133+D135+D137+D139+D141+D143+D145+D147+D149+D151+D153 -> 1456 | E9: =E11+E13+E15+E17+E19+E21+E23+E25+E27+E29+E31+E33+E35+E37+E39+E41+E43+E45+E47+E49+E51+E53+E55+E57+E59+E61+E63+E65+E67+E69+E71+E73+E75+E77+E79+E81+E83+E85+E87+E89+E91+E93+E95+E97+E99+E101+E103+E105+E107+E109+E111+E113+E115+E117+E119+E121+E123+E125+E127+E129+E131+E133+E135+E137+E139+E141+E143+E145+E147+E149+E151+E153 -> 263 | F9: =F11+F13+F15+F17+F19+F21+F23+F25+F27+F29+F31+F33+F35+F37+F39+F41+F43+F45+F47+F49+F51+F53+F55+F57+F59+F61+F63+F65+F67+F69+F71+F73+F75+F77+F79+F81+F83+F85+F87+F89+F91+F93+F95+F97+F99+F101+F103+F105+F107+F109+F111+F113+F115+F117+F119+F121+F123+F125+F127+F129+F131+F133+F135+F137+F139+F141+F143+F145+F147+F149+F151+F153 -> 248 | G9: =G11+G13+G15+G17+G19+G21+G23+G25+G27+G29+G31+G33+G35+G37+G39+G41+G43+G45+G47+G49+G51+G53+G55+G57+G59+G61+G63+G65+G67+G69+G71+G73+G75+G77+G79+G81+G83+G85+G87+G89+G91+G93+G95+G97+G99+G101+G103+G105+G107+G109+G111+G113+G115+G117+G119+G121+G123+G125+G127+G129+G131+G133+G135+G137+G139+G141+G143+G145+G147+G149+G151+G153 -> 91 | H9: =H11+H13+H15+H17+H19+H21+H23+H25+H27+H29+H31+H33+H35+H37+H39+H41+H43+H45+H47+H49+H51+H53+H55+H57+H59+H61+H63+H65+H67+H69+H71+H73+H75+H77+H79+H81+H83+H85+H87+H89+H91+H93+H95+H97+H99+H101+H103+H105+H107+H109+H111+H113+H115+H117+H119+H121+H123+H125+H127+H129+H131+H133+H135+H137+H139+H141+H143+H145+H147+H149+H151+H153 -> 25 | I9: =I11+I13+I15+I17+I19+I21+I23+I25+I27+I29+I31+I33+I35+I37+I39+I41+I43+I45+I47+I49+I51+I53+I55+I57+I59+I61+I63+I65+I67+I69+I71+I73+I75+I77+I79+I81+I83+I85+I87+I89+I91+I93+I95+I97+I99+I101+I103+I105+I107+I109+I111+I113+I115+I117+I119+I121+I123+I125+I127+I129+I131+I133+I135+I137+I139+I141+I143+I145+I147+I149+I151+I153 -> 7 | J9: =J11+J13+J15+J17+J19+J21+J23+J25+J27+J29+J31+J33+J35+J37+J39+J41+J43+J45+J47+J49+J51+J53+J55+J57+J59+J61+J63+J65+J67+J69+J71+J73+J75+J77+J79+J81+J83+J85+J87+J89+J91+J93+J95+J97+J99+J101+J103+J105+J107+J109+J111+J113+J115+J117+J119+J121+J123+J125+J127+J129+J131+J133+J135+J137+J139+J141+J143+J145+J147+J149+J151+J153 -> 90 | K9: =K11+K13+K15+K17+K19+K21+K23+K25+K27+K29+K31+K33+K35+K37+K39+K41+K43+K45+K47+K49+K51+K53+K55+K57+K59+K61+K63+K65+K67+K69+K71+K73+K75+K77+K79+K81+K83+K85+K87+K89+K91+K93+K95+K97+K99+K101+K103+K105+K107+K109+K111+K113+K115+K117+K119+K121+K123+K125+K127+K129+K131+K133+K135+K137+K139+K141+K143+K145+K147+K149+K151+K153 -> 47 | L9: =L11+L13+L15+L17+L19+L21+L23+L25+L27+L29+L31+L33+L35+L37+L39+L41+L43+L45+L47+L49+L51+L53+L55+L57+L59+L61+L63+L65+L67+L69+L71+L73+L75+L77+L79+L81+L83+L85+L87+L89+L91+L93+L95+L97+L99+L101+L103+L105+L107+L109+L111+L113+L115+L117+L119+L121+L123+L125+L127+L129+L131+L133+L135+L137+L139+L141+L143+L145+L147+L149+L151+L153 -> 1023
C10: Nhân khẩu | D10: =D12+D14+D16+D18+D20+D22+D24+D26+D28+D30+D32+D34+D36+D38+D40+D42+D44+D46+D48+D50+D52+D54+D56+D58+D60+D62+D64+D66+D68+D70+D72+D74+D76+D78+D80+D82+D84+D86+D88+D90+D92+D94+D96+D98+D100+D102+D104+D106+D108+D110+D112+D114+D116+D118+D120+D122+D124+D126+D128+D130+D132+D134+D136+D138+D140+D142+D144+D146+D148+D150+D152+D154 -> 4523 | E10: =E12+E14+E16+E18+E20+E22+E24+E26+E28+E30+E32+E34+E36+E38+E40+E42+E44+E46+E48+E50+E52+E54+E56+E58+E60+E62+E64+E66+E68+E70+E72+E74+E76+E78+E80+E82+E84+E86+E88+E90+E92+E94+E96+E98+E100+E102+E104+E106+E108+E110+E112+E114+E116+E118+E120+E122+E124+E126+E128+E130+E132+E134+E136+E138+E140+E142+E144+E146+E148+E150+E152+E154 -> 1088 | F10: =F12+F14+F16+F18+F20+F22+F24+F26+F28+F30+F32+F34+F36+F38+F40+F42+F44+F46+F48+F50+F52+F54+F56+F58+F60+F62+F64+F66+F68+F70+F72+F74+F76+F78+F80+F82+F84+F86+F88+F90+F92+F94+F96+F98+F100+F102+F104+F106+F108+F110+F112+F114+F116+F118+F120+F122+F124+F126+F128+F130+F132+F134+F136+F138+F140+F142+F144+F146+F148+F150+F152+F154 -> 768 | G10: =G12+G14+G16+G18+G20+G22+G24+G26+G28+G30+G32+G34+G36+G38+G40+G42+G44+G46+G48+G50+G52+G54+G56+G58+G60+G62+G64+G66+G68+G70+G72+G74+G76+G78+G80+G82+G84+G86+G88+G90+G92+G94+G96+G98+G100+G102+G104+G106+G108+G110+G112+G114+G116+G118+G120+G122+G124+G126+G128+G130+G132+G134+G136+G138+G140+G142+G144+G146+G148+G150+G152+G154 -> 219 | H10: =H12+H14+H16+H18+H20+H22+H24+H26+H28+H30+H32+H34+H36+H38+H40+H42+H44+H46+H48+H50+H52+H54+H56+H58+H60+H62+H64+H66+H68+H70+H72+H74+H76+H78+H80+H82+H84+H86+H88+H90+H92+H94+H96+H98+H100+H102+H104+H106+H108+H110+H112+H114+H116+H118+H120+H122+H124+H126+H128+H130+H132+H134+H136+H138+H140+H142+H144+H146+H148+H150+H152+H154 -> 96 | I10: =I12+I14+I16+I18+I20+I22+I24+I26+I28+I30+I32+I34+I36+I38+I40+I42+I44+I46+I48+I50+I52+I54+I56+I58+I60+I62+I64+I66+I68+I70+I72+I74+I76+I78+I80+I82+I84+I86+I88+I90+I92+I94+I96+I98+I100+I102+I104+I106+I108+I110+I112+I114+I116+I118+I120+I122+I124+I126+I128+I130+I132+I134+I136+I138+I140+I142+I144+I146+I148+I150+I152+I154 -> 7 | J10: =J12+J14+J16+J18+J20+J22+J24+J26+J28+J30+J32+J34+J36+J38+J40+J42+J44+J46+J48+J50+J52+J54+J56+J58+J60+J62+J64+J66+J68+J70+J72+J74+J76+J78+J80+J82+J84+J86+J88+J90+J92+J94+J96+J98+J100+J102+J104+J106+J108+J110+J112+J114+J116+J118+J120+J122+J124+J126+J128+J130+J132+J134+J136+J138+J140+J142+J144+J146+J148+J150+J152+J154 -> 294 | K10: =K12+K14+K16+K18+K20+K22+K24+K26+K28+K30+K32+K34+K36+K38+K40+K42+K44+K46+K48+K50+K52+K54+K56+K58+K60+K62+K64+K66+K68+K70+K72+K74+K76+K78+K80+K82+K84+K86+K88+K90+K92+K94+K96+K98+K100+K102+K104+K106+K108+K110+K112+K114+K116+K118+K120+K122+K124+K126+K128+K130+K132+K134+K136+K138+K140+K142+K144+K146+K148+K150+K152+K154 -> 89 | L10: =L12+L14+L16+L18+L20+L22+L24+L26+L28+L30+L32+L34+L36+L38+L40+L42+L44+L46+L48+L50+L52+L54+L56+L58+L60+L62+L64+L66+L68+L70+L72+L74+L76+L78+L80+L82+L84+L86+L88+L90+L92+L94+L96+L98+L100+L102+L104+L106+L108+L110+L112+L114+L116+L118+L120+L122+L124+L126+L128+L130+L132+L134+L136+L138+L140+L142+L144+L146+L148+L150+L152+L154 -> 2934
A11: 1 | B11: Xã An Phước | C11: Hộ | D11: 18 | E11: 0 | F11: 0 | G11: 0 | H11: 0 | I11: 0 | J11: 0 | K11: 0 | L11: 18
C12: Nhân khẩu | D12: 65 | E12: 0 | F12: 0 | G12: 0 | H12: 0 | I12: 0 | J12: 0 | K12: 0 | L12: 65
A13: 2 | B13: Xã An Viễn | C13: Hộ | D13: 14 | E13: 4 | F13: 3 | L13: 7
C14: Nhân khẩu | D14: 69 | E14: 15 | F14: 17 | G14: 2 | L14: 35
A15: 3 | B15: Xã Bàu Hàm | C15: Hộ | D15: 26 | G15: 15 | L15: 11
C16: Nhân khẩu | D16: 112 | G16: 58 | L16: 54
A17: 4 | B17: Xã Bình An | C17: Hộ | D17: 23 | E17: 7 | F17: 7 | G17: 0 | H17: 0 | I17: 0 | J17: 0 | K17: 0 | L17: 9
C18: Nhân khẩu | D18: 68 | E18: 22 | F18: 18 | G18: 0 | H18: 0 | I18: 0 | J18: 6 | K18: 0 | L18: 34
A19: 5 | B19: Xã Bình Minh | C19: Hộ | D19: 54 | E19: 22 | F19: 11 | H19: 0 | I19: 0 | J19: 1 | L19: 22
C20: Nhân khẩu | D20: 233 | E20: 107 | F20: 42 | H20: 0 | I20: 0 | J20: 7 | L20: 91
A21: 6 | B21: Xã Bình Tân | C21: Hộ | L21: 0
C22: Nhân khẩu | L22: 0
A23: 7 | B23: Xã Bom Bo | C23: Hộ | L23: 0
C24: Nhân khẩu | L24: 0
A25: 8 | B25: Xã Bù Đăng | C25: Hộ | L25: 0
C26: Nhân khẩu | L26: 0
A27: 9 | B27: Xã Bù Gia Mập | C27: Hộ | L27: 0
C28: Nhân khẩu | L28: 0
A29: 10 | B29: Xã Cẩm Mỹ | C29: Hộ | L29: 0
C30: Nhân khẩu | L30: 0
A31: 11 | B31: Xã Dầu Giây | C31: Hộ | D31: 31 | E31: 3 | F31: 2 | G31: 1 | H31: 1 | L31: 26
C32: Nhân khẩu | D32: 151 | E32: 14 | F32: 6 | G32: 1 | H32: 4 | L32: 134
A33: 12 | B33: Xã Đa Kia | C33: Hộ | D33: 0 | L33: 0
C34: Nhân khẩu | D34: 0 | L34: 0
A35: 13 | B35: Xã Đại Phước | C35: Hộ | D35: 108 | E35: 0 | F35: 65 | G35: 0 | H35: 0 | I35: 0 | J35: 2 | K35: 0 | L35: 45
C36: Nhân khẩu | D36: 439 | E36: 0 | F36: 206 | G36: 0 | H36: 0 | I36: 0 | J36: 7 | K36: 0 | L36: 240
A37: 14 | B37: Xã Đak Lua | C37: Hộ | D37: 4 | E37: 0 | F37: 1 | G37: 0 | H37: 0 | I37: 0 | J37: 0 | K37: 0 | L37: 3
C38: Nhân khẩu | D38: 21 | E38: 0 | F38: 5 | G38: 0 | H38: 0 | I38: 0 | J38: 0 | K38: 0 | L38: 16
A39: 15 | B39: Xã Đak Nhau | C39: Hộ | L39: 0
C40: Nhân khẩu | L40: 0
A41: 16 | B41: Xã Đăk Ơ | C41: Hộ | L41: 0
C42: Nhân khẩu | L42: 0
...

Sheet 3A
A1: PHỤ LỤC 3A
A2: TỔNG HỢP DIỄN BIẾN HỘ CẬN NGHÈO CHUẨN TRUNG ƯƠNG TRONG NĂM 2025
A4: TT | B4: Khu vực/Địa bàn | C4: Phân tổ | D4: Tổng số hộ cận nghèo đầu năm 2025 | E4: Diễn biến giảm số hộ cận nghèo | H4: Diễn biến tăng số hộ cận nghèo | L4: Tổng số hộ cận nghèo cuối năm 2025
E5: Số hộ thoát cận nghèo | F5: Số hộ cận nghèo trở thành hộ nghèo | G5: Nguyên nhân: thay đổi nhân khẩu, hộ đơn thân chết đi, chuyển đi nơi khác, tách, nhập với hộ khác,... | H5: Số hộ nghèo trở thành hộ cận nghèo | I5: Số hộ ngoài danh sách hộ nghèo, hộ cận nghèo gặp khó khăn đột xuất trong năm | K5: Nguyên nhân: thay đổi nhân khẩu, chuyển đến, tách, nhập với hộ khác,...
I6: Tái cận nghèo | J6: Phát sinh mới
A7: A | B7: B | C7: C | D7: 1 | E7: 2 | F7: 3 | G7: 4 | H7: 5 | I7: 6 | J7: 7 | K7: 8 | L7: 9
A8: I | B8: Khu vực nông thôn | C8: Hộ | D8: =D10+D12+D14+D16+D18+D20+D22+D24+D26+D28+D30+D32+D34+D36+D38+D40+D42+D44+D46+D48+D50+D52+D54+D56+D58+D60+D62+D64+D66+D68+D70+D72+D74+D76+D78+D80+D82+D84+D86+D88+D90+D92+D94+D96+D98+D100+D102+D104+D106+D108+D110+D112+D114+D116+D118+D120+D122+D124+D126+D128+D130+D132+D134+D136+D138+D140+D142+D144+D146+D148+D150+D152 -> 1820 | E8: =E10+E12+E14+E16+E18+E20+E22+E24+E26+E28+E30+E32+E34+E36+E38+E40+E42+E44+E46+E48+E50+E52+E54+E56+E58+E60+E62+E64+E66+E68+E70+E72+E74+E76+E78+E80+E82+E84+E86+E88+E90+E92+E94+E96+E98+E100+E102+E104+E106+E108+E110+E112+E114+E116+E118+E120+E122+E124+E126+E128+E130+E132+E134+E136+E138+E140+E142+E144+E146+E148+E150+E152 -> 691 | F8: =F10+F12+F14+F16+F18+F20+F22+F24+F26+F28+F30+F32+F34+F36+F38+F40+F42+F44+F46+F48+F50+F52+F54+F56+F58+F60+F62+F64+F66+F68+F70+F72+F74+F76+F78+F80+F82+F84+F86+F88+F90+F92+F94+F96+F98+F100+F102+F104+F106+F108+F110+F112+F114+F116+F118+F120+F122+F124+F126+F128+F130+F132+F134+F136+F138+F140+F142+F144+F146+F148+F150+F152 -> 44 | G8: =G10+G12+G14+G16+G18+G20+G22+G24+G26+G28+G30+G32+G34+G36+G38+G40+G42+G44+G46+G48+G50+G52+G54+G56+G58+G60+G62+G64+G66+G68+G70+G72+G74+G76+G78+G80+G82+G84+G86+G88+G90+G92+G94+G96+G98+G100+G102+G104+G106+G108+G110+G112+G114+G116+G118+G120+G122+G124+G126+G128+G130+G132+G134+G136+G138+G140+G142+G144+G146+G148+G150+G152 -> 68 | H8: =H10+H12+H14+H16+H18+H20+H22+H24+H26+H28+H30+H32+H34+H36+H38+H40+H42+H44+H46+H48+H50+H52+H54+H56+H58+H60+H62+H64+H66+H68+H70+H72+H74+H76+H78+H80+H82+H84+H86+H88+H90+H92+H94+H96+H98+H100+H102+H104+H106+H108+H110+H112+H114+H116+H118+H120+H122+H124+H126+H128+H130+H132+H134+H136+H138+H140+H142+H144+H146+H148+H150+H152 -> 121 | I8: =I10+I12+I14+I16+I18+I20+I22+I24+I26+I28+I30+I32+I34+I36+I38+I40+I42+I44+I46+I48+I50+I52+I54+I56+I58+I60+I62+I64+I66+I68+I70+I72+I74+I76+I78+I80+I82+I84+I86+I88+I90+I92+I94+I96+I98+I100+I102+I104+I106+I108+I110+I112+I114+I116+I118+I120+I122+I124+I126+I128+I130+I132+I134+I136+I138+I140+I142+I144+I146+I148+I150+I152 -> 53 | J8: =J10+J12+J14+J16+J18+J20+J22+J24+J26+J28+J30+J32+J34+J36+J38+J40+J42+J44+J46+J48+J50+J52+J54+J56+J58+J60+J62+J64+J66+J68+J70+J72+J74+J76+J78+J80+J82+J84+J86+J88+J90+J92+J94+J96+J98+J100+J102+J104+J106+J108+J110+J112+J114+J116+J118+J120+J122+J124+J126+J128+J130+J132+J134+J136+J138+J140+J142+J144+J146+J148+J150+J152 -> 693 | K8: =K10+K12+K14+K16+K18+K20+K22+K24+K26+K28+K30+K32+K34+K36+K38+K40+K42+K44+K46+K48+K50+K52+K54+K56+K58+K60+K62+K64+K66+K68+K70+K72+K74+K76+K78+K80+K82+K84+K86+K88+K90+K92+K94+K96+K98+K100+K102+K104+K106+K108+K110+K112+K114+K116+K118+K120+K122+K124+K126+K128+K130+K132+K134+K136+K138+K140+K142+K144+K146+K148+K150+K152 -> 22 | L8: =L10+L12+L14+L16+L18+L20+L22+L24+L26+L28+L30+L32+L34+L36+L38+L40+L42+L44+L46+L48+L50+L52+L54+L56+L58+L60+L62+L64+L66+L68+L70+L72+L74+L76+L78+L80+L82+L84+L86+L88+L90+L92+L94+L96+L98+L100+L102+L104+L106+L108+L110+L112+L114+L116+L118+L120+L122+L124+L126+L128+L130+L132+L134+L136+L138+L140+L142+L144+L146+L148+L150+L152 -> 1906
C9: Nhân khẩu | D9: =D11+D13+D15+D17+D19+D21+D23+D25+D27+D29+D31+D33+D35+D37+D39+D41+D43+D45+D47+D49+D51+D53+D55+D57+D59+D61+D63+D65+D67+D69+D71+D73+D75+D77+D79+D81+D83+D85+D87+D89+D91+D93+D95+D97+D99+D101+D103+D105+D107+D109+D111+D113+D115+D117+D119+D121+D123+D125+D127+D129+D131+D133+D135+D137+D139+D141+D143+D145+D147+D149+D151+D153 -> 6622 | E9: =E11+E13+E15+E17+E19+E21+E23+E25+E27+E29+E31+E33+E35+E37+E39+E41+E43+E45+E47+E49+E51+E53+E55+E57+E59+E61+E63+E65+E67+E69+E71+E73+E75+E77+E79+E81+E83+E85+E87+E89+E91+E93+E95+E97+E99+E101+E103+E105+E107+E109+E111+E113+E115+E117+E119+E121+E123+E125+E127+E129+E131+E133+E135+E137+E139+E141+E143+E145+E147+E149+E151+E153 -> 2465 | F9: =F11+F13+F15+F17+F19+F21+F23+F25+F27+F29+F31+F33+F35+F37+F39+F41+F43+F45+F47+F49+F51+F53+F55+F57+F59+F61+F63+F65+F67+F69+F71+F73+F75+F77+F79+F81+F83+F85+F87+F89+F91+F93+F95+F97+F99+F101+F103+F105+F107+F109+F111+F113+F115+F117+F119+F121+F123+F125+F127+F129+F131+F133+F135+F137+F139+F141+F143+F145+F147+F149+F151+F153 -> 120 | G9: =G11+G13+G15+G17+G19+G21+G23+G25+G27+G29+G31+G33+G35+G37+G39+G41+G43+G45+G47+G49+G51+G53+G55+G57+G59+G61+G63+G65+G67+G69+G71+G73+G75+G77+G79+G81+G83+G85+G87+G89+G91+G93+G95+G97+G99+G101+G103+G105+G107+G109+G111+G113+G115+G117+G119+G121+G123+G125+G127+G129+G131+G133+G135+G137+G139+G141+G143+G145+G147+G149+G151+G153 -> 296 | H9: =H11+H13+H15+H17+H19+H21+H23+H25+H27+H29+H31+H33+H35+H37+H39+H41+H43+H45+H47+H49+H51+H53+H55+H57+H59+H61+H63+H65+H67+H69+H71+H73+H75+H77+H79+H81+H83+H85+H87+H89+H91+H93+H95+H97+H99+H101+H103+H105+H107+H109+H111+H113+H115+H117+H119+H121+H123+H125+H127+H129+H131+H133+H135+H137+H139+H141+H143+H145+H147+H149+H151+H153 -> 419 | I9: =I11+I13+I15+I17+I19+I21+I23+I25+I27+I29+I31+I33+I35+I37+I39+I41+I43+I45+I47+I49+I51+I53+I55+I57+I59+I61+I63+I65+I67+I69+I71+I73+I75+I77+I79+I81+I83+I85+I87+I89+I91+I93+I95+I97+I99+I101+I103+I105+I107+I109+I111+I113+I115+I117+I119+I121+I123+I125+I127+I129+I131+I133+I135+I137+I139+I141+I143+I145+I147+I149+I151+I153 -> 153 | J9: =J11+J13+J15+J17+J19+J21+J23+J25+J27+J29+J31+J33+J35+J37+J39+J41+J43+J45+J47+J49+J51+J53+J55+J57+J59+J61+J63+J65+J67+J69+J71+J73+J75+J77+J79+J81+J83+J85+J87+J89+J91+J93+J95+J97+J99+J101+J103+J105+J107+J109+J111+J113+J115+J117+J119+J121+J123+J125+J127+J129+J131+J133+J135+J137+J139+J141+J143+J145+J147+J149+J151+J153 -> 2405 | K9: =K11+K13+K15+K17+K19+K21+K23+K25+K27+K29+K31+K33+K35+K37+K39+K41+K43+K45+K47+K49+K51+K53+K55+K57+K59+K61+K63+K65+K67+K69+K71+K73+K75+K77+K79+K81+K83+K85+K87+K89+K91+K93+K95+K97+K99+K101+K103+K105+K107+K109+K111+K113+K115+K117+K119+K121+K123+K125+K127+K129+K131+K133+K135+K137+K139+K141+K143+K145+K147+K149+K151+K153 -> 100 | L9: =L11+L13+L15+L17+L19+L21+L23+L25+L27+L29+L31+L33+L35+L37+L39+L41+L43+L45+L47+L49+L51+L53+L55+L57+L59+L61+L63+L65+L67+L69+L71+L73+L75+L77+L79+L81+L83+L85+L87+L89+L91+L93+L95+L97+L99+L101+L103+L105+L107+L109+L111+L113+L115+L117+L119+L121+L123+L125+L127+L129+L131+L133+L135+L137+L139+L141+L143+L145+L147+L149+L151+L153 -> 6818
A10: 1 | B10: Xã An Phước | C10: Hộ | L10: 0
C11: Nhân khẩu | L11: 0
A12: 2 | B12: Xã An Viễn | C12: Hộ | D12: 0 | H12: 2 | L12: 2
C13: Nhân khẩu | D13: 0 | H13: 3 | L13: 3
A14: 3 | B14: Xã Bàu Hàm | C14: Hộ | L14: 0
C15: Nhân khẩu | L15: 0
A16: 4 | B16: Xã Bình An | C16: Hộ | L16: 0
C17: Nhân khẩu | L17: 0
A18: 5 | B18: Xã Bình Minh | C18: Hộ | J18: 4 | K18: 0 | L18: 4
C19: Nhân khẩu | J19: 22 | K19: 0 | L19: 22
A20: 6 | B20: Xã Bình Tân | C20: Hộ | D20: 60 | E20: 21 | G20: 39 | I20: 39 | J20: 134 | L20: 173
C21: Nhân khẩu | D21: 199 | E21: 74 | G21: 125 | I21: 125 | J21: 433 | L21: 558
A22: 7 | B22: Xã Bom Bo | C22: Hộ | D22: 61 | E22: 47 | F22: 0 | H22: 2 | I22: 0 | J22: 1 | L22: 17
C23: Nhân khẩu | D23: 257 | E23: 206 | F23: 0 | H23: 7 | I23: 0 | J23: 3 | L23: 61
A24: 8 | B24: Xã Bù Đăng | C24: Hộ | D24: 104 | E24: 22 | F24: 0 | H24: 0 | I24: 0 | J24: 0 | K24: 0 | L24: 82
C25: Nhân khẩu | D25: 419 | E25: 84 | F25: 0 | H25: 0 | I25: 0 | J25: 0 | K25: 0 | L25: 335
A26: 9 | B26: Xã Bù Gia Mập | C26: Hộ | D26: 65 | E26: 65 | F26: 0 | G26: 0 | H26: 0 | I26: 0 | J26: 210 | K26: 0 | L26: 210
C27: Nhân khẩu | D27: 254 | E27: 254 | F27: 0 | G27: 0 | H27: 0 | I27: 0 | J27: 868 | K27: 0 | L27: 868
A28: 10 | B28: Xã Cẩm Mỹ | C28: Hộ | D28: 29 | E28: 4 | F28: 0 | G28: 0 | H28: 0 | I28: 0 | J28: 6 | K28: 0 | L28: 31
C29: Nhân khẩu | D29: 43 | E29: 6 | F29: 0 | G29: 0 | H29: 0 | I29: 0 | J29: 15 | K29: 0 | L29: 52
A30: 11 | B30: Xã Dầu Giây | C30: Hộ | L30: 0
C31: Nhân khẩu | L31: 0
A32: 12 | B32: Xã Đa Kia | C32: Hộ | D32: 131 | E32: 39 | F32: 0 | G32: 0 | H32: 15 | I32: 0 | J32: 64 | K32: 0 | L32: 171
C33: Nhân khẩu | D33: 455 | E33: 130 | F33: 0 | G33: 1 | H33: 57 | I33: 0 | J33: 257 | K33: 0 | L33: 638
A34: 13 | B34: Xã Đại Phước | C34: Hộ | L34: 0
C35: Nhân khẩu | L35: 0
A36: 14 | B36: Xã Đak Lua | C36: Hộ | L36: 0
C37: Nhân khẩu | L37: 0
A38: 15 | B38: Xã Đak Nhau | C38: Hộ | D38: 135 | E38: 81 | F38: 3 | H38: 5 | I38: 1 | J38: 19 | L38: 76
C39: Nhân khẩu | D39: 563 | E39: 338 | F39: 9 | G39: 6 | H39: 15 | I39: 2 | J39: 72 | K39: 0 | L39: 299
A40: 16 | B40: Xã Đăk Ơ | C40: Hộ | D40: 139 | L40: 139
C41: Nhân khẩu | D41: 570 | G41: 5 | L41: 565
...

Sheet 3B
A1: PHỤ LỤC 3B
A2: TỔNG HỢP DIỄN BIẾN HỘ CẬN NGHÈO CHUẨN TỈNH TRONG NĂM 2025
A4: TT | B4: Khu vực/Địa bàn | C4: Phân tổ | D4: Tổng số hộ cận nghèo đầu năm 2025 | E4: Diễn biến giảm số hộ cận nghèo | H4: Diễn biến tăng số hộ cận nghèo | L4: Tổng số hộ cận nghèo cuối năm 2025
E5: Số hộ thoát cận nghèo | F5: Số hộ cận nghèo trở thành hộ nghèo | G5: Nguyên nhân: thay đổi nhân khẩu, hộ đơn thân chết đi, chuyển đi nơi khác, tách, nhập với hộ khác,... | H5: Số hộ nghèo trở thành hộ cận nghèo | I5: Số hộ ngoài danh sách hộ nghèo, hộ cận nghèo gặp khó khăn đột xuất trong năm | K5: Nguyên nhân: thay đổi nhân khẩu, chuyển đến, tách, nhập với hộ khác,...
I6: Tái cận nghèo | J6: Phát sinh mới
A7: A | B7: B | C7: C | D7: 1 | E7: 2 | F7: 3 | G7: 4 | H7: 5 | I7: 6 | J7: 7 | K7: 8 | L7: 9
A8: I | B8: Khu vực nông thôn | C8: Hộ | D8: =D10+D12+D14+D16+D18+D20+D22+D24+D26+D28+D30+D32+D34+D36+D38+D40+D42+D44+D46+D48+D50+D52+D54+D56+D58+D60+D62+D64+D66+D68+D70+D72+D74+D76+D78+D80+D82+D84+D86+D88+D90+D92+D94+D96+D98+D100+D102+D104+D106+D108+D110+D112+D114+D116+D118+D120+D122+D124+D126+D128+D130+D132+D134+D136+D138+D140+D142+D144+D146+D148+D150+D152 -> 4765 | E8: =E10+E12+E14+E16+E18+E20+E22+E24+E26+E28+E30+E32+E34+E36+E38+E40+E42+E44+E46+E48+E50+E52+E54+E56+E58+E60+E62+E64+E66+E68+E70+E72+E74+E76+E78+E80+E82+E84+E86+E88+E90+E92+E94+E96+E98+E100+E102+E104+E106+E108+E110+E112+E114+E116+E118+E120+E122+E124+E126+E128+E130+E132+E134+E136+E138+E140+E142+E144+E146+E148+E150+E152 -> 886 | F8: =F10+F12+F14+F16+F18+F20+F22+F24+F26+F28+F30+F32+F34+F36+F38+F40+F42+F44+F46+F48+F50+F52+F54+F56+F58+F60+F62+F64+F66+F68+F70+F72+F74+F76+F78+F80+F82+F84+F86+F88+F90+F92+F94+F96+F98+F100+F102+F104+F106+F108+F110+F112+F114+F116+F118+F120+F122+F124+F126+F128+F130+F132+F134+F136+F138+F140+F142+F144+F146+F148+F150+F152 -> 65 | G8: =G10+G12+G14+G16+G18+G20+G22+G24+G26+G28+G30+G32+G34+G36+G38+G40+G42+G44+G46+G48+G50+G52+G54+G56+G58+G60+G62+G64+G66+G68+G70+G72+G74+G76+G78+G80+G82+G84+G86+G88+G90+G92+G94+G96+G98+G100+G102+G104+G106+G108+G110+G112+G114+G116+G118+G120+G122+G124+G126+G128+G130+G132+G134+G136+G138+G140+G142+G144+G146+G148+G150+G152 -> 30 | H8: =H10+H12+H14+H16+H18+H20+H22+H24+H26+H28+H30+H32+H34+H36+H38+H40+H42+H44+H46+H48+H50+H52+H54+H56+H58+H60+H62+H64+H66+H68+H70+H72+H74+H76+H78+H80+H82+H84+H86+H88+H90+H92+H94+H96+H98+H100+H102+H104+H106+H108+H110+H112+H114+H116+H118+H120+H122+H124+H126+H128+H130+H132+H134+H136+H138+H140+H142+H144+H146+H148+H150+H152 -> 260 | I8: =I10+I12+I14+I16+I18+I20+I22+I24+I26+I28+I30+I32+I34+I36+I38+I40+I42+I44+I46+I48+I50+I52+I54+I56+I58+I60+I62+I64+I66+I68+I70+I72+I74+I76+I78+I80+I82+I84+I86+I88+I90+I92+I94+I96+I98+I100+I102+I104+I106+I108+I110+I112+I114+I116+I118+I120+I122+I124+I126+I128+I130+I132+I134+I136+I138+I140+I142+I144+I146+I148+I150+I152 -> 2 | J8: =J10+J12+J14+J16+J18+J20+J22+J24+J26+J28+J30+J32+J34+J36+J38+J40+J42+J44+J46+J48+J50+J52+J54+J56+J58+J60+J62+J64+J66+J68+J70+J72+J74+J76+J78+J80+J82+J84+J86+J88+J90+J92+J94+J96+J98+J100+J102+J104+J106+J108+J110+J112+J114+J116+J118+J120+J122+J124+J126+J128+J130+J132+J134+J136+J138+J140+J142+J144+J146+J148+J150+J152 -> 440 | K8: =K10+K12+K14+K16+K18+K20+K22+K24+K26+K28+K30+K32+K34+K36+K38+K40+K42+K44+K46+K48+K50+K52+K54+K56+K58+K60+K62+K64+K66+K68+K70+K72+K74+K76+K78+K80+K82+K84+K86+K88+K90+K92+K94+K96+K98+K100+K102+K104+K106+K108+K110+K112+K114+K116+K118+K120+K122+K124+K126+K128+K130+K132+K134+K136+K138+K140+K142+K144+K146+K148+K150+K152 -> 42 | L8: =L10+L12+L14+L16+L18+L20+L22+L24+L26+L28+L30+L32+L34+L36+L38+L40+L42+L44+L46+L48+L50+L52+L54+L56+L58+L60+L62+L64+L66+L68+L70+L72+L74+L76+L78+L80+L82+L84+L86+L88+L90+L92+L94+L96+L98+L100+L102+L104+L106+L108+L110+L112+L114+L116+L118+L120+L122+L124+L126+L128+L130+L132+L134+L136+L138+L140+L142+L144+L146+L148+L150+L152 -> 4528
C9: Nhân khẩu | D9: =D11+D13+D15+D17+D19+D21+D23+D25+D27+D29+D31+D33+D35+D37+D39+D41+D43+D45+D47+D49+D51+D53+D55+D57+D59+D61+D63+D65+D67+D69+D71+D73+D75+D77+D79+D81+D83+D85+D87+D89+D91+D93+D95+D97+D99+D101+D103+D105+D107+D109+D111+D113+D115+D117+D119+D121+D123+D125+D127+D129+D131+D133+D135+D137+D139+D141+D143+D145+D147+D149+D151+D153 -> 18204 | E9: =E11+E13+E15+E17+E19+E21+E23+E25+E27+E29+E31+E33+E35+E37+E39+E41+E43+E45+E47+E49+E51+E53+E55+E57+E59+E61+E63+E65+E67+E69+E71+E73+E75+E77+E79+E81+E83+E85+E87+E89+E91+E93+E95+E97+E99+E101+E103+E105+E107+E109+E111+E113+E115+E117+E119+E121+E123+E125+E127+E129+E131+E133+E135+E137+E139+E141+E143+E145+E147+E149+E151+E153 -> 3076 | F9: =F11+F13+F15+F17+F19+F21+F23+F25+F27+F29+F31+F33+F35+F37+F39+F41+F43+F45+F47+F49+F51+F53+F55+F57+F59+F61+F63+F65+F67+F69+F71+F73+F75+F77+F79+F81+F83+F85+F87+F89+F91+F93+F95+F97+F99+F101+F103+F105+F107+F109+F111+F113+F115+F117+F119+F121+F123+F125+F127+F129+F131+F133+F135+F137+F139+F141+F143+F145+F147+F149+F151+F153 -> 200 | G9: =G11+G13+G15+G17+G19+G21+G23+G25+G27+G29+G31+G33+G35+G37+G39+G41+G43+G45+G47+G49+G51+G53+G55+G57+G59+G61+G63+G65+G67+G69+G71+G73+G75+G77+G79+G81+G83+G85+G87+G89+G91+G93+G95+G97+G99+G101+G103+G105+G107+G109+G111+G113+G115+G117+G119+G121+G123+G125+G127+G129+G131+G133+G135+G137+G139+G141+G143+G145+G147+G149+G151+G153 -> 117 | H9: =H11+H13+H15+H17+H19+H21+H23+H25+H27+H29+H31+H33+H35+H37+H39+H41+H43+H45+H47+H49+H51+H53+H55+H57+H59+H61+H63+H65+H67+H69+H71+H73+H75+H77+H79+H81+H83+H85+H87+H89+H91+H93+H95+H97+H99+H101+H103+H105+H107+H109+H111+H113+H115+H117+H119+H121+H123+H125+H127+H129+H131+H133+H135+H137+H139+H141+H143+H145+H147+H149+H151+H153 -> 1095 | I9: =I11+I13+I15+I17+I19+I21+I23+I25+I27+I29+I31+I33+I35+I37+I39+I41+I43+I45+I47+I49+I51+I53+I55+I57+I59+I61+I63+I65+I67+I69+I71+I73+I75+I77+I79+I81+I83+I85+I87+I89+I91+I93+I95+I97+I99+I101+I103+I105+I107+I109+I111+I113+I115+I117+I119+I121+I123+I125+I127+I129+I131+I133+I135+I137+I139+I141+I143+I145+I147+I149+I151+I153 -> 10 | J9: =J11+J13+J15+J17+J19+J21+J23+J25+J27+J29+J31+J33+J35+J37+J39+J41+J43+J45+J47+J49+J51+J53+J55+J57+J59+J61+J63+J65+J67+J69+J71+J73+J75+J77+J79+J81+J83+J85+J87+J89+J91+J93+J95+J97+J99+J101+J103+J105+J107+J109+J111+J113+J115+J117+J119+J121+J123+J125+J127+J129+J131+J133+J135+J137+J139+J141+J143+J145+J147+J149+J151+J153 -> 1544 | K9: =K11+K13+K15+K17+K19+K21+K23+K25+K27+K29+K31+K33+K35+K37+K39+K41+K43+K45+K47+K49+K51+K53+K55+K57+K59+K61+K63+K65+K67+K69+K71+K73+K75+K77+K79+K81+K83+K85+K87+K89+K91+K93+K95+K97+K99+K101+K103+K105+K107+K109+K111+K113+K115+K117+K119+K121+K123+K125+K127+K129+K131+K133+K135+K137+K139+K141+K143+K145+K147+K149+K151+K153 -> 136 | L9: =L11+L13+L15+L17+L19+L21+L23+L25+L27+L29+L31+L33+L35+L37+L39+L41+L43+L45+L47+L49+L51+L53+L55+L57+L59+L61+L63+L65+L67+L69+L71+L73+L75+L77+L79+L81+L83+L85+L87+L89+L91+L93+L95+L97+L99+L101+L103+L105+L107+L109+L111+L113+L115+L117+L119+L121+L123+L125+L127+L129+L131+L133+L135+L137+L139+L141+L143+L145+L147+L149+L151+L153 -> 17596
A10: 1 | B10: Xã An Phước | C10: Hộ | D10: 14 | E10: 0 | F10: 0 | G10: 1 | H10: 0 | I10: 0 | J10: 0 | K10: 0 | L10: 13
C11: Nhân khẩu | D11: 43 | E11: 0 | F11: 0 | G11: 5 | H11: 0 | I11: 0 | J11: 0 | K11: 0 | L11: 38
A12: 2 | B12: Xã An Viễn | C12: Hộ | D12: 89 | E12: 17 | G12: 4 | H12: 4 | J12: 7 | K12: 4 | L12: 83
C13: Nhân khẩu | D13: 317 | E13: 65 | G13: 19 | H13: 15 | J13: 26 | K13: 9 | L13: 283
A14: 3 | B14: Xã Bàu Hàm | C14: Hộ | D14: 110 | G14: 7 | K14: 8 | L14: 111
C15: Nhân khẩu | D15: 392 | G15: 19 | K15: 48 | L15: 421
A16: 4 | B16: Xã Bình An | C16: Hộ | D16: 11 | E16: 6 | F16: 0 | G16: 0 | H16: 5 | I16: 0 | J16: 3 | K16: 0 | L16: 13
C17: Nhân khẩu | D17: 29 | E17: 19 | F17: 0 | G17: 0 | H17: 14 | I17: 0 | J17: 9 | K17: 0 | L17: 33
A18: 5 | B18: Xã Bình Minh | C18: Hộ | D18: 129 | E18: 55 | F18: 0 | G18: 0 | H18: 22 | I18: 0 | J18: 18 | K18: 0 | L18: 114
C19: Nhân khẩu | D19: 544 | E19: 211 | F19: 0 | G19: 0 | H19: 107 | I19: 0 | J19: 63 | K19: 0 | L19: 503
A20: 6 | B20: Xã Bình Tân | C20: Hộ | L20: 0
C21: Nhân khẩu | L21: 0
A22: 7 | B22: Xã Bom Bo | C22: Hộ | L22: 0
C23: Nhân khẩu | L23: 0
A24: 8 | B24: Xã Bù Đăng | C24: Hộ | L24: 0
C25: Nhân khẩu | L25: 0
A26: 9 | B26: Xã Bù Gia Mập | C26: Hộ | L26: 0
C27: Nhân khẩu | L27: 0
A28: 10 | B28: Xã Cẩm Mỹ | C28: Hộ | D28: 145 | E28: 17 | F28: 2 | G28: 0 | H28: 2 | I28: 0 | J28: 11 | K28: 0 | L28: 139
C29: Nhân khẩu | D29: 540 | E29: 60 | F29: 8 | G29: 0 | H29: 2 | I29: 0 | J29: 62 | K29: 0 | L29: 536
A30: 11 | B30: Xã Dầu Giây | C30: Hộ | D30: 188 | E30: 34 | F30: 2 | H30: 3 | J30: 15 | L30: 170
C31: Nhân khẩu | D31: 711 | E31: 119 | F31: 7 | H31: 14 | J31: 54 | L31: 653
A32: 12 | B32: Xã Đa Kia | C32: Hộ | L32: 0
C33: Nhân khẩu | L33: 0
A34: 13 | B34: Xã Đại Phước | C34: Hộ | D34: 67 | E34: 33 | F34: 0 | G34: 1 | H34: 0 | I34: 0 | J34: 1 | K34: 0 | L34: 34
C35: Nhân khẩu | D35: 269 | E35: 136 | F35: 0 | G35: 1 | H35: 0 | I35: 0 | J35: 3 | K35: 0 | L35: 135
A36: 14 | B36: Xã Đak Lua | C36: Hộ | D36: 105 | E36: 18 | F36: 0 | G36: 0 | H36: 0 | I36: 0 | J36: 8 | K36: 0 | L36: 95
C37: Nhân khẩu | D37: 383 | E37: 59 | F37: 0 | G37: 0 | H37: 0 | I37: 0 | J37: 26 | K37: 0 | L37: 350
A38: 15 | B38: Xã Đak Nhau | C38: Hộ | L38: 0
C39: Nhân khẩu | L39: 0
A40: 16 | B40: Xã Đăk Ơ | C40: Hộ | L40: 0
C41: Nhân khẩu | L41: 0
...

Sheet 4A
A1: ỦY BAN NHÂN DÂN | G1: CỘNG HÒA XÃ HỘI CHỦ NGHĨA VIỆT NAM
A2: TỈNH ĐỒNG NAI | G2: Độc lập - Tự do - Hạnh phúc
A4: PHỤ LỤC 4A
A5: PHÂN TÍCH CÁC CHỈ SỐ THIẾU HỤT DỊCH VỤ XÃ HỘI CƠ BẢN CỦA HỘ NGHÈO CHUẨN TRUNG ƯƠNG NĂM 2025
A7: TT | B7: Khu vực/ | C7: Tổng số hộ nghèo | D7: Chỉ số thiếu hụt dịch vụ xã hội cơ bản của hộ nghèo
B8: Đơn vị | D8: 1 | E8: 2 | F8: 3 | G8: 4 | H8: 5 | I8: 6 | J8: 7 | K8: 8 | L8: 9 | M8: 10 | N8: 11 | O8: 12
A9: I | B9: KV NÔNG THÔN | C9: ='1A'!E8 -> 2714 | D9: =SUM(D10:D81) -> 1046 | E9: =SUM(E10:E81) -> 1585 | F9: =SUM(F10:F81) -> 76 | G9: =SUM(G10:G81) -> 1245 | H9: =SUM(H10:H81) -> 445 | I9: =SUM(I10:I81) -> 112 | J9: =SUM(J10:J81) -> 572 | K9: =SUM(K10:K81) -> 336 | ... O9: =SUM(O10:O81) -> 1087
A10: 1 | B10: Xã An Phước | C10: ='1A'!E9 -> 27 | D10: 0 | E10: 27 | F10: 0 | G10: 27 | H10: 0 | I10: 0 | J10: 5 | K10: 0 | L10: 0 | M10: 0 | N10: 27 | O10: 27
A11: 2 | B11: Xã An Viễn | C11: ='1A'!E10 -> 9 | D11: 8 | E11: 1 | F11: 0 | G11: 0 | H11: 0 | I11: 0 | J11: 0 | K11: 0 | L11: 0 | M11: 0 | N11: 9 | O11: 9
A12: 3 | B12: Xã Bàu Hàm | C12: ='1A'!E11 -> 98 | D12: 55 | E12: 57 | F12: 1 | G12: 88 | H12: 2 | I12: 4 | J12: 5 | K12: 0 | L12: 0 | M12: 2 | N12: 76 | O12: 12
A13: 4 | B13: Xã Bình An | C13: ='1A'!E12 -> 12 | D13: 13 | E13: 0 | F13: 0 | G13: 10 | H13: 0 | I13: 0 | J13: 0 | K13: 0 | L13: 0 | M13: 0 | N13: 3 | O13: 3
A14: 5 | B14: Xã Bình Minh | C14: ='1A'!E13 -> 21 | D14: 16 | E14: 14 | F14: 0 | G14: 2 | H14: 0 | I14: 0 | J14: 6 | K14: 1 | L14: 0 | M14: 0 | N14: 7 | O14: 2
A15: 6 | B15: Xã Bình Tân | C15: ='1A'!E14 -> 0
A16: 7 | B16: Xã Bom Bo | C16: ='1A'!E15 -> 3 | D16: 2 | E16: 3 | F16: 0 | G16: 0 | H16: 1 | I16: 0 | J16: 2 | K16: 1 | L16: 1 | M16: 2 | N16: 2 | O16: 2
A17: 8 | B17: Xã Bù Đăng | C17: ='1A'!E16 -> 2 | D17: 2 | E17: 0 | F17: 0 | G17: 0 | H17: 0 | I17: 0 | J17: 0 | K17: 0 | L17: 0 | M17: 0 | N17: 0 | O17: 0
A18: 9 | B18: Xã Bù Gia Mập | C18: ='1A'!E17 -> 200 | D18: 41 | E18: 13 | F18: 9 | G18: 200 | H18: 27 | I18: 9 | J18: 200 | K18: 10 | L18: 23 | M18: 20 | N18: 200 | O18: 32
A19: 10 | B19: Xã Cẩm Mỹ | C19: ='1A'!E18 -> 22 | D19: 0 | E19: 22 | F19: 0 | G19: 0 | H19: 0 | I19: 1 | J19: 0 | K19: 0 | L19: 9 | M19: 0 | N19: 22 | O19: 12
A20: 11 | B20: Xã Dầu Giây | C20: ='1A'!E19 -> 124 | D20: 124 | E20: 124 | N20: 124
A21: 12 | B21: Xã Đa Kia | C21: ='1A'!E20 -> 22 | D21: 0 | E21: 0 | F21: 2 | G21: 0 | H21: 0 | I21: 0 | J21: 11 | K21: 0 | L21: 16 | M21: 0 | N21: 5 | O21: 15
A22: 13 | B22: Xã Đại Phước | C22: ='1A'!E21 -> 64 | D22: 57 | E22: 29 | F22: 1 | G22: 11 | H22: 0 | I22: 0 | J22: 20 | K22: 1 | L22: 4 | M22: 14 | N22: 49 | O22: 16
A23: 14 | B23: Xã Đak Lua | C23: ='1A'!E22 -> 76 | D23: 2 | E23: 74 | F23: 0 | G23: 76 | H23: 0 | I23: 0 | J23: 0 | K23: 0 | L23: 1 | M23: 0 | N23: 0 | O23: 1
A24: 15 | B24: Xã Đak Nhau | C24: ='1A'!E23 -> 35 | D24: 13 | E24: 30 | F24: 0 | G24: 15 | H24: 30 | I24: 1 | J24: 14 | K24: 1 | L24: 0 | M24: 15 | N24: 1 | O24: 0
A25: 16 | B25: Xã Đăk Ơ | C25: ='1A'!E24 -> 96 | D25: 70 | E25: 26 | F25: 17 | G25: 0 | H25: 42 | I25: 20 | J25: 38 | K25: 21 | L25: 42 | M25: 28 | N25: 20 | O25: 47
A26: 17 | B26: Xã Định Quán | C26: ='1A'!E25 -> 45 | D26: 7 | E26: 0 | F26: 0 | G26: 39 | H26: 25 | I26: 0 | J26: 0 | K26: 0 | L26: 0 | M26: 2 | N26: 26 | O26: 5
A27: 18 | B27: Xã Đồng Phú | C27: ='1A'!E26 -> 1 | D27: 1 | K27: 1 | O27: 1
A28: 19 | B28: Xã Đồng Tâm | C28: ='1A'!E27 -> 0
A29: 20 | B29: Xã Gia Kiệm | C29: ='1A'!E28 -> 189 | D29: 0 | E29: 189 | F29: 0 | G29: 189 | H29: 0 | I29: 0 | J29: 0 | K29: 0 | L29: 0 | M29: 0 | N29: 189 | O29: 155
A30: 21 | B30: Xã Hưng Phước | C30: ='1A'!E29 -> 6 | D30: 6 | E30: 6 | F30: 0 | G30: 0 | H30: 6 | I30: 0 | J30: 0 | K30: 0 | L30: 0 | M30: 0 | N30: 6 | O30: 6
A31: 22 | B31: Xã Hưng Thịnh | C31: ='1A'!E30 -> 40 | D31: 40 | E31: 0 | F31: 0 | G31: 40 | H31: 0 | I31: 0 | J31: 0 | K31: 0 | L31: 0 | M31: 0 | N31: 40 | O31: 0
A32: 23 | B32: Xã La Ngà | C32: ='1A'!E31 -> 14 | D32: 14 | E32: 0 | F32: 0 | G32: 0 | H32: 0 | I32: 0 | J32: 0 | K32: 0 | L32: 0 | M32: 0 | N32: 14 | O32: 14
A33: 24 | B33: Xã Long Hà | C33: ='1A'!E32 -> 0
A34: 25 | B34: Xã Long Phước | C34: ='1A'!E33 -> 27 | D34: 22 | E34: 22 | F34: 0 | G34: 20 | H34: 0 | I34: 0 | J34: 0 | K34: 0 | L34: 0 | M34: 0 | N34: 8 | O34: 3
A35: 26 | B35: Xã Long Thành | C35: ='1A'!E34 -> 69 | D35: 20 | E35: 22 | F35: 0 | G35: 64 | H35: 63 | I35: 7 | J35: 20 | K35: 14 | L35: 24 | M35: 9 | N35: 59 | O35: 60
A36: 27 | B36: Xã Lộc Hưng | C36: ='1A'!E35 -> 0
A37: 28 | B37: Xã Lộc Ninh | C37: ='1A'!E36 -> 0
A38: 29 | B38: Xã Lộc Quang | C38: ='1A'!E37 -> 35 | D38: 22 | E38: 21 | F38: 3 | G38: 0 | H38: 6 | I38: 3 | J38: 19 | K38: 8 | L38: 11 | M38: 22 | N38: 13 | O38: 11
A39: 30 | B39: Xã Lộc Tấn | C39: ='1A'!E38 -> 176 | D39: 0 | E39: 176 | H39: 176 | I39: 1 | J39: 76 | K39: 176 | M39: 100 | N39: 176 | O39: 176
A40: 31 | B40: Xã Lộc Thành | C40: ='1A'!E39 -> 50 | D40: 20 | E40: 20 | F40: 25 | G40: 4 | H40: 2 | I40: 12 | J40: 14 | K40: 17 | L40: 10 | M40: 9 | N40: 14 | O40: 8
A41: 32 | B41: Xã Lộc Thạnh | C41: ='1A'!E40 -> 56 | D41: 38 | E41: 33 | F41: 9 | G41: 26 | H41: 16 | I41: 20 | J41: 22 | K41: 17 | L41: 0 | M41: 35 | N41: 34 | O41: 16
A42: 33 | B42: Xã Minh Đức | C42: ='1A'!E41 -> 5 | D42: 1 | E42: 2 | F42: 1 | G42: 3 | H42: 1 | I42: 1 | J42: 2 | L42: 1 | M42: 1 | N42: 4 | O42: 2
...

Sheet 4B
A1: PHỤ LỤC 4A
A2: PHÂN TÍCH CÁC CHỈ SỐ THIẾU HỤT DỊCH VỤ XÃ HỘI CƠ BẢN CỦA HỘ NGHÈO CỦA HỘ NGHÈO CHUẨN TỈNH NĂM 2025 (không tính hộ nghèo chuẩn TW)
A4: TT | B4: Khu vực/ | C4: Tổng số hộ nghèo | D4: Chỉ số thiếu hụt dịch vụ xã hội cơ bản của hộ nghèo
B5: Đơn vị | D5: 1 | E5: 2 | F5: 3 | G5: 4 | H5: 5 | I5: 6 | J5: 7 | K5: 8 | L5: 9 | M5: 10 | N5: 11 | O5: 12
A6: I | B6: KV NÔNG THÔN | C6: ='1B'!E8 -> 1023 | D6: =SUM(D7:D78) -> 594 | E6: =SUM(E7:E78) -> 695 | F6: =SUM(F7:F78) -> 14 | G6: =SUM(G7:G78) -> 523 | H6: =SUM(H7:H78) -> 99 | I6: =SUM(I7:I78) -> 32 | J6: =SUM(J7:J78) -> 71 | K6: =SUM(K7:K78) -> 115 | ... O6: =SUM(O7:O78) -> 177
A7: 1 | B7: Xã An Phước | C7: ='1B'!E9 -> 18 | D7: 0 | E7: 18 | F7: 0 | G7: 18 | H7: 0 | I7: 0 | J7: 1 | K7: 0 | L7: 0 | M7: 0 | N7: 18 | O7: 18
A8: 2 | B8: Xã An Viễn | C8: ='1B'!E10 -> 7 | D8: 7 | E8: 4 | F8: 0 | G8: 2 | H8: 0 | I8: 0 | J8: 0 | K8: 1 | L8: 0 | M8: 0 | N8: 1 | O8: 0
A9: 3 | B9: Xã Bàu Hàm | C9: ='1B'!E11 -> 11 | D9: 6 | E9: 9 | F9: 0 | G9: 9 | H9: 2 | I9: 1 | J9: 0 | K9: 4 | L9: 0 | M9: 0 | N9: 1 | O9: 1
A10: 4 | B10: Xã Bình An | C10: ='1B'!E12 -> 9 | D10: 7 | E10: 7 | F10: 0 | G10: 6 | H10: 2 | I10: 0 | J10: 0 | K10: 0 | L10: 0 | M10: 0 | N10: 3 | O10: 3
A11: 5 | B11: Xã Bình Minh | C11: ='1B'!E13 -> 22 | D11: 17 | E11: 7 | F11: 0 | G11: 5 | H11: 1 | I11: 0 | J11: 0 | K11: 6 | L11: 0 | M11: 0 | N11: 9 | O11: 6
A12: 6 | B12: Xã Bình Tân | C12: ='1B'!E14 -> 0
A13: 7 | B13: Xã Bom Bo | C13: ='1B'!E15 -> 0
A14: 8 | B14: Xã Bù Đăng | C14: ='1B'!E16 -> 0
A15: 9 | B15: Xã Bù Gia Mập | C15: ='1B'!E17 -> 0
A16: 10 | B16: Xã Cẩm Mỹ | C16: ='1B'!E18 -> 0
A17: 11 | B17: Xã Dầu Giây | C17: ='1B'!E19 -> 26 | D17: 21 | E17: 21 | F17: 0 | G17: 0 | H17: 3 | I17: 1 | J17: 1 | K17: 1 | L17: 0 | M17: 1 | N17: 3 | O17: 0
A18: 12 | B18: Xã Đa Kia | C18: ='1B'!E20 -> 0
A19: 13 | B19: Xã Đại Phước | C19: ='1B'!E21 -> 45 | D19: 43 | E19: 28 | F19: 2 | G19: 3 | H19: 8 | I19: 0 | J19: 18 | K19: 8 | L19: 2 | M19: 2 | N19: 15 | O19: 3
A20: 14 | B20: Xã Đak Lua | C20: ='1B'!E22 -> 3 | D20: 1 | E20: 2 | F20: 0 | G20: 3 | H20: 0 | I20: 0 | J20: 0 | K20: 0 | L20: 0 | M20: 0 | N20: 0 | O20: 0
A21: 15 | B21: Xã Đak Nhau | C21: ='1B'!E23 -> 0
A22: 16 | B22: Xã Đăk Ơ | C22: ='1B'!E24 -> 0
A23: 17 | B23: Xã Định Quán | C23: ='1B'!E25 -> 4 | D23: 1 | E23: 6 | F23: 0 | G23: 14 | H23: 0 | I23: 4 | J23: 0 | K23: 0 | L23: 0 | M23: 0 | N23: 0 | O23: 0
A24: 18 | B24: Xã Đồng Phú | C24: ='1B'!E26 -> 0
A25: 19 | B25: Xã Đồng Tâm | C25: ='1B'!E27 -> 0
A26: 20 | B26: Xã Gia Kiệm | C26: ='1B'!E28 -> 14 | D26: 14 | E26: 14 | F26: 2 | G26: 14 | H26: 0 | I26: 0 | J26: 0 | K26: 0 | L26: 0 | M26: 0 | N26: 0 | O26: 0
A27: 21 | B27: Xã Hưng Phước | C27: ='1B'!E29 -> 0
A28: 22 | B28: Xã Hưng Thịnh | C28: ='1B'!E30 -> 12
A29: 23 | B29: Xã La Ngà | C29: ='1B'!E31 -> 6 | D29: 6 | E29: 4 | F29: 0 | G29: 0 | H29: 1 | I29: 0 | J29: 0 | K29: 0 | L29: 0 | M29: 0 | N29: 2 | O29: 3
A30: 24 | B30: Xã Long Hà | C30: ='1B'!E32 -> 0
A31: 25 | B31: Xã Long Phước | C31: ='1B'!E33 -> 6 | D31: 3 | E31: 6 | F31: 0 | G31: 6 | H31: 0 | I31: 0 | J31: 0 | K31: 0 | L31: 0 | M31: 0 | N31: 3 | O31: 3
A32: 26 | B32: Xã Long Thành | C32: ='1B'!E34 -> 9 | D32: 6 | E32: 6 | F32: 0 | G32: 9 | H32: 9 | I32: 1 | J32: 4 | K32: 3 | L32: 0 | M32: 3 | N32: 4 | O32: 4
A33: 27 | B33: Xã Lộc Hưng | C33: ='1B'!E35 -> 0
A34: 28 | B34: Xã Lộc Ninh | C34: ='1B'!E36 -> 0
A35: 29 | B35: Xã Lộc Quang | C35: ='1B'!E37 -> 0
A36: 30 | B36: Xã Lộc Tấn | C36: ='1B'!E38 -> 0
A37: 31 | B37: Xã Lộc Thành | C37: ='1B'!E39 -> 0
A38: 32 | B38: Xã Lộc Thạnh | C38: ='1B'!E40 -> 0
A39: 33 | B39: Xã Minh Đức | C39: ='1B'!E41 -> 0
A40: 34 | B40: Xã Nam Cát Tiên | C40: ='1B'!E42 -> 0
A41: 35 | B41: Xã Nghĩa Trung | C41: ='1B'!E43 -> 0
...

Sheet 5A
A1: PHỤ LỤC 5A
A2: PHÂN TÍCH TỶ LỆ CÁC CHỈ SỐ THIẾU HỤT DỊCH VỤ XÃ HỘI CƠ BẢN CỦA HỘ NGHÈO CHUẨN TRUNG ƯƠNG NĂM 2025
A4: TT | B4: Khu vực/ | C4: Tổng số hộ nghèo | D4: Chỉ số thiếu hụt dịch vụ xã hội cơ bản của hộ nghèo
B5: Đơn vị | D5: 1 | E5: 2 | F5: 3 | G5: 4 | H5: 5 | I5: 6 | J5: 7 | K5: 8 | L5: 9 | M5: 10 | N5: 11 | O5: 12
A6: I | B6: KV NÔNG THÔN | C6: ='4A'!C9 -> 2714 | D6: ='4A'!D9*100/'5A'!$C$6 -> 38.540899 | E6: ='4A'!E9*100/'5A'!$C$6 -> 58.400884 | F6: ='4A'!F9*100/'5A'!$C$6 -> 2.8002948 | G6: ='4A'!G9*100/'5A'!$C$6 -> 45.87325 | H6: ='4A'!H9*100/'5A'!$C$6 -> 16.396463 | I6: ='4A'!I9*100/'5A'!$C$6 -> 4.1267502 | J6: ='4A'!J9*100/'5A'!$C$6 -> 21.075903 | K6: ='4A'!K9*100/'5A'!$C$6 -> 12.380251 | ... O6: ='4A'!O9*100/'5A'!$C$6 -> 40.051584
A7: 1 | B7: Xã An Phước | C7: ='4A'!C10 -> 27 | D7: ='4A'!D10*100/'5A'!$C$7 -> 0 | E7: ='4A'!E10*100/'5A'!$C$7 -> 100 | F7: ='4A'!F10*100/'5A'!$C$7 -> 0 | G7: ='4A'!G10*100/'5A'!$C$7 -> 100 | H7: ='4A'!H10*100/'5A'!$C$7 -> 0 | I7: ='4A'!I10*100/'5A'!$C$7 -> 0 | J7: ='4A'!J10*100/'5A'!$C$7 -> 18.518519 | K7: ='4A'!K10*100/'5A'!$C$7 -> 0 | ... O7: ='4A'!O10*100/'5A'!$C$7 -> 100
A8: 2 | B8: Xã An Viễn | C8: ='4A'!C11 -> 9 | D8: ='4A'!D11*100/'5A'!$C$8 -> 88.888889 | E8: ='4A'!E11*100/'5A'!$C$8 -> 11.111111 | F8: ='4A'!F11*100/'5A'!$C$8 -> 0 | G8: ='4A'!G11*100/'5A'!$C$8 -> 0 | H8: ='4A'!H11*100/'5A'!$C$8 -> 0 | I8: ='4A'!I11*100/'5A'!$C$8 -> 0 | J8: ='4A'!J11*100/'5A'!$C$8 -> 0 | K8: ='4A'!K11*100/'5A'!$C$8 -> 0 | ... O8: ='4A'!O11*100/'5A'!$C$8 -> 100
A9: 3 | B9: Xã Bàu Hàm | C9: ='4A'!C12 -> 98 | D9: ='4A'!D12*100/'5A'!$C$9 -> 56.122449 | E9: ='4A'!E12*100/'5A'!$C$9 -> 58.163265 | F9: ='4A'!F12*100/'5A'!$C$9 -> 1.0204082 | G9: ='4A'!G12*100/'5A'!$C$9 -> 89.795918 | H9: ='4A'!H12*100/'5A'!$C$9 -> 2.0408163 | I9: ='4A'!I12*100/'5A'!$C$9 -> 4.0816327 | J9: ='4A'!J12*100/'5A'!$C$9 -> 5.1020408 | K9: ='4A'!K12*100/'5A'!$C$9 -> 0 | ... O9: ='4A'!O12*100/'5A'!$C$9 -> 12.244898
A10: 4 | B10: Xã Bình An | C10: ='4A'!C13 -> 12 | D10: ='4A'!D13*100/'5A'!$C$10 -> 108.33333 | E10: ='4A'!E13*100/'5A'!$C$10 -> 0 | F10: ='4A'!F13*100/'5A'!$C$10 -> 0 | G10: ='4A'!G13*100/'5A'!$C$10 -> 83.333333 | H10: ='4A'!H13*100/'5A'!$C$10 -> 0 | I10: ='4A'!I13*100/'5A'!$C$10 -> 0 | J10: ='4A'!J13*100/'5A'!$C$10 -> 0 | K10: ='4A'!K13*100/'5A'!$C$10 -> 0 | ... O10: ='4A'!O13*100/'5A'!$C$10 -> 25
A11: 5 | B11: Xã Bình Minh | C11: ='4A'!C14 -> 21 | D11: ='4A'!D14*100/'5A'!$C$11 -> 76.190476 | E11: ='4A'!E14*100/'5A'!$C$11 -> 66.666667 | F11: ='4A'!F14*100/'5A'!$C$11 -> 0 | G11: ='4A'!G14*100/'5A'!$C$11 -> 9.5238095 | H11: ='4A'!H14*100/'5A'!$C$11 -> 0 | I11: ='4A'!I14*100/'5A'!$C$11 -> 0 | J11: ='4A'!J14*100/'5A'!$C$11 -> 28.571429 | K11: ='4A'!K14*100/'5A'!$C$11 -> 4.7619048 | ... O11: ='4A'!O14*100/'5A'!$C$11 -> 9.5238095
A12: 6 | B12: Xã Bình Tân | C12: ='4A'!C15 -> 0
